PDS_VERSION_ID = PDS3
/* FILE DATA ELEMENTS */
RECORD_TYPE = UNDEFINED
/* POINTERS TO DATA OBJECTS */
^IMAGE = ("HO992_0000_RE4.TIF")
/* IDENTIFICATION DATA ELEMENTS */
DATA_SET_ID = "MEX-M-HRSC-4-REFDR-MAPPROJECT-EXT9-V4.0"
DATA_SET_NAME = "MARS EXPRESS HRSC MAP PROJECTED REFDR EXTENSION9 V4.0"
DETECTOR_ID = MEX_HRSC_RED
EVENT_TYPE = "MARS-TERMINATOR-CALIBRATION-Tc"
INSTRUMENT_HOST_ID = MEX
INSTRUMENT_HOST_NAME = "MARS EXPRESS"
INSTRUMENT_ID = HRSC
INSTRUMENT_NAME = "HIGH RESOLUTION STEREO CAMERA"
MISSION_NAME = "MARS EXPRESS"
MISSION_PHASE_NAME = ME_Phase_47
PROCESSING_LEVEL_ID = 4
PRODUCT_CREATION_TIME = 2024-01-15T14:02:56.000Z
PRODUCT_ID = "HO992_0000_RE4.TIF"
RELEASE_ID = 0007
REVISION_ID = 0000
/* QUALITY DATA ELEMENTS */
DATA_QUALITY_ID = 1
DATA_QUALITY_DESC = "Data calculated based on original SPICE kernels"
/* TIME DATA ELEMENTS */
SPACECRAFT_CLOCK_START_COUNT = "1/0645638295.25695"
SPACECRAFT_CLOCK_STOP_COUNT = "1/0645638892.25916"
START_TIME = 2023-10-17T16:02:53.657Z
STOP_TIME = 2023-10-17T16:08:46.781Z
/* ORBITAL DATA ELEMENTS */
ASCENDING_NODE_LONGITUDE = 110.06
MAXIMUM_RESOLUTION = 0.4127
FOOTPRINT_POINT_LATITUDE = (-5.20363,-5.26576,-4.81337,-4.93577, -2.49323,1.06205,-4.29762,-3.88848, -0.890591,3.02441,5.53894,9.7324, 13.1378,17.0906,20.2038,23.8962,28.5766 ,31.0662,35.1745,39.029,41.7385,44.9963 ,48.1267,50.3038,53.0562,55.8713, 60.2041,63.1078,66.4325,68.5839,70.3945 ,72.4145,73.3837,74.1068,74.1435, 73.5557,72.3069,70.0966,68.5659,66.6009 ,63.976,62.2555,60.0241,57.6709,54.7835 ,52.8189,54.3102,55.1571,55.9221, 56.0098,56.0156,56.5996,57.4123,57.3244 ,57.1867,59.8685,63.4706,66.4607, 68.7047,72.1663,74.8706,77.1219,80.3073 ,83.8645,84.4447,82.5388,80.3431, 77.7193,75.5649,72.4125,67.7342,64.7854 ,62.3442,59.2772,56.6157,53.3263, 51.1371,47.9526,45.8228,43.5759,41.2826 ,38.6135,34.8434,31.9514,26.7753, 23.3231,20.0694,17.9651,15.4531,10.2539 ,6.91714,4.51996,0.720289,-2.66756, -3.6186,-3.61718,-4.35264,-4.76946, -5.20363)
FOOTPRINT_POINT_LONGITUDE = (351.786,351.792,353.156,357.083, 0.0402414,359.998,0.359703,3.31173, 3.81487,3.67699,3.62235,3.59464,3.63253 ,3.74781,3.90141,4.15979,4.63115, 4.95802,5.63973,6.47711,7.20803,8.27131 ,9.53128,10.5765,12.1479,14.1122, 18.1244,21.7986,27.5901,32.8091,38.7532 ,48.6945,56.416,67.2648,81.0301,91.099, 101.397,111.843,116.78,121.669,126.616, 129.2,132.003,134.453,136.919,139.59, 145.829,150.655,154.539,159.164,161.903 ,167.457,175.495,179.808,184.554, 186.868,187.94,189.16,190.357,192.918, 195.883,199.456,207.941,233.897,282.261 ,308.638,320.281,327.677,331.457, 335.107,338.353,339.655,340.459,341.215 ,341.695,342.117,342.316,342.508, 342.583,342.624,342.63,342.595,342.482, 342.351,342.036,341.771,341.486,341.282 ,341.02,340.411,339.966,339.631,339.05, 338.482,341.442,345.296,348.065,349.235 ,351.786)
ORBIT_NUMBER = 24992
ORBITAL_ECCENTRICITY = 0.574
ORBITAL_INCLINATION = 87.06
ORBITAL_SEMIMAJOR_AXIS = 8846.29
PERIAPSIS_ALTITUDE = 369.47
PERIAPSIS_ARGUMENT_ANGLE = 358.94
PERIAPSIS_TIME = 2023-10-17T15:02:33.000Z
SPACECRAFT_ORIENTATION = (0.0,1.0,0.0)
^MEX_ORIENTATION_DESC = "MEX_ORIENTATION_DESC.TXT"
SPACECRAFT_POINTING_MODE = FIXED
^MEX_POINTING_DESC = "MEX_POINTING_DESC.TXT"
RIGHT_ASCENSION = -1e+32
DECLINATION = -1e+32
OFFSET_ANGLE = -1e+32
SPACECRAFT_SOLAR_DISTANCE = 2.35822e+08
TARGET_NAME = MARS
/* CAMERA DATA ELEMENTS */
DETECTOR_TEMPERATURE = 18.9822
FOCAL_PLANE_TEMPERATURE = 8.5833
INST_CMPRS_NAME = "DISCRETE COSINE TRANSFORMATION (DCT)"
INST_CMPRS_RATIO = 9.18059
INST_CMPRS_QUALITY = 0
INST_CMPRS_QUANTZ_TBL_ID = 0
INSTRUMENT_TEMPERATURE = 11.234
LENS_TEMPERATURE = 9.3989
MACROPIXEL_SIZE = 2
MISSING_FRAMES = 0
PIXEL_SUBSAMPLING_FLAG = N
SIGNAL_CHAIN_ID = 3
/* RADIOMETRIC DATA ELEMENTS */
BANDWIDTH = 48.0
CENTER_FILTER_WAVELENGTH = 748.0
RADIANCE_OFFSET = 0.0
RADIANCE_SCALING_FACTOR = 0.00922279
REFLECTANCE_SCALING_FACTOR = 0.0011704
MEX:REFLECTANCE_OFFSET = 0.0
/* IMAGE OBJECT DEFINITIONS */
OBJECT = IMAGE
  INTERCHANGE_FORMAT = BINARY
  LINES = 15060
  LINE_SAMPLES = 5882
  SAMPLE_TYPE = UNSIGNED_INTEGER
  SAMPLE_BITS = 8
  BANDS = 1
  BAND_STORAGE_TYPE = BAND_SEQUENTIAL
  MAXIMUM = 255
  MEAN = 108.943
  MINIMUM = 15
  STANDARD_DEVIATION = 43.995
END_OBJECT = IMAGE
/* MAP OBJECT DEFINITIONS */
OBJECT = IMAGE_MAP_PROJECTION
  ^DATA_SET_MAP_PROJECTION_CATALOG= "DSMAP.CAT"
  A_AXIS_RADIUS = 3396.0
  B_AXIS_RADIUS = 3396.0
  C_AXIS_RADIUS = 3396.0
  CENTER_LATITUDE = 58.7125
  CENTER_LONGITUDE = 357.203
  COORDINATE_SYSTEM_NAME = PLANETOGRAPHIC
  COORDINATE_SYSTEM_TYPE = "BODY-FIXED ROTATING"
  EASTERNMOST_LONGITUDE = 360.0
  FIRST_STANDARD_PARALLEL = "N/A"
  LINE_FIRST_PIXEL = 1
  LINE_LAST_PIXEL = 15060
  LINE_PROJECTION_OFFSET = 7551.75
  MAP_PROJECTION_ROTATION = 0.0
  MAP_PROJECTION_TYPE = ORTHOGRAPHIC
  MAP_RESOLUTION = 148.178450966667
  MAP_SCALE = 0.4
  MAXIMUM_LATITUDE = 90.0
  MINIMUM_LATITUDE = -5.26576
  POSITIVE_LONGITUDE_DIRECTION = EAST
  REFERENCE_LATITUDE = "N/A"
  REFERENCE_LONGITUDE = "N/A"
  SAMPLE_FIRST_PIXEL = 1
  SAMPLE_LAST_PIXEL = 5882
  SAMPLE_PROJECTION_OFFSET = 2822.25
  SECOND_STANDARD_PARALLEL = "N/A"
  WESTERNMOST_LONGITUDE = 0.0
END_OBJECT = IMAGE_MAP_PROJECTION
END
