PDS_VERSION_ID = PDS3
/* FILE DATA ELEMENTS */
RECORD_TYPE = UNDEFINED
/* POINTERS TO DATA OBJECTS */
^IMAGE = ("HP000_0000_ND4.TIF")
/* IDENTIFICATION DATA ELEMENTS */
DATA_SET_ID = "MEX-M-HRSC-4-REFDR-MAPPROJECT-EXT9-V4.0"
DATA_SET_NAME = "MARS EXPRESS HRSC MAP PROJECTED REFDR EXTENSION9 V4.0"
DETECTOR_ID = MEX_HRSC_NADIR
EVENT_TYPE = "MARS-TERMINATOR-CALIBRATION-Tc"
INSTRUMENT_HOST_ID = MEX
INSTRUMENT_HOST_NAME = "MARS EXPRESS"
INSTRUMENT_ID = HRSC
INSTRUMENT_NAME = "HIGH RESOLUTION STEREO CAMERA"
MISSION_NAME = "MARS EXPRESS"
MISSION_PHASE_NAME = ME_Phase_47
PROCESSING_LEVEL_ID = 4
PRODUCT_CREATION_TIME = 2024-01-15T14:02:56.000Z
PRODUCT_ID = "HP000_0000_ND4.TIF"
RELEASE_ID = 0007
REVISION_ID = 0000
/* QUALITY DATA ELEMENTS */
DATA_QUALITY_ID = 1
DATA_QUALITY_DESC = "Data calculated based on original SPICE kernels"
/* TIME DATA ELEMENTS */
SPACECRAFT_CLOCK_START_COUNT = "1/0645848231.25680"
SPACECRAFT_CLOCK_STOP_COUNT = "1/0645848656.26313"
START_TIME = 2023-10-20T02:19:38.713Z
STOP_TIME = 2023-10-20T02:23:00.672Z
/* ORBITAL DATA ELEMENTS */
ASCENDING_NODE_LONGITUDE = 109.92
MAXIMUM_RESOLUTION = 0.4191
FOOTPRINT_POINT_LATITUDE = (-65.9085,-65.9498,-65.3189,-61.1036, -58.3007,-55.5861,-52.0055,-49.4423, -46.9744,-44.91,-41.823,-40.1968, -36.3358,-32.3201,-27.7183,-24.4908, -23.1637,-22.0128,-19.9379,-18.0763, -16.3144,-13.2178,-11.428,-8.09223, -4.16726,-1.61793,2.26639,6.73279, 10.948,14.004,18.6532,21.5629,25.2796, 31.1705,33.8524,38.5407,41.3148,44.6224 ,49.42,52.044,55.2663,56.8882,59.4711, 61.9313,65.539,68.0149,70.5966,73.7347, 76.0749,78.3176,77.5846,77.3649,74.6876 ,71.8189,70.7201,67.3694,64.8843, 61.7193,58.7372,56.543,54.8204,52.4998, 49.9333,47.5935,44.6817,42.0624,39.2068 ,35.0439,32.4709,28.9699,26.6654, 24.3116,20.0488,17.1954,13.0771,10.2406 ,6.86996,3.71414,0.442247,-4.0668, -7.08612,-9.72962,-13.297,-16.3351, -20.7261,-23.3803,-26.3077,-28.6867, -31.3507,-35.8221,-40.9805,-44.8797, -49.5931,-52.4016,-55.6699,-60.0363, -63.7208,-67.0717,-67.7818,-65.9085)
FOOTPRINT_POINT_LONGITUDE = (270.839,270.961,272.444,279.622, 284.221,284.445,287.812,289.996,291.814 ,295.162,294.323,297.122,296.897, 299.558,299.333,298.782,294.616,291.8, 287.777,284.858,282.479,278.968,277.239 ,274.487,271.878,270.33,268.432,266.684 ,265.437,264.753,264.048,263.821, 263.779,264.366,264.923,266.448,267.747 ,269.821,274.169,277.618,283.541,287.77 ,295.413,293.601,290.778,285.089, 275.747,274.021,262.939,244.806,222.141 ,204.974,192.93,178.009,177.425,171.613 ,168.498,174.223,182.908,187.654, 190.775,194.374,197.751,200.414,203.304 ,205.586,207.804,210.64,212.205,214.151 ,215.332,216.468,218.374,219.556, 221.155,222.193,223.373,224.427,225.479 ,226.876,227.784,228.563,229.601, 230.476,231.739,232.508,233.368,234.079 ,234.894,236.322,238.102,239.585, 241.607,242.974,244.772,247.66,250.738, 254.34,264.399,270.839)
ORBIT_NUMBER = 25000
ORBITAL_ECCENTRICITY = 0.575
ORBITAL_INCLINATION = 87.06
ORBITAL_SEMIMAJOR_AXIS = 8854.13
PERIAPSIS_ALTITUDE = 368.19
PERIAPSIS_ARGUMENT_ANGLE = 357.56
PERIAPSIS_TIME = 2023-10-19T22:55:08.000Z
SPACECRAFT_ORIENTATION = (0.0,1.0,0.0)
^MEX_ORIENTATION_DESC = "MEX_ORIENTATION_DESC.TXT"
SPACECRAFT_POINTING_MODE = FIXED
^MEX_POINTING_DESC = "MEX_POINTING_DESC.TXT"
RIGHT_ASCENSION = -1e+32
DECLINATION = -1e+32
OFFSET_ANGLE = -1e+32
SPACECRAFT_SOLAR_DISTANCE = 2.35414e+08
TARGET_NAME = MARS
/* CAMERA DATA ELEMENTS */
DETECTOR_TEMPERATURE = 18.3705
FOCAL_PLANE_TEMPERATURE = 8.3794
INST_CMPRS_NAME = "DISCRETE COSINE TRANSFORMATION (DCT)"
INST_CMPRS_RATIO = 7.94387
INST_CMPRS_QUALITY = 0
INST_CMPRS_QUANTZ_TBL_ID = 0
INSTRUMENT_TEMPERATURE = 11.234
LENS_TEMPERATURE = 8.7872
MACROPIXEL_SIZE = 1
MISSING_FRAMES = 0
PIXEL_SUBSAMPLING_FLAG = N
SIGNAL_CHAIN_ID = 0
/* RADIOMETRIC DATA ELEMENTS */
BANDWIDTH = 177.0
CENTER_FILTER_WAVELENGTH = 677.5
RADIANCE_OFFSET = 0.0
RADIANCE_SCALING_FACTOR = 0.0496547
REFLECTANCE_SCALING_FACTOR = 0.00146156
MEX:REFLECTANCE_OFFSET = 0.0
/* IMAGE OBJECT DEFINITIONS */
OBJECT = IMAGE
  INTERCHANGE_FORMAT = BINARY
  LINES = 15999
  LINE_SAMPLES = 10301
  SAMPLE_TYPE = UNSIGNED_INTEGER
  SAMPLE_BITS = 8
  BANDS = 1
  BAND_STORAGE_TYPE = BAND_SEQUENTIAL
  MAXIMUM = 255
  MEAN = 115.805
  MINIMUM = 1
  STANDARD_DEVIATION = 50.1105
END_OBJECT = IMAGE
/* MAP OBJECT DEFINITIONS */
OBJECT = IMAGE_MAP_PROJECTION
  ^DATA_SET_MAP_PROJECTION_CATALOG= "DSMAP.CAT"
  A_AXIS_RADIUS = 3396.0
  B_AXIS_RADIUS = 3396.0
  C_AXIS_RADIUS = 3396.0
  CENTER_LATITUDE = 7.11514
  CENTER_LONGITUDE = 242.814
  COORDINATE_SYSTEM_NAME = PLANETOGRAPHIC
  COORDINATE_SYSTEM_TYPE = "BODY-FIXED ROTATING"
  EASTERNMOST_LONGITUDE = 299.558
  FIRST_STANDARD_PARALLEL = "N/A"
  LINE_FIRST_PIXEL = 1
  LINE_LAST_PIXEL = 15999
  LINE_PROJECTION_OFFSET = 7918.0
  MAP_PROJECTION_ROTATION = 0.0
  MAP_PROJECTION_TYPE = ORTHOGRAPHIC
  MAP_RESOLUTION = 148.178450966667
  MAP_SCALE = 0.4
  MAXIMUM_LATITUDE = 78.3176
  MINIMUM_LATITUDE = -67.7818
  POSITIVE_LONGITUDE_DIRECTION = EAST
  REFERENCE_LATITUDE = "N/A"
  REFERENCE_LONGITUDE = "N/A"
  SAMPLE_FIRST_PIXEL = 1
  SAMPLE_LAST_PIXEL = 10301
  SAMPLE_PROJECTION_OFFSET = 3868.0
  SECOND_STANDARD_PARALLEL = "N/A"
  WESTERNMOST_LONGITUDE = 168.498
END_OBJECT = IMAGE_MAP_PROJECTION
END
