PDS_VERSION_ID = PDS3
/* FILE DATA ELEMENTS */
RECORD_TYPE = UNDEFINED
/* POINTERS TO DATA OBJECTS */
^IMAGE = ("HP001_0000_IR4.TIF")
/* IDENTIFICATION DATA ELEMENTS */
DATA_SET_ID = "MEX-M-HRSC-4-REFDR-MAPPROJECT-EXT9-V4.0"
DATA_SET_NAME = "MARS EXPRESS HRSC MAP PROJECTED REFDR EXTENSION9 V4.0"
DETECTOR_ID = MEX_HRSC_IR
EVENT_TYPE = "MARS-TERMINATOR-CALIBRATION-Tc"
INSTRUMENT_HOST_ID = MEX
INSTRUMENT_HOST_NAME = "MARS EXPRESS"
INSTRUMENT_ID = HRSC
INSTRUMENT_NAME = "HIGH RESOLUTION STEREO CAMERA"
MISSION_NAME = "MARS EXPRESS"
MISSION_PHASE_NAME = ME_Phase_47
PROCESSING_LEVEL_ID = 4
PRODUCT_CREATION_TIME = 2024-01-16T10:24:31.000Z
PRODUCT_ID = "HP001_0000_IR4.TIF"
RELEASE_ID = 0008
REVISION_ID = 0000
/* QUALITY DATA ELEMENTS */
DATA_QUALITY_ID = 1
DATA_QUALITY_DESC = "Data calculated based on original SPICE kernels"
/* TIME DATA ELEMENTS */
SPACECRAFT_CLOCK_START_COUNT = "1/0645864773.24929"
SPACECRAFT_CLOCK_STOP_COUNT = "1/0645865358.14642"
START_TIME = 2023-10-20T06:53:29.679Z
STOP_TIME = 2023-10-20T06:59:26.685Z
/* ORBITAL DATA ELEMENTS */
ASCENDING_NODE_LONGITUDE = 109.91
MAXIMUM_RESOLUTION = 0.4097
FOOTPRINT_POINT_LATITUDE = (-2.64465,-2.682,-2.3384,-1.96711, -1.46703,-1.31221,0.199643,2.50071, 6.00247,8.90685,12.9326,15.9697,19.0405 ,23.5745,26.3174,29.0155,35.2633, 39.9807,43.8011,46.3189,48.9757,51.2509 ,54.8671,57.0793,59.8714,62.9433, 64.9807,68.8414,71.6427,75.4249,77.7868 ,80.3361,81.3548,80.6109,78.8516, 75.9331,73.992,71.6292,68.6659,64.6347, 61.7511,57.7513,54.3748,54.1219,54.5178 ,55.0734,54.4432,54.7443,57.8635, 54.5828,60.9856,54.1966,54.0391,52.2788 ,55.96,58.0658,60.8526,63.4815,67.1657, 69.855,71.9599,73.6512,76.0911,77.7224, 78.0904,77.8422,76.802,75.3272,73.832, 71.454,67.4893,65.6605,63.7932,60.9575, 58.1203,55.8891,53.5401,51.3312,47.7622 ,44.2418,40.6711,38.4642,35.2662, 32.9498,30.2962,26.578,23.3307,21.256, 18.4945,14.0254,10.575,8.37356,3.56438, 0.394664,-1.91669,-2.10216,-1.86037, -2.5507,-2.64465)
FOOTPRINT_POINT_LONGITUDE = (162.115,162.126,163.063,167.462, 169.689,171.847,173.932,173.633,173.215 ,172.902,172.516,172.26,172.033,171.762 ,171.638,171.548,171.483,171.601, 171.834,172.074,172.417,172.8,173.617, 174.274,175.324,176.852,178.165,181.527 ,185.124,192.863,201.138,218.764, 239.348,269.05,284.584,297.037,302.04, 306.41,310.301,313.935,315.807,317.764, 318.991,327.274,335.585,337.976,344.509 ,350.36,359.958,353.337,359.962,356.637 ,0.811455,4.87133,6.92009,8.22326, 10.2904,12.7119,17.2548,21.8987,26.8364 ,32.1635,44.0949,60.8652,73.2069, 86.4714,100.163,110.2,116.874,124.166, 131.868,134.374,136.496,139.092,141.136 ,142.453,143.623,144.557,145.795, 146.757,147.523,147.911,148.375,148.652 ,148.917,149.206,149.367,149.429, 149.493,149.488,149.43,149.366,149.158, 148.967,150.77,153.693,156.073,158.765, 162.115)
ORBIT_NUMBER = 25001
ORBITAL_ECCENTRICITY = 0.574
ORBITAL_INCLINATION = 87.05
ORBITAL_SEMIMAJOR_AXIS = 8848.3
PERIAPSIS_ALTITUDE = 368.91
PERIAPSIS_ARGUMENT_ANGLE = 357.4
PERIAPSIS_TIME = 2023-10-20T05:54:11.000Z
SPACECRAFT_ORIENTATION = (0.0,1.0,0.0)
^MEX_ORIENTATION_DESC = "MEX_ORIENTATION_DESC.TXT"
SPACECRAFT_POINTING_MODE = FIXED
^MEX_POINTING_DESC = "MEX_POINTING_DESC.TXT"
RIGHT_ASCENSION = -1e+32
DECLINATION = -1e+32
OFFSET_ANGLE = -1e+32
SPACECRAFT_SOLAR_DISTANCE = 2.35362e+08
TARGET_NAME = MARS
/* CAMERA DATA ELEMENTS */
DETECTOR_TEMPERATURE = 18.1666
FOCAL_PLANE_TEMPERATURE = 8.7872
INST_CMPRS_NAME = "DISCRETE COSINE TRANSFORMATION (DCT)"
INST_CMPRS_RATIO = 6.21352
INST_CMPRS_QUALITY = 0
INST_CMPRS_QUANTZ_TBL_ID = 0
INSTRUMENT_TEMPERATURE = 11.6418
LENS_TEMPERATURE = 8.7872
MACROPIXEL_SIZE = 2
MISSING_FRAMES = 0
PIXEL_SUBSAMPLING_FLAG = N
SIGNAL_CHAIN_ID = 3
/* RADIOMETRIC DATA ELEMENTS */
BANDWIDTH = 81.0
CENTER_FILTER_WAVELENGTH = 955.5
RADIANCE_OFFSET = 0.0
RADIANCE_SCALING_FACTOR = 0.00705075
REFLECTANCE_SCALING_FACTOR = 0.000842579
MEX:REFLECTANCE_OFFSET = 0.0
/* IMAGE OBJECT DEFINITIONS */
OBJECT = IMAGE
  INTERCHANGE_FORMAT = BINARY
  LINES = 15135
  LINE_SAMPLES = 4845
  SAMPLE_TYPE = UNSIGNED_INTEGER
  SAMPLE_BITS = 8
  BANDS = 1
  BAND_STORAGE_TYPE = BAND_SEQUENTIAL
  MAXIMUM = 255
  MEAN = 133.302
  MINIMUM = 1
  STANDARD_DEVIATION = 57.5692
END_OBJECT = IMAGE
/* MAP OBJECT DEFINITIONS */
OBJECT = IMAGE_MAP_PROJECTION
  ^DATA_SET_MAP_PROJECTION_CATALOG= "DSMAP.CAT"
  A_AXIS_RADIUS = 3396.0
  B_AXIS_RADIUS = 3396.0
  C_AXIS_RADIUS = 3396.0
  CENTER_LATITUDE = 58.1656
  CENTER_LONGITUDE = 157.836
  COORDINATE_SYSTEM_NAME = PLANETOGRAPHIC
  COORDINATE_SYSTEM_TYPE = "BODY-FIXED ROTATING"
  EASTERNMOST_LONGITUDE = 360.0
  FIRST_STANDARD_PARALLEL = "N/A"
  LINE_FIRST_PIXEL = 1
  LINE_LAST_PIXEL = 15135
  LINE_PROJECTION_OFFSET = 7597.25
  MAP_PROJECTION_ROTATION = 0.0
  MAP_PROJECTION_TYPE = ORTHOGRAPHIC
  MAP_RESOLUTION = 148.178450966667
  MAP_SCALE = 0.4
  MAXIMUM_LATITUDE = 90.0
  MINIMUM_LATITUDE = -2.682
  POSITIVE_LONGITUDE_DIRECTION = EAST
  REFERENCE_LATITUDE = "N/A"
  REFERENCE_LONGITUDE = "N/A"
  SAMPLE_FIRST_PIXEL = 1
  SAMPLE_LAST_PIXEL = 4845
  SAMPLE_PROJECTION_OFFSET = 2377.25
  SECOND_STANDARD_PARALLEL = "N/A"
  WESTERNMOST_LONGITUDE = 0.0
END_OBJECT = IMAGE_MAP_PROJECTION
END
