PDS_VERSION_ID = PDS3
/* FILE DATA ELEMENTS */
RECORD_TYPE = UNDEFINED
/* POINTERS TO DATA OBJECTS */
^IMAGE = ("HP040_0000_ND4.TIF")
/* IDENTIFICATION DATA ELEMENTS */
DATA_SET_ID = "MEX-M-HRSC-4-REFDR-MAPPROJECT-EXT9-V4.0"
DATA_SET_NAME = "MARS EXPRESS HRSC MAP PROJECTED REFDR EXTENSION9 V4.0"
DETECTOR_ID = MEX_HRSC_NADIR
EVENT_TYPE = "MARS-TERMINATOR-CALIBRATION-Tc"
INSTRUMENT_HOST_ID = MEX
INSTRUMENT_HOST_NAME = "MARS EXPRESS"
INSTRUMENT_ID = HRSC
INSTRUMENT_NAME = "HIGH RESOLUTION STEREO CAMERA"
MISSION_NAME = "MARS EXPRESS"
MISSION_PHASE_NAME = ME_Phase_47
PROCESSING_LEVEL_ID = 4
PRODUCT_CREATION_TIME = 2024-01-16T10:24:31.000Z
PRODUCT_ID = "HP040_0000_ND4.TIF"
RELEASE_ID = 0008
REVISION_ID = 0000
/* QUALITY DATA ELEMENTS */
DATA_QUALITY_ID = 1
DATA_QUALITY_DESC = "Data calculated based on original SPICE kernels"
/* TIME DATA ELEMENTS */
SPACECRAFT_CLOCK_START_COUNT = "1/0646846009.24939"
SPACECRAFT_CLOCK_STOP_COUNT = "1/0646846554.14271"
START_TIME = 2023-10-31T15:29:23.769Z
STOP_TIME = 2023-10-31T15:34:36.722Z
/* ORBITAL DATA ELEMENTS */
ASCENDING_NODE_LONGITUDE = 109.22
MAXIMUM_RESOLUTION = 0.2435
FOOTPRINT_POINT_LATITUDE = (-8.44709,-8.48951,-7.52865,-7.87451, -7.61287,-7.40706,-4.81927,-2.38993, 0.411126,3.98595,6.44079,10.5053, 13.4457,17.5294,20.1801,24.8195,28.7312 ,31.4033,34.4543,37.5416,41.3686, 45.2718,47.5692,51.063,54.0182,56.162, 58.648,60.9522,63.9437,67.9093,71.6056, 74.178,76.041,77.2075,78.3338,78.522, 77.9601,76.6402,73.4858,71.734,68.49, 66.5357,64.2862,61.3477,57.4295,52.7462 ,52.8621,53.5443,54.0285,54.0759, 53.8392,53.9623,53.903,53.7441,53.0193, 53.1366,51.6245,53.8018,57.3542,61.2407 ,65.1206,67.5181,70.9432,72.8393, 75.0374,76.0335,76.5427,76.072,75.1557, 72.6478,70.3449,67.134,64.4411,61.5938, 57.7268,55.1685,53.0544,47.7482,44.1105 ,41.0172,37.3721,35.0306,32.4605, 28.3572,25.4878,22.0246,18.1811,15.347, 11.15,6.88429,3.87647,0.315668,-4.73358 ,-7.3118,-7.09498,-7.78182,-7.93335, -8.45733,-8.44709)
FOOTPRINT_POINT_LONGITUDE = (135.462,135.469,135.705,138.818, 143.808,146.948,149.47,149.117,148.745, 148.325,148.071,147.707,147.486,147.24, 147.128,146.967,147.033,147.113,147.269 ,147.497,147.918,148.545,149.03,149.97, 151.004,151.928,153.229,154.713,157.169 ,161.802,168.592,176.102,184.574, 192.775,207.997,222.033,236.222,249.011 ,263.706,268.6,274.945,277.725,280.294, 282.93,285.576,287.848,293.585,300.416, 305.732,310.313,312.486,317.47,321.132, 325.012,330.903,335.228,339.211,341.962 ,344.206,347.476,352.045,355.855, 3.70196,10.2185,22.3095,32.3731,51.5273 ,63.1411,72.8214,86.5856,93.959,100.783 ,104.802,108.022,111.285,112.952,114.11 ,116.361,117.498,118.269,118.992, 119.367,119.71,120.125,120.33,120.505, 120.603,120.619,120.563,120.413,120.254 ,120.001,119.527,121.159,123.936, 126.235,129.543,132.322,135.462)
ORBIT_NUMBER = 25040
ORBITAL_ECCENTRICITY = 0.575
ORBITAL_INCLINATION = 87.06
ORBITAL_SEMIMAJOR_AXIS = 8842.58
PERIAPSIS_ALTITUDE = 365.81
PERIAPSIS_ARGUMENT_ANGLE = 350.7
PERIAPSIS_TIME = 2023-10-31T14:16:35.000Z
SPACECRAFT_ORIENTATION = (0.0,1.0,0.0)
^MEX_ORIENTATION_DESC = "MEX_ORIENTATION_DESC.TXT"
SPACECRAFT_POINTING_MODE = FIXED
^MEX_POINTING_DESC = "MEX_POINTING_DESC.TXT"
RIGHT_ASCENSION = -1e+32
DECLINATION = -1e+32
OFFSET_ANGLE = -1e+32
SPACECRAFT_SOLAR_DISTANCE = 2.33315e+08
TARGET_NAME = MARS
/* CAMERA DATA ELEMENTS */
DETECTOR_TEMPERATURE = 18.5744
FOCAL_PLANE_TEMPERATURE = 8.5833
INST_CMPRS_NAME = "DISCRETE COSINE TRANSFORMATION (DCT)"
INST_CMPRS_RATIO = 7.44872
INST_CMPRS_QUALITY = 0
INST_CMPRS_QUANTZ_TBL_ID = 0
INSTRUMENT_TEMPERATURE = 11.0301
LENS_TEMPERATURE = 8.7872
MACROPIXEL_SIZE = 1
MISSING_FRAMES = 0
PIXEL_SUBSAMPLING_FLAG = N
SIGNAL_CHAIN_ID = 0
/* RADIOMETRIC DATA ELEMENTS */
BANDWIDTH = 177.0
CENTER_FILTER_WAVELENGTH = 677.5
RADIANCE_OFFSET = 0.0
RADIANCE_SCALING_FACTOR = 0.0427297
REFLECTANCE_SCALING_FACTOR = 0.00123557
MEX:REFLECTANCE_OFFSET = 0.0
/* IMAGE OBJECT DEFINITIONS */
OBJECT = IMAGE
  INTERCHANGE_FORMAT = BINARY
  LINES = 30882
  LINE_SAMPLES = 10054
  SAMPLE_TYPE = UNSIGNED_INTEGER
  SAMPLE_BITS = 8
  BANDS = 1
  BAND_STORAGE_TYPE = BAND_SEQUENTIAL
  MAXIMUM = 255
  MEAN = 76.4316
  MINIMUM = 1
  STANDARD_DEVIATION = 41.5749
END_OBJECT = IMAGE
/* MAP OBJECT DEFINITIONS */
OBJECT = IMAGE_MAP_PROJECTION
  ^DATA_SET_MAP_PROJECTION_CATALOG= "DSMAP.CAT"
  A_AXIS_RADIUS = 3396.0
  B_AXIS_RADIUS = 3396.0
  C_AXIS_RADIUS = 3396.0
  CENTER_LATITUDE = 57.6039
  CENTER_LONGITUDE = 132.155
  COORDINATE_SYSTEM_NAME = PLANETOGRAPHIC
  COORDINATE_SYSTEM_TYPE = "BODY-FIXED ROTATING"
  EASTERNMOST_LONGITUDE = 360.0
  FIRST_STANDARD_PARALLEL = "N/A"
  LINE_FIRST_PIXEL = 1
  LINE_LAST_PIXEL = 30882
  LINE_PROJECTION_OFFSET = 15471.0
  MAP_PROJECTION_ROTATION = 0.0
  MAP_PROJECTION_TYPE = ORTHOGRAPHIC
  MAP_RESOLUTION = 296.356901933333
  MAP_SCALE = 0.2
  MAXIMUM_LATITUDE = 90.0
  MINIMUM_LATITUDE = -8.489509999999999
  POSITIVE_LONGITUDE_DIRECTION = EAST
  REFERENCE_LATITUDE = "N/A"
  REFERENCE_LONGITUDE = "N/A"
  SAMPLE_FIRST_PIXEL = 1
  SAMPLE_LAST_PIXEL = 10054
  SAMPLE_PROJECTION_OFFSET = 4965.0
  SECOND_STANDARD_PARALLEL = "N/A"
  WESTERNMOST_LONGITUDE = 0.0
END_OBJECT = IMAGE_MAP_PROJECTION
END
