PDS_VERSION_ID = PDS3
/* FILE DATA ELEMENTS */
RECORD_TYPE = UNDEFINED
/* POINTERS TO DATA OBJECTS */
^IMAGE = ("HP219_0000_BL4.TIF")
/* IDENTIFICATION DATA ELEMENTS */
DATA_SET_ID = "MEX-M-HRSC-4-REFDR-MAPPROJECT-EXT9-V4.0"
DATA_SET_NAME = "MARS EXPRESS HRSC MAP PROJECTED REFDR EXTENSION9 V4.0"
DETECTOR_ID = MEX_HRSC_BLUE
EVENT_TYPE = "MARS-REGIONAL-MAPPING-Pf-Mw-La"
INSTRUMENT_HOST_ID = MEX
INSTRUMENT_HOST_NAME = "MARS EXPRESS"
INSTRUMENT_ID = HRSC
INSTRUMENT_NAME = "HIGH RESOLUTION STEREO CAMERA"
MISSION_NAME = "MARS EXPRESS"
MISSION_PHASE_NAME = ME_Phase_49
PROCESSING_LEVEL_ID = 4
PRODUCT_CREATION_TIME = 2024-08-19T05:24:16.000Z
PRODUCT_ID = "HP219_0000_BL4.TIF"
RELEASE_ID = 0010
REVISION_ID = 0000
/* QUALITY DATA ELEMENTS */
DATA_QUALITY_ID = 1
DATA_QUALITY_DESC = "Data calculated based on original SPICE kernels"
/* TIME DATA ELEMENTS */
SPACECRAFT_CLOCK_START_COUNT = "1/0651342357.00337"
SPACECRAFT_CLOCK_STOP_COUNT = "1/0651342710.07547"
START_TIME = 2023-12-22T16:27:09.603Z
STOP_TIME = 2023-12-22T16:31:46.656Z
/* ORBITAL DATA ELEMENTS */
ASCENDING_NODE_LONGITUDE = 106.07
MAXIMUM_RESOLUTION = 0.0581
FOOTPRINT_POINT_LATITUDE = (-44.0842,-44.0782,-44.0689,-44.0561, -44.0557,-44.0571,-43.398,-42.7384, -42.0784,-41.7484,-41.4182,-41.088, -40.5926,-40.2622,-39.9319,-39.6015, -39.2711,-38.9407,-38.6103,-38.2798, -37.9493,-37.619,-37.2887,-36.7933, -36.2982,-35.803,-35.3079,-34.9777, -34.3187,-33.9284,-33.5352,-33.1423, -32.7498,-32.3574,-31.9652,-31.5733, -31.1814,-30.79,-30.3988,-30.008, -29.6175,-29.2273,-28.8378,-28.2539, -27.8649,-27.2821,-26.8943,-26.5067, -26.3078,-26.2151,-26.215,-26.2116, -26.2115,-26.2125,-26.608,-27.1908, -27.5794,-27.9687,-28.3582,-28.7482, -29.1386,-29.7248,-30.1158,-30.5072, -30.8992,-31.4877,-31.8803,-32.2732, -32.6662,-33.2564,-33.65,-34.0439, -34.4175,-34.7477,-35.2434,-35.5739, -35.9045,-36.2351,-36.5659,-36.8967, -37.393,-37.724,-38.2205,-38.717, -39.0481,-39.3792,-39.7103,-40.2069, -40.7033,-41.0343,-41.3652,-41.8617, -42.1927,-42.5235,-42.8542,-43.1848, -43.5153,-43.8458,-44.011,-44.0842)
FOOTPRINT_POINT_LONGITUDE = (51.8776,51.3692,50.7974,50.1932, 50.1773,50.1316,50.1676,50.2016,50.2334 ,50.2482,50.2623,50.2765,50.2969, 50.3099,50.3224,50.3347,50.346,50.3568, 50.368,50.38,50.3911,50.4009,50.4093, 50.4224,50.4335,50.4462,50.459,50.4703, 50.4792,50.488,50.4963,50.5028,50.5068, 50.5112,50.5154,50.5195,50.5248,50.5288 ,50.5326,50.5351,50.537,50.5394,50.5359 ,50.5359,50.5371,50.5385,50.5369, 50.5353,50.5354,50.5358,51.2936,52.0266 ,52.0407,52.0454,52.0429,52.0453, 52.0417,52.0409,52.0394,52.0377,52.0369 ,52.0359,52.0316,52.0297,52.0295,52.03, 52.0289,52.0277,52.0256,52.0251,52.0229 ,52.022,52.0198,52.0184,52.0166,52.0142 ,52.0116,52.0089,52.0063,52.0037, 51.9997,51.9965,51.9917,51.9866,51.9835 ,51.9799,51.9763,51.9704,51.9629, 51.9587,51.9539,51.9482,51.9452,51.941, 51.9363,51.9316,51.9262,51.9208,51.9183 ,51.8776)
ORBIT_NUMBER = 25219
ORBITAL_ECCENTRICITY = 0.575
ORBITAL_INCLINATION = 87.06
ORBITAL_SEMIMAJOR_AXIS = 8812.85
PERIAPSIS_ALTITUDE = 357.66
PERIAPSIS_ARGUMENT_ANGLE = 320.19
PERIAPSIS_TIME = 2023-12-22T16:28:15.000Z
SPACECRAFT_ORIENTATION = (0.0,1.0,0.0)
^MEX_ORIENTATION_DESC = "MEX_ORIENTATION_DESC.TXT"
SPACECRAFT_POINTING_MODE = NADIR
^MEX_POINTING_DESC = "MEX_POINTING_DESC.TXT"
RIGHT_ASCENSION = -1e+32
DECLINATION = -1e+32
OFFSET_ANGLE = -1e+32
SPACECRAFT_SOLAR_DISTANCE = 2.23295e+08
TARGET_NAME = MARS
/* CAMERA DATA ELEMENTS */
DETECTOR_TEMPERATURE = 17.7588
FOCAL_PLANE_TEMPERATURE = 7.9716
INST_CMPRS_NAME = "DISCRETE COSINE TRANSFORMATION (DCT)"
INST_CMPRS_RATIO = 5.2986
INST_CMPRS_QUALITY = 0
INST_CMPRS_QUANTZ_TBL_ID = 0
INSTRUMENT_TEMPERATURE = 10.6223
LENS_TEMPERATURE = 8.3794
MACROPIXEL_SIZE = 4
MISSING_FRAMES = 0
PIXEL_SUBSAMPLING_FLAG = N
SIGNAL_CHAIN_ID = 2
/* RADIOMETRIC DATA ELEMENTS */
BANDWIDTH = 76.0
CENTER_FILTER_WAVELENGTH = 444.0
RADIANCE_OFFSET = 0.309033
RADIANCE_SCALING_FACTOR = 0.000764187
REFLECTANCE_SCALING_FACTOR = 3.91485e-05
MEX:REFLECTANCE_OFFSET = 0.0158314
/* IMAGE OBJECT DEFINITIONS */
OBJECT = IMAGE
  INTERCHANGE_FORMAT = BINARY
  LINES = 21201
  LINE_SAMPLES = 1848
  SAMPLE_TYPE = UNSIGNED_INTEGER
  SAMPLE_BITS = 8
  BANDS = 1
  BAND_STORAGE_TYPE = BAND_SEQUENTIAL
  MAXIMUM = 255
  MEAN = 139.612
  MINIMUM = 1
  STANDARD_DEVIATION = 48.0343
END_OBJECT = IMAGE
/* MAP OBJECT DEFINITIONS */
OBJECT = IMAGE_MAP_PROJECTION
  ^DATA_SET_MAP_PROJECTION_CATALOG= "DSMAP.CAT"
  A_AXIS_RADIUS = 3396.0
  B_AXIS_RADIUS = 3396.0
  C_AXIS_RADIUS = 3396.0
  CENTER_LATITUDE = 0.0
  CENTER_LONGITUDE = 51.0
  COORDINATE_SYSTEM_NAME = PLANETOGRAPHIC
  COORDINATE_SYSTEM_TYPE = "BODY-FIXED ROTATING"
  EASTERNMOST_LONGITUDE = 52.0454
  FIRST_STANDARD_PARALLEL = "N/A"
  LINE_FIRST_PIXEL = 1
  LINE_LAST_PIXEL = 21201
  LINE_PROJECTION_OFFSET = -31043.125
  MAP_PROJECTION_ROTATION = 0.0
  MAP_PROJECTION_TYPE = SINUSOIDAL
  MAP_RESOLUTION = 1185.42760773333
  MAP_SCALE = 0.05
  MAXIMUM_LATITUDE = -26.2115
  MINIMUM_LATITUDE = -44.0842
  POSITIVE_LONGITUDE_DIRECTION = EAST
  REFERENCE_LATITUDE = "N/A"
  REFERENCE_LONGITUDE = "N/A"
  SAMPLE_FIRST_PIXEL = 1
  SAMPLE_LAST_PIXEL = 1848
  SAMPLE_PROJECTION_OFFSET = 717.875
  SECOND_STANDARD_PARALLEL = "N/A"
  WESTERNMOST_LONGITUDE = 50.1316
END_OBJECT = IMAGE_MAP_PROJECTION
END
