PDS_VERSION_ID = PDS3
/* FILE DATA ELEMENTS */
RECORD_TYPE = UNDEFINED
/* POINTERS TO DATA OBJECTS */
^IMAGE = ("HP254_0000_IR4.TIF")
/* IDENTIFICATION DATA ELEMENTS */
DATA_SET_ID = "MEX-M-HRSC-4-REFDR-MAPPROJECT-EXT9-V4.0"
DATA_SET_NAME = "MARS EXPRESS HRSC MAP PROJECTED REFDR EXTENSION9 V4.0"
DETECTOR_ID = MEX_HRSC_IR
EVENT_TYPE = "MARS-REGIONAL-MAPPING-Im-Fl-La"
INSTRUMENT_HOST_ID = MEX
INSTRUMENT_HOST_NAME = "MARS EXPRESS"
INSTRUMENT_ID = HRSC
INSTRUMENT_NAME = "HIGH RESOLUTION STEREO CAMERA"
MISSION_NAME = "MARS EXPRESS"
MISSION_PHASE_NAME = ME_Phase_50
PROCESSING_LEVEL_ID = 4
PRODUCT_CREATION_TIME = 2024-08-19T05:24:16.000Z
PRODUCT_ID = "HP254_0000_IR4.TIF"
RELEASE_ID = 0010
REVISION_ID = 0000
/* QUALITY DATA ELEMENTS */
DATA_QUALITY_ID = 1
DATA_QUALITY_DESC = "Data calculated based on original SPICE kernels"
/* TIME DATA ELEMENTS */
SPACECRAFT_CLOCK_START_COUNT = "1/0652222249.00354"
SPACECRAFT_CLOCK_STOP_COUNT = "1/0652222578.58484"
START_TIME = 2024-01-01T20:52:36.444Z
STOP_TIME = 2024-01-01T20:56:56.745Z
/* ORBITAL DATA ELEMENTS */
ASCENDING_NODE_LONGITUDE = 105.45
MAXIMUM_RESOLUTION = 0.0604
FOOTPRINT_POINT_LATITUDE = (-53.0334,-53.0169,-52.998,-52.9802, -52.9795,-53.0633,-52.5661,-52.2338, -51.736,-51.4039,-51.0722,-50.7398, -50.241,-49.9094,-49.4114,-49.079, -48.5807,-48.0841,-47.7523,-47.2541, -46.7598,-46.4297,-46.0946,-45.764, -45.4354,-45.108,-44.6179,-44.287, -43.9606,-43.6328,-43.3007,-42.9725, -42.6472,-42.3195,-41.9905,-41.6664, -41.3412,-41.0151,-40.6881,-40.2035, -39.717,-39.3919,-38.9075,-38.262, -37.9158,-37.5329,-37.1496,-36.5762, -36.3851,-36.3437,-36.3494,-36.3539, -36.3572,-36.3573,-36.3583,-36.9322, -37.315,-37.699,-38.0826,-38.4055, -38.7291,-39.0537,-39.5398,-39.8639, -40.1898,-40.5151,-40.8399,-41.167, -41.6574,-41.9847,-42.3102,-42.6383, -42.9658,-43.2956,-43.6247,-44.1176, -44.4469,-44.7764,-45.2693,-45.7673, -46.0981,-46.4286,-46.7605,-47.0919, -47.4234,-47.922,-48.2544,-48.7536, -49.2525,-49.5851,-50.085,-50.5856, -50.9194,-51.2517,-51.5854,-52.0848, -52.4185,-52.9176,-53.0842,-53.0334)
FOOTPRINT_POINT_LONGITUDE = (76.9267,76.1822,75.4765,74.9043, 74.8852,74.8201,74.8726,74.9069,74.9563 ,74.9881,75.019,75.0494,75.0936,75.1216 ,75.1624,75.1891,75.2275,75.2633, 75.2869,75.3215,75.3525,75.3727,75.3954 ,75.4149,75.4328,75.4495,75.4733, 75.4909,75.5056,75.5207,75.5377,75.5523 ,75.5649,75.5784,75.5924,75.6034, 75.6147,75.6262,75.6379,75.6519,75.6663 ,75.6759,75.6884,75.7042,75.712,75.7197 ,75.7273,75.7377,75.741,75.7416,76.2411 ,76.773,77.3989,77.4146,77.4198,77.4115 ,77.4055,77.3996,77.3933,77.3881, 77.3831,77.3781,77.3697,77.3637,77.3583 ,77.3523,77.3457,77.3399,77.3305, 77.3239,77.3163,77.3095,77.3021,77.2955 ,77.2883,77.2764,77.2684,77.2602, 77.2467,77.2348,77.2259,77.2165,77.2075 ,77.1979,77.188,77.1731,77.1628,77.1469 ,77.1301,77.1185,77.1008,77.0826, 77.0701,77.0564,77.043,77.0215,77.0072, 76.984,76.9762,76.9267)
ORBIT_NUMBER = 25254
ORBITAL_ECCENTRICITY = 0.575
ORBITAL_INCLINATION = 87.07
ORBITAL_SEMIMAJOR_AXIS = 8801.31
PERIAPSIS_ALTITUDE = 355.8
PERIAPSIS_ARGUMENT_ANGLE = 314.23
PERIAPSIS_TIME = 2024-01-01T20:54:03.000Z
SPACECRAFT_ORIENTATION = (0.0,1.0,0.0)
^MEX_ORIENTATION_DESC = "MEX_ORIENTATION_DESC.TXT"
SPACECRAFT_POINTING_MODE = NADIR
^MEX_POINTING_DESC = "MEX_POINTING_DESC.TXT"
RIGHT_ASCENSION = -1e+32
DECLINATION = -1e+32
OFFSET_ANGLE = -1e+32
SPACECRAFT_SOLAR_DISTANCE = 2.21338e+08
TARGET_NAME = MARS
/* CAMERA DATA ELEMENTS */
DETECTOR_TEMPERATURE = 18.1666
FOCAL_PLANE_TEMPERATURE = 7.9716
INST_CMPRS_NAME = "DISCRETE COSINE TRANSFORMATION (DCT)"
INST_CMPRS_RATIO = 8.10849
INST_CMPRS_QUALITY = 0
INST_CMPRS_QUANTZ_TBL_ID = 0
INSTRUMENT_TEMPERATURE = 10.8262
LENS_TEMPERATURE = 8.3794
MACROPIXEL_SIZE = 4
MISSING_FRAMES = 0
PIXEL_SUBSAMPLING_FLAG = N
SIGNAL_CHAIN_ID = 2
/* RADIOMETRIC DATA ELEMENTS */
BANDWIDTH = 81.0
CENTER_FILTER_WAVELENGTH = 955.5
RADIANCE_OFFSET = 0.559687
RADIANCE_SCALING_FACTOR = 0.00265692
REFLECTANCE_SCALING_FACTOR = 0.000280814
MEX:REFLECTANCE_OFFSET = 0.0591541
/* IMAGE OBJECT DEFINITIONS */
OBJECT = IMAGE
  INTERCHANGE_FORMAT = BINARY
  LINES = 19895
  LINE_SAMPLES = 2132
  SAMPLE_TYPE = UNSIGNED_INTEGER
  SAMPLE_BITS = 8
  BANDS = 1
  BAND_STORAGE_TYPE = BAND_SEQUENTIAL
  MAXIMUM = 255
  MEAN = 94.6371
  MINIMUM = 1
  STANDARD_DEVIATION = 33.371
END_OBJECT = IMAGE
/* MAP OBJECT DEFINITIONS */
OBJECT = IMAGE_MAP_PROJECTION
  ^DATA_SET_MAP_PROJECTION_CATALOG= "DSMAP.CAT"
  A_AXIS_RADIUS = 3396.0
  B_AXIS_RADIUS = 3396.0
  C_AXIS_RADIUS = 3396.0
  CENTER_LATITUDE = 0.0
  CENTER_LONGITUDE = 76.0
  COORDINATE_SYSTEM_NAME = PLANETOGRAPHIC
  COORDINATE_SYSTEM_TYPE = "BODY-FIXED ROTATING"
  EASTERNMOST_LONGITUDE = 77.4198
  FIRST_STANDARD_PARALLEL = "N/A"
  LINE_FIRST_PIXEL = 1
  LINE_LAST_PIXEL = 19895
  LINE_PROJECTION_OFFSET = -43036.125
  MAP_PROJECTION_ROTATION = 0.0
  MAP_PROJECTION_TYPE = SINUSOIDAL
  MAP_RESOLUTION = 1185.42760773333
  MAP_SCALE = 0.05
  MAXIMUM_LATITUDE = -36.3437
  MINIMUM_LATITUDE = -53.0842
  POSITIVE_LONGITUDE_DIRECTION = EAST
  REFERENCE_LATITUDE = "N/A"
  REFERENCE_LONGITUDE = "N/A"
  SAMPLE_FIRST_PIXEL = 1
  SAMPLE_LAST_PIXEL = 2132
  SAMPLE_PROJECTION_OFFSET = 818.125
  SECOND_STANDARD_PARALLEL = "N/A"
  WESTERNMOST_LONGITUDE = 74.8201
END_OBJECT = IMAGE_MAP_PROJECTION
END
