PDS_VERSION_ID = PDS3
/* FILE DATA ELEMENTS */
RECORD_TYPE = UNDEFINED
/* POINTERS TO DATA OBJECTS */
^IMAGE = ("HP267_0000_RE4.TIF")
/* IDENTIFICATION DATA ELEMENTS */
DATA_SET_ID = "MEX-M-HRSC-4-REFDR-MAPPROJECT-EXT9-V4.0"
DATA_SET_NAME = "MARS EXPRESS HRSC MAP PROJECTED REFDR EXTENSION9 V4.0"
DETECTOR_ID = MEX_HRSC_RED
EVENT_TYPE = "MARS-REGIONAL-MAPPING-Vo-Fl-Gl"
INSTRUMENT_HOST_ID = MEX
INSTRUMENT_HOST_NAME = "MARS EXPRESS"
INSTRUMENT_ID = HRSC
INSTRUMENT_NAME = "HIGH RESOLUTION STEREO CAMERA"
MISSION_NAME = "MARS EXPRESS"
MISSION_PHASE_NAME = ME_Phase_50
PROCESSING_LEVEL_ID = 4
PRODUCT_CREATION_TIME = 2024-08-19T05:24:16.000Z
PRODUCT_ID = "HP267_0000_RE4.TIF"
RELEASE_ID = 0010
REVISION_ID = 0000
/* QUALITY DATA ELEMENTS */
DATA_QUALITY_ID = 1
DATA_QUALITY_DESC = "Data calculated based on original SPICE kernels"
/* TIME DATA ELEMENTS */
SPACECRAFT_CLOCK_START_COUNT = "1/0652549070.65071"
SPACECRAFT_CLOCK_STOP_COUNT = "1/0652549361.55608"
START_TIME = 2024-01-05T15:38:42.987Z
STOP_TIME = 2024-01-05T15:42:26.114Z
/* ORBITAL DATA ELEMENTS */
ASCENDING_NODE_LONGITUDE = 105.22
MAXIMUM_RESOLUTION = 0.0587
FOOTPRINT_POINT_LATITUDE = (-56.6354,-56.6207,-56.5951,-56.5583, -56.5574,-56.4931,-56.1699,-55.8472, -55.5234,-55.0368,-54.7115,-54.3923, -54.1207,-53.8419,-53.4316,-53.1569, -52.618,-52.3431,-52.0673,-51.7905, -51.3755,-51.0988,-50.6835,-50.406, -49.9914,-49.576,-49.1607,-48.7421, -48.4681,-48.0511,-47.7721,-47.4906, -47.0684,-46.7862,-46.3641,-46.084, -45.8046,-45.5242,-45.2452,-44.965, -44.5471,-44.2662,-43.983,-43.703, -43.4188,-42.991,-42.7061,-42.4234, -42.2804,-42.2264,-42.2441,-42.2538, -42.2583,-42.2585,-42.2594,-42.5436, -42.8272,-43.1096,-43.392,-43.6746, -43.9569,-44.2395,-44.5216,-44.8034, -45.0855,-45.5103,-45.7957,-46.0752, -46.355,-46.6327,-47.0517,-47.4724, -47.7528,-48.0328,-48.3122,-48.731, -49.0101,-49.4286,-49.7075,-49.9861, -50.4038,-50.6822,-51.0992,-51.3789, -51.6578,-52.0757,-52.623,-53.1711, -53.4469,-53.7203,-53.9954,-54.2771, -54.5624,-54.889,-55.2158,-55.5416, -55.8662,-56.352,-56.5144,-56.6354)
FOOTPRINT_POINT_LONGITUDE = (188.975,188.386,187.581,186.667, 186.645,186.608,186.656,186.704,186.749 ,186.816,186.859,186.9,186.935,186.966, 187.015,187.046,187.112,187.142,187.171 ,187.198,187.239,187.265,187.304, 187.329,187.366,187.402,187.437,187.47, 187.493,187.525,187.545,187.563,187.591 ,187.608,187.634,187.651,187.668, 187.684,187.701,187.717,187.741,187.756 ,187.769,187.783,187.795,187.812, 187.823,187.835,187.84,187.842,188.532, 189.113,189.505,189.521,189.526,189.52, 189.514,189.508,189.502,189.496,189.489 ,189.483,189.476,189.469,189.462, 189.451,189.441,189.435,189.428,189.422 ,189.412,189.4,189.391,189.383,189.375, 189.362,189.353,189.339,189.33,189.32, 189.305,189.295,189.279,189.267,189.255 ,189.236,189.217,189.195,189.183, 189.171,189.158,189.14,189.126,189.11, 189.093,189.076,189.059,189.033,189.024 ,188.975)
ORBIT_NUMBER = 25267
ORBITAL_ECCENTRICITY = 0.575
ORBITAL_INCLINATION = 87.06
ORBITAL_SEMIMAJOR_AXIS = 8793.84
PERIAPSIS_ALTITUDE = 356.45
PERIAPSIS_ARGUMENT_ANGLE = 312.04
PERIAPSIS_TIME = 2024-01-05T15:41:25.000Z
SPACECRAFT_ORIENTATION = (0.0,1.0,0.0)
^MEX_ORIENTATION_DESC = "MEX_ORIENTATION_DESC.TXT"
SPACECRAFT_POINTING_MODE = NADIR
^MEX_POINTING_DESC = "MEX_POINTING_DESC.TXT"
RIGHT_ASCENSION = -1e+32
DECLINATION = -1e+32
OFFSET_ANGLE = -1e+32
SPACECRAFT_SOLAR_DISTANCE = 2.2062e+08
TARGET_NAME = MARS
/* CAMERA DATA ELEMENTS */
DETECTOR_TEMPERATURE = 18.5744
FOCAL_PLANE_TEMPERATURE = 7.9716
INST_CMPRS_NAME = "DISCRETE COSINE TRANSFORMATION (DCT)"
INST_CMPRS_RATIO = 11.8524
INST_CMPRS_QUALITY = 0
INST_CMPRS_QUANTZ_TBL_ID = 0
INSTRUMENT_TEMPERATURE = 11.234
LENS_TEMPERATURE = 7.9716
MACROPIXEL_SIZE = 4
MISSING_FRAMES = 0
PIXEL_SUBSAMPLING_FLAG = N
SIGNAL_CHAIN_ID = 2
/* RADIOMETRIC DATA ELEMENTS */
BANDWIDTH = 48.0
CENTER_FILTER_WAVELENGTH = 748.0
RADIANCE_OFFSET = 0.527215
RADIANCE_SCALING_FACTOR = 0.00351917
REFLECTANCE_SCALING_FACTOR = 0.000390894
MEX:REFLECTANCE_OFFSET = 0.0585609
/* IMAGE OBJECT DEFINITIONS */
OBJECT = IMAGE
  INTERCHANGE_FORMAT = BINARY
  LINES = 16996
  LINE_SAMPLES = 2226
  SAMPLE_TYPE = UNSIGNED_INTEGER
  SAMPLE_BITS = 8
  BANDS = 1
  BAND_STORAGE_TYPE = BAND_SEQUENTIAL
  MAXIMUM = 255
  MEAN = 76.9356
  MINIMUM = 1
  STANDARD_DEVIATION = 30.9605
END_OBJECT = IMAGE
/* MAP OBJECT DEFINITIONS */
OBJECT = IMAGE_MAP_PROJECTION
  ^DATA_SET_MAP_PROJECTION_CATALOG= "DSMAP.CAT"
  A_AXIS_RADIUS = 3396.0
  B_AXIS_RADIUS = 3396.0
  C_AXIS_RADIUS = 3396.0
  CENTER_LATITUDE = 0.0
  CENTER_LONGITUDE = 188.0
  COORDINATE_SYSTEM_NAME = PLANETOGRAPHIC
  COORDINATE_SYSTEM_TYPE = "BODY-FIXED ROTATING"
  EASTERNMOST_LONGITUDE = 189.526
  FIRST_STANDARD_PARALLEL = "N/A"
  LINE_FIRST_PIXEL = 1
  LINE_LAST_PIXEL = 16996
  LINE_PROJECTION_OFFSET = -50055.875
  MAP_PROJECTION_ROTATION = 0.0
  MAP_PROJECTION_TYPE = SINUSOIDAL
  MAP_RESOLUTION = 1185.42760773333
  MAP_SCALE = 0.05
  MAXIMUM_LATITUDE = -42.2264
  MINIMUM_LATITUDE = -56.6354
  POSITIVE_LONGITUDE_DIRECTION = EAST
  REFERENCE_LATITUDE = "N/A"
  REFERENCE_LONGITUDE = "N/A"
  SAMPLE_FIRST_PIXEL = 1
  SAMPLE_LAST_PIXEL = 2226
  SAMPLE_PROJECTION_OFFSET = 880.375
  SECOND_STANDARD_PARALLEL = "N/A"
  WESTERNMOST_LONGITUDE = 186.608
END_OBJECT = IMAGE_MAP_PROJECTION
END
