PDS_VERSION_ID = PDS3
/* FILE DATA ELEMENTS */
RECORD_TYPE = UNDEFINED
/* POINTERS TO DATA OBJECTS */
^IMAGE = ("HP288_0000_P14.TIF")
/* IDENTIFICATION DATA ELEMENTS */
DATA_SET_ID = "MEX-M-HRSC-4-REFDR-MAPPROJECT-EXT9-V4.0"
DATA_SET_NAME = "MARS EXPRESS HRSC MAP PROJECTED REFDR EXTENSION9 V4.0"
DETECTOR_ID = MEX_HRSC_P1
EVENT_TYPE = "MARS-REGIONAL-MAPPING-Im-Pf-La"
INSTRUMENT_HOST_ID = MEX
INSTRUMENT_HOST_NAME = "MARS EXPRESS"
INSTRUMENT_ID = HRSC
INSTRUMENT_NAME = "HIGH RESOLUTION STEREO CAMERA"
MISSION_NAME = "MARS EXPRESS"
MISSION_PHASE_NAME = ME_Phase_50
PROCESSING_LEVEL_ID = 4
PRODUCT_CREATION_TIME = 2024-08-19T05:24:16.000Z
PRODUCT_ID = "HP288_0000_P14.TIF"
RELEASE_ID = 0010
REVISION_ID = 0000
/* QUALITY DATA ELEMENTS */
DATA_QUALITY_ID = 1
DATA_QUALITY_DESC = "Data calculated based on original SPICE kernels"
/* TIME DATA ELEMENTS */
SPACECRAFT_CLOCK_START_COUNT = "1/0653077239.64156"
SPACECRAFT_CLOCK_STOP_COUNT = "1/0653077532.15137"
START_TIME = 2024-01-11T18:22:19.536Z
STOP_TIME = 2024-01-11T18:26:02.528Z
/* ORBITAL DATA ELEMENTS */
ASCENDING_NODE_LONGITUDE = 104.86
MAXIMUM_RESOLUTION = 0.0291
FOOTPRINT_POINT_LATITUDE = (-49.64,-49.6197,-49.6003,-49.5788, -49.5781,-49.6116,-49.3504,-49.0887, -48.8286,-48.5704,-48.3103,-47.9186, -47.6598,-47.4,-46.8867,-46.6282, -46.3699,-45.9824,-45.7244,-45.3376, -45.0784,-44.6899,-44.1769,-43.665, -43.3806,-43.0754,-42.7695,-42.4695, -42.1698,-41.8675,-41.5646,-41.1106, -40.8087,-40.5066,-40.0537,-39.7527, -39.2992,-38.9962,-38.5453,-38.2428, -37.9431,-37.6435,-37.3456,-37.0484, -36.7528,-36.4609,-36.0146,-35.7169, -35.5672,-35.5426,-35.5574,-35.5689, -35.5814,-35.5816,-35.5822,-35.8823, -36.1798,-36.4764,-36.921,-37.2167, -37.514,-37.8122,-38.1108,-38.4102, -38.7107,-39.0114,-39.3121,-39.6128, -39.9138,-40.3633,-40.6669,-40.969, -41.2717,-41.5794,-41.8804,-42.186, -42.4909,-42.7938,-43.0996,-43.4063, -43.6952,-44.2094,-44.5951,-45.1099, -45.4965,-45.7558,-46.0146,-46.2727, -46.7866,-47.0451,-47.305,-47.5653, -47.8253,-48.0864,-48.3465,-48.6112, -49.0033,-49.523,-49.6534,-49.64)
FOOTPRINT_POINT_LONGITUDE = (205.453,204.743,204.157,203.581, 203.563,203.559,203.573,203.586,203.598 ,203.611,203.622,203.639,203.65,203.661 ,203.681,203.691,203.7,203.713,203.722, 203.734,203.741,203.752,203.766,203.779 ,203.785,203.792,203.798,203.804, 203.809,203.815,203.819,203.826,203.83, 203.834,203.839,203.841,203.845,203.847 ,203.85,203.851,203.853,203.854,203.854 ,203.855,203.855,203.855,203.854, 203.853,203.853,203.853,204.45,204.972, 205.628,205.645,205.652,205.647,205.647 ,205.646,205.643,205.639,205.637, 205.635,205.633,205.631,205.63,205.629, 205.627,205.624,205.622,205.614,205.613 ,205.61,205.607,205.609,205.603,205.602 ,205.599,205.594,205.591,205.589, 205.587,205.582,205.578,205.571,205.566 ,205.564,205.561,205.557,205.544, 205.539,205.536,205.533,205.53,205.527, 205.523,205.525,205.521,205.509,205.506 ,205.453)
ORBIT_NUMBER = 25288
ORBITAL_ECCENTRICITY = 0.574
ORBITAL_INCLINATION = 87.07
ORBITAL_SEMIMAJOR_AXIS = 8788.35
PERIAPSIS_ALTITUDE = 355.79
PERIAPSIS_ARGUMENT_ANGLE = 308.5
PERIAPSIS_TIME = 2024-01-11T18:21:31.000Z
SPACECRAFT_ORIENTATION = (0.0,1.0,0.0)
^MEX_ORIENTATION_DESC = "MEX_ORIENTATION_DESC.TXT"
SPACECRAFT_POINTING_MODE = ACROSSTRACK
^MEX_POINTING_DESC = "MEX_POINTING_DESC.TXT"
RIGHT_ASCENSION = -1e+32
DECLINATION = -1e+32
OFFSET_ANGLE = -0.687
SPACECRAFT_SOLAR_DISTANCE = 2.19477e+08
TARGET_NAME = MARS
/* CAMERA DATA ELEMENTS */
DETECTOR_TEMPERATURE = 16.7393
FOCAL_PLANE_TEMPERATURE = 7.9716
INST_CMPRS_NAME = "DISCRETE COSINE TRANSFORMATION (DCT)"
INST_CMPRS_RATIO = 7.19894
INST_CMPRS_QUALITY = 0
INST_CMPRS_QUANTZ_TBL_ID = 0
INSTRUMENT_TEMPERATURE = 10.6223
LENS_TEMPERATURE = 8.7872
MACROPIXEL_SIZE = 2
MISSING_FRAMES = 0
PIXEL_SUBSAMPLING_FLAG = N
SIGNAL_CHAIN_ID = 3
/* RADIOMETRIC DATA ELEMENTS */
BANDWIDTH = 174.0
CENTER_FILTER_WAVELENGTH = 675.0
RADIANCE_OFFSET = 2.04229
RADIANCE_SCALING_FACTOR = 0.0123433
REFLECTANCE_SCALING_FACTOR = 0.000319812
MEX:REFLECTANCE_OFFSET = 0.0529155
/* IMAGE OBJECT DEFINITIONS */
OBJECT = IMAGE
  INTERCHANGE_FORMAT = BINARY
  LINES = 33437
  LINE_SAMPLES = 3443
  SAMPLE_TYPE = UNSIGNED_INTEGER
  SAMPLE_BITS = 8
  BANDS = 1
  BAND_STORAGE_TYPE = BAND_SEQUENTIAL
  MAXIMUM = 255
  MEAN = 104.306
  MINIMUM = 1
  STANDARD_DEVIATION = 23.8354
END_OBJECT = IMAGE
/* MAP OBJECT DEFINITIONS */
OBJECT = IMAGE_MAP_PROJECTION
  ^DATA_SET_MAP_PROJECTION_CATALOG= "DSMAP.CAT"
  A_AXIS_RADIUS = 3396.0
  B_AXIS_RADIUS = 3396.0
  C_AXIS_RADIUS = 3396.0
  CENTER_LATITUDE = 0.0
  CENTER_LONGITUDE = 205.0
  COORDINATE_SYSTEM_NAME = PLANETOGRAPHIC
  COORDINATE_SYSTEM_TYPE = "BODY-FIXED ROTATING"
  EASTERNMOST_LONGITUDE = 205.652
  FIRST_STANDARD_PARALLEL = "N/A"
  LINE_FIRST_PIXEL = 1
  LINE_LAST_PIXEL = 33437
  LINE_PROJECTION_OFFSET = -84305.75
  MAP_PROJECTION_ROTATION = 0.0
  MAP_PROJECTION_TYPE = SINUSOIDAL
  MAP_RESOLUTION = 2370.85521546667
  MAP_SCALE = 0.025
  MAXIMUM_LATITUDE = -35.5426
  MINIMUM_LATITUDE = -49.6534
  POSITIVE_LONGITUDE_DIRECTION = EAST
  REFERENCE_LATITUDE = "N/A"
  REFERENCE_LONGITUDE = "N/A"
  SAMPLE_FIRST_PIXEL = 1
  SAMPLE_LAST_PIXEL = 3443
  SAMPLE_PROJECTION_OFFSET = 2221.25
  SECOND_STANDARD_PARALLEL = "N/A"
  WESTERNMOST_LONGITUDE = 203.559
END_OBJECT = IMAGE_MAP_PROJECTION
END
