PDS_VERSION_ID = PDS3
/* FILE DATA ELEMENTS */
RECORD_TYPE = UNDEFINED
/* POINTERS TO DATA OBJECTS */
^IMAGE = ("HP288_0000_P24.TIF")
/* IDENTIFICATION DATA ELEMENTS */
DATA_SET_ID = "MEX-M-HRSC-4-REFDR-MAPPROJECT-EXT9-V4.0"
DATA_SET_NAME = "MARS EXPRESS HRSC MAP PROJECTED REFDR EXTENSION9 V4.0"
DETECTOR_ID = MEX_HRSC_P2
EVENT_TYPE = "MARS-REGIONAL-MAPPING-Im-Pf-La"
INSTRUMENT_HOST_ID = MEX
INSTRUMENT_HOST_NAME = "MARS EXPRESS"
INSTRUMENT_ID = HRSC
INSTRUMENT_NAME = "HIGH RESOLUTION STEREO CAMERA"
MISSION_NAME = "MARS EXPRESS"
MISSION_PHASE_NAME = ME_Phase_50
PROCESSING_LEVEL_ID = 4
PRODUCT_CREATION_TIME = 2024-08-19T05:24:16.000Z
PRODUCT_ID = "HP288_0000_P24.TIF"
RELEASE_ID = 0010
REVISION_ID = 0000
/* QUALITY DATA ELEMENTS */
DATA_QUALITY_ID = 1
DATA_QUALITY_DESC = "Data calculated based on original SPICE kernels"
/* TIME DATA ELEMENTS */
SPACECRAFT_CLOCK_START_COUNT = "1/0653077239.64156"
SPACECRAFT_CLOCK_STOP_COUNT = "1/0653077532.15137"
START_TIME = 2024-01-11T18:21:37.156Z
STOP_TIME = 2024-01-11T18:25:13.521Z
/* ORBITAL DATA ELEMENTS */
ASCENDING_NODE_LONGITUDE = 104.86
MAXIMUM_RESOLUTION = 0.029
FOOTPRINT_POINT_LATITUDE = (-49.6964,-49.7031,-49.7046,-49.7026, -49.7025,-49.6657,-49.1415,-48.6124, -48.2196,-47.9558,-47.6908,-47.1624, -46.8941,-46.6296,-46.365,-46.1006, -45.8362,-45.5716,-45.1754,-44.6502, -44.2522,-43.9871,-43.7217,-43.3246, -43.0597,-42.7959,-42.5274,-42.2582, -41.9905,-41.7248,-41.4596,-41.0618, -40.7964,-40.3335,-40.018,-39.7018, -39.3877,-38.9186,-38.6044,-38.135, -37.8213,-37.3494,-37.0341,-36.7177, -36.3978,-36.0875,-35.771,-35.6121, -35.5781,-35.5729,-35.5644,-35.5537, -35.5395,-35.539,-35.5393,-35.8593, -36.1733,-36.4883,-36.8039,-37.1211, -37.5966,-38.0708,-38.3871,-38.7028, -39.0181,-39.334,-39.809,-40.2854, -40.6029,-40.8884,-41.1543,-41.4188, -41.8141,-42.0824,-42.3461,-42.7461, -43.0123,-43.2766,-43.5414,-43.8068, -44.0717,-44.4698,-44.7352,-45.0006, -45.2659,-45.5316,-45.7956,-46.0603, -46.3259,-46.5938,-46.8608,-47.1258, -47.5221,-47.7864,-48.182,-48.4466, -48.9694,-49.4999,-49.6319,-49.6964)
FOOTPRINT_POINT_LONGITUDE = (205.448,204.737,204.151,203.575, 203.557,203.557,203.585,203.612,203.631 ,203.643,203.655,203.678,203.69,203.7, 203.71,203.72,203.73,203.739,203.752, 203.768,203.78,203.787,203.794,203.805, 203.811,203.817,203.823,203.829,203.835 ,203.84,203.845,203.852,203.856,203.862 ,203.867,203.87,203.874,203.878,203.881 ,203.884,203.886,203.889,203.89,203.891 ,203.892,203.892,203.892,203.893, 203.893,204.282,204.743,205.243,205.587 ,205.604,205.61,205.604,205.605,205.605 ,205.604,205.601,205.598,205.596, 205.595,205.595,205.595,205.594,205.591 ,205.587,205.585,205.583,205.581,205.58 ,205.582,205.576,205.577,205.572, 205.569,205.568,205.567,205.565,205.564 ,205.56,205.558,205.555,205.553,205.55, 205.549,205.546,205.543,205.536,205.53, 205.527,205.523,205.521,205.517,205.514 ,205.515,205.504,205.502,205.448)
ORBIT_NUMBER = 25288
ORBITAL_ECCENTRICITY = 0.574
ORBITAL_INCLINATION = 87.07
ORBITAL_SEMIMAJOR_AXIS = 8788.35
PERIAPSIS_ALTITUDE = 355.79
PERIAPSIS_ARGUMENT_ANGLE = 308.5
PERIAPSIS_TIME = 2024-01-11T18:21:31.000Z
SPACECRAFT_ORIENTATION = (0.0,1.0,0.0)
^MEX_ORIENTATION_DESC = "MEX_ORIENTATION_DESC.TXT"
SPACECRAFT_POINTING_MODE = ACROSSTRACK
^MEX_POINTING_DESC = "MEX_POINTING_DESC.TXT"
RIGHT_ASCENSION = -1e+32
DECLINATION = -1e+32
OFFSET_ANGLE = -0.687
SPACECRAFT_SOLAR_DISTANCE = 2.19477e+08
TARGET_NAME = MARS
/* CAMERA DATA ELEMENTS */
DETECTOR_TEMPERATURE = 18.3705
FOCAL_PLANE_TEMPERATURE = 7.9716
INST_CMPRS_NAME = "DISCRETE COSINE TRANSFORMATION (DCT)"
INST_CMPRS_RATIO = 6.27351
INST_CMPRS_QUALITY = 0
INST_CMPRS_QUANTZ_TBL_ID = 0
INSTRUMENT_TEMPERATURE = 10.6223
LENS_TEMPERATURE = 8.7872
MACROPIXEL_SIZE = 2
MISSING_FRAMES = 0
PIXEL_SUBSAMPLING_FLAG = N
SIGNAL_CHAIN_ID = 3
/* RADIOMETRIC DATA ELEMENTS */
BANDWIDTH = 177.0
CENTER_FILTER_WAVELENGTH = 676.5
RADIANCE_OFFSET = 2.07432
RADIANCE_SCALING_FACTOR = 0.0115548
REFLECTANCE_SCALING_FACTOR = 0.000295121
MEX:REFLECTANCE_OFFSET = 0.0529801
/* IMAGE OBJECT DEFINITIONS */
OBJECT = IMAGE
  INTERCHANGE_FORMAT = BINARY
  LINES = 33437
  LINE_SAMPLES = 3443
  SAMPLE_TYPE = UNSIGNED_INTEGER
  SAMPLE_BITS = 8
  BANDS = 1
  BAND_STORAGE_TYPE = BAND_SEQUENTIAL
  MAXIMUM = 255
  MEAN = 107.236
  MINIMUM = 1
  STANDARD_DEVIATION = 24.6303
END_OBJECT = IMAGE
/* MAP OBJECT DEFINITIONS */
OBJECT = IMAGE_MAP_PROJECTION
  ^DATA_SET_MAP_PROJECTION_CATALOG= "DSMAP.CAT"
  A_AXIS_RADIUS = 3396.0
  B_AXIS_RADIUS = 3396.0
  C_AXIS_RADIUS = 3396.0
  CENTER_LATITUDE = 0.0
  CENTER_LONGITUDE = 205.0
  COORDINATE_SYSTEM_NAME = PLANETOGRAPHIC
  COORDINATE_SYSTEM_TYPE = "BODY-FIXED ROTATING"
  EASTERNMOST_LONGITUDE = 205.61
  FIRST_STANDARD_PARALLEL = "N/A"
  LINE_FIRST_PIXEL = 1
  LINE_LAST_PIXEL = 33437
  LINE_PROJECTION_OFFSET = -84305.75
  MAP_PROJECTION_ROTATION = 0.0
  MAP_PROJECTION_TYPE = SINUSOIDAL
  MAP_RESOLUTION = 2370.85521546667
  MAP_SCALE = 0.025
  MAXIMUM_LATITUDE = -35.539
  MINIMUM_LATITUDE = -49.7046
  POSITIVE_LONGITUDE_DIRECTION = EAST
  REFERENCE_LATITUDE = "N/A"
  REFERENCE_LONGITUDE = "N/A"
  SAMPLE_FIRST_PIXEL = 1
  SAMPLE_LAST_PIXEL = 3443
  SAMPLE_PROJECTION_OFFSET = 2221.25
  SECOND_STANDARD_PARALLEL = "N/A"
  WESTERNMOST_LONGITUDE = 203.557
END_OBJECT = IMAGE_MAP_PROJECTION
END
