PDS_VERSION_ID = PDS3
/* FILE DATA ELEMENTS */
RECORD_TYPE = UNDEFINED
/* POINTERS TO DATA OBJECTS */
^IMAGE = ("HP370_0000_BL4.TIF")
/* IDENTIFICATION DATA ELEMENTS */
DATA_SET_ID = "MEX-M-HRSC-4-REFDR-MAPPROJECT-EXT9-V4.0"
DATA_SET_NAME = "MARS EXPRESS HRSC MAP PROJECTED REFDR EXTENSION9 V4.0"
DETECTOR_ID = MEX_HRSC_BLUE
EVENT_TYPE = "MARS-REGIONAL-MAPPING-Gl-Pf-Eo"
INSTRUMENT_HOST_ID = MEX
INSTRUMENT_HOST_NAME = "MARS EXPRESS"
INSTRUMENT_ID = HRSC
INSTRUMENT_NAME = "HIGH RESOLUTION STEREO CAMERA"
MISSION_NAME = "MARS EXPRESS"
MISSION_PHASE_NAME = ME_Phase_50
PROCESSING_LEVEL_ID = 4
PRODUCT_CREATION_TIME = 2024-08-19T08:57:25.000Z
PRODUCT_ID = "HP370_0000_BL4.TIF"
RELEASE_ID = 0011
REVISION_ID = 0000
/* QUALITY DATA ELEMENTS */
DATA_QUALITY_ID = 1
DATA_QUALITY_DESC = "Data calculated based on original SPICE kernels"
/* TIME DATA ELEMENTS */
SPACECRAFT_CLOCK_START_COUNT = "1/0655138758.65120"
SPACECRAFT_CLOCK_STOP_COUNT = "1/0655139004.53928"
START_TIME = 2024-02-04T15:00:37.525Z
STOP_TIME = 2024-02-04T15:03:31.295Z
/* ORBITAL DATA ELEMENTS */
ASCENDING_NODE_LONGITUDE = 103.43
MAXIMUM_RESOLUTION = 0.0566
FOOTPRINT_POINT_LATITUDE = (-77.7439,-77.6306,-77.5028,-77.3119, -77.307,-77.2559,-76.8481,-76.4394, -76.2334,-75.9226,-75.7145,-75.4043, -75.1957,-74.9858,-74.7757,-74.5643, -74.2472,-74.0356,-73.8234,-73.6108, -73.291,-73.0775,-72.864,-72.6498, -72.3279,-72.113,-71.8961,-71.6816, -71.3594,-71.0348,-70.7092,-70.4915, -70.1652,-69.9474,-69.7292,-69.5111, -69.2927,-69.0742,-68.8551,-68.6361, -68.3074,-68.0862,-67.8682,-67.6483, -67.3183,-67.0978,-66.8774,-66.6569, -66.5465,-66.5405,-66.6016,-66.6553, -66.7005,-66.7497,-66.7513,-66.7528, -66.9762,-67.1995,-67.4225,-67.7569, -67.98,-68.2026,-68.5366,-68.8703, -69.0926,-69.3146,-69.5368,-69.8699, -70.0915,-70.3131,-70.5348,-70.8672, -71.1982,-71.419,-71.7493,-71.9694, -72.2998,-72.6278,-72.9575,-73.1752, -73.506,-73.8332,-74.1607,-74.3794, -74.5969,-74.8143,-75.0314,-75.3568, -75.5708,-75.7861,-76.0031,-76.3255, -76.5403,-76.7557,-76.9692,-77.1825, -77.395,-77.608,-77.7144,-77.7439)
FOOTPRINT_POINT_LONGITUDE = (97.331,95.5751,93.8095,91.481,91.4255, 91.0891,91.8047,92.4875,92.8094,93.2693 ,93.5636,94.0075,94.2861,94.5516, 94.8111,95.0581,95.4211,95.6565,95.8852 ,96.1073,96.4281,96.636,96.8413,97.0384 ,97.3258,97.5115,97.6824,97.8658, 98.1336,98.3808,98.6166,98.7673,98.9907 ,99.136,99.2762,99.4154,99.5515,99.6844 ,99.8127,99.9396,100.125,100.235, 100.363,100.476,100.644,100.752,100.858 ,100.962,101.013,101.016,101.836, 102.614,103.32,104.158,104.186,104.196, 104.124,104.05,103.975,103.859,103.78, 103.699,103.575,103.446,103.358,103.268 ,103.176,103.034,102.937,102.837, 102.736,102.58,102.415,102.303,102.128, 102.009,101.825,101.628,101.43,101.288, 101.083,100.859,100.629,100.472,100.307 ,100.139,99.9652,99.696,99.5019,99.307, 99.1123,98.8008,98.5858,98.3667,98.1356 ,97.8974,97.6501,97.3972,97.2675, 97.331)
ORBIT_NUMBER = 25370
ORBITAL_ECCENTRICITY = 0.574
ORBITAL_INCLINATION = 87.07
ORBITAL_SEMIMAJOR_AXIS = 8772.09
PERIAPSIS_ALTITUDE = 354.59
PERIAPSIS_ARGUMENT_ANGLE = 294.67
PERIAPSIS_TIME = 2024-02-04T15:04:03.000Z
SPACECRAFT_ORIENTATION = (0.0,1.0,0.0)
^MEX_ORIENTATION_DESC = "MEX_ORIENTATION_DESC.TXT"
SPACECRAFT_POINTING_MODE = ACROSSTRACK
^MEX_POINTING_DESC = "MEX_POINTING_DESC.TXT"
RIGHT_ASCENSION = -1e+32
DECLINATION = -1e+32
OFFSET_ANGLE = 1.105
SPACECRAFT_SOLAR_DISTANCE = 2.15271e+08
TARGET_NAME = MARS
/* CAMERA DATA ELEMENTS */
DETECTOR_TEMPERATURE = 18.5744
FOCAL_PLANE_TEMPERATURE = 9.6028
INST_CMPRS_NAME = "DISCRETE COSINE TRANSFORMATION (DCT)"
INST_CMPRS_RATIO = 43.4804
INST_CMPRS_QUALITY = 0
INST_CMPRS_QUANTZ_TBL_ID = 0
INSTRUMENT_TEMPERATURE = 11.6418
LENS_TEMPERATURE = 10.2145
MACROPIXEL_SIZE = 4
MISSING_FRAMES = 0
PIXEL_SUBSAMPLING_FLAG = N
SIGNAL_CHAIN_ID = 2
/* RADIOMETRIC DATA ELEMENTS */
BANDWIDTH = 76.0
CENTER_FILTER_WAVELENGTH = 444.0
RADIANCE_OFFSET = 0.632313
RADIANCE_SCALING_FACTOR = 0.0009549
REFLECTANCE_SCALING_FACTOR = 4.54662e-05
MEX:REFLECTANCE_OFFSET = 0.0301067
/* IMAGE OBJECT DEFINITIONS */
OBJECT = IMAGE
  INTERCHANGE_FORMAT = BINARY
  LINES = 13224
  LINE_SAMPLES = 4242
  SAMPLE_TYPE = UNSIGNED_INTEGER
  SAMPLE_BITS = 8
  BANDS = 1
  BAND_STORAGE_TYPE = BAND_SEQUENTIAL
  MAXIMUM = 255
  MEAN = 254.738
  MINIMUM = 11
  STANDARD_DEVIATION = 4.88705
END_OBJECT = IMAGE
/* MAP OBJECT DEFINITIONS */
OBJECT = IMAGE_MAP_PROJECTION
  ^DATA_SET_MAP_PROJECTION_CATALOG= "DSMAP.CAT"
  A_AXIS_RADIUS = 3396.0
  B_AXIS_RADIUS = 3396.0
  C_AXIS_RADIUS = 3396.0
  CENTER_LATITUDE = 0.0
  CENTER_LONGITUDE = 100.0
  COORDINATE_SYSTEM_NAME = PLANETOGRAPHIC
  COORDINATE_SYSTEM_TYPE = "BODY-FIXED ROTATING"
  EASTERNMOST_LONGITUDE = 104.196
  FIRST_STANDARD_PARALLEL = "N/A"
  LINE_FIRST_PIXEL = 1
  LINE_LAST_PIXEL = 13224
  LINE_PROJECTION_OFFSET = -78885.375
  MAP_PROJECTION_ROTATION = 0.0
  MAP_PROJECTION_TYPE = SINUSOIDAL
  MAP_RESOLUTION = 1185.42760773333
  MAP_SCALE = 0.05
  MAXIMUM_LATITUDE = -66.54049999999999
  MINIMUM_LATITUDE = -77.7439
  POSITIVE_LONGITUDE_DIRECTION = EAST
  REFERENCE_LATITUDE = "N/A"
  REFERENCE_LONGITUDE = "N/A"
  SAMPLE_FIRST_PIXEL = 1
  SAMPLE_LAST_PIXEL = 4242
  SAMPLE_PROJECTION_OFFSET = 2252.375
  SECOND_STANDARD_PARALLEL = "N/A"
  WESTERNMOST_LONGITUDE = 91.0891
END_OBJECT = IMAGE_MAP_PROJECTION
END
