PDS_VERSION_ID = PDS3
/* FILE DATA ELEMENTS */
RECORD_TYPE = UNDEFINED
/* POINTERS TO DATA OBJECTS */
^IMAGE = ("HP370_0000_P14.TIF")
/* IDENTIFICATION DATA ELEMENTS */
DATA_SET_ID = "MEX-M-HRSC-4-REFDR-MAPPROJECT-EXT9-V4.0"
DATA_SET_NAME = "MARS EXPRESS HRSC MAP PROJECTED REFDR EXTENSION9 V4.0"
DETECTOR_ID = MEX_HRSC_P1
EVENT_TYPE = "MARS-REGIONAL-MAPPING-Gl-Pf-Eo"
INSTRUMENT_HOST_ID = MEX
INSTRUMENT_HOST_NAME = "MARS EXPRESS"
INSTRUMENT_ID = HRSC
INSTRUMENT_NAME = "HIGH RESOLUTION STEREO CAMERA"
MISSION_NAME = "MARS EXPRESS"
MISSION_PHASE_NAME = ME_Phase_50
PROCESSING_LEVEL_ID = 4
PRODUCT_CREATION_TIME = 2024-08-19T08:57:25.000Z
PRODUCT_ID = "HP370_0000_P14.TIF"
RELEASE_ID = 0011
REVISION_ID = 0000
/* QUALITY DATA ELEMENTS */
DATA_QUALITY_ID = 1
DATA_QUALITY_DESC = "Data calculated based on original SPICE kernels"
/* TIME DATA ELEMENTS */
SPACECRAFT_CLOCK_START_COUNT = "1/0655138758.65120"
SPACECRAFT_CLOCK_STOP_COUNT = "1/0655139004.53928"
START_TIME = 2024-02-04T15:01:07.327Z
STOP_TIME = 2024-02-04T15:03:58.327Z
/* ORBITAL DATA ELEMENTS */
ASCENDING_NODE_LONGITUDE = 103.43
MAXIMUM_RESOLUTION = 0.029
FOOTPRINT_POINT_LATITUDE = (-77.6064,-77.5137,-77.4068,-77.2602, -77.2561,-77.2872,-76.9775,-76.7715, -76.564,-76.3547,-76.1464,-75.8334, -75.6232,-75.3067,-75.0956,-74.7793, -74.4626,-74.2508,-74.0384,-73.8257, -73.6128,-73.3993,-73.1863,-72.9725, -72.651,-72.4364,-72.2219,-71.9009, -71.5769,-71.3593,-71.1437,-70.928, -70.6048,-70.3888,-70.1724,-69.956, -69.7397,-69.5228,-69.1974,-68.872, -68.6547,-68.4374,-68.1133,-67.7849, -67.5676,-67.2411,-66.9149,-66.6971, -66.5883,-66.557,-66.6265,-66.65, -66.6886,-66.6895,-66.6904,-66.9101, -67.1303,-67.3505,-67.5709,-67.7912, -68.0109,-68.2314,-68.4512,-68.6717, -69.0018,-69.2222,-69.4423,-69.7718, -69.9916,-70.3213,-70.5402,-70.759, -70.9775,-71.1996,-71.5298,-71.7492, -72.0785,-72.4069,-72.6306,-72.8483, -73.0685,-73.2904,-73.723,-73.9417, -74.1594,-74.4853,-74.8115,-75.0291, -75.246,-75.4664,-75.7969,-76.1197, -76.3366,-76.553,-76.8759,-77.0926, -77.3099,-77.5254,-77.6327,-77.6064)
FOOTPRINT_POINT_LONGITUDE = (97.4268,95.6244,93.8013,91.6119,91.554 ,91.0596,91.6158,91.9558,92.2966, 92.6428,92.9587,93.41,93.7109,94.1495, 94.4258,94.815,95.1831,95.4227,95.6574, 95.8856,96.1068,96.3247,96.5302,96.7355 ,97.0344,97.2275,97.4128,97.6735, 97.9434,98.1267,98.2907,98.4503,98.6779 ,98.8272,98.9745,99.1178,99.2568, 99.3948,99.5952,99.7878,99.9136,100.036 ,100.204,100.389,100.5,100.664,100.82, 100.923,100.973,100.988,102.486,103.077 ,104.172,104.202,104.213,104.142, 104.069,103.994,103.918,103.84,103.762, 103.68,103.598,103.513,103.383,103.293, 103.201,103.061,102.965,102.816,102.715 ,102.612,102.507,102.392,102.22,102.103 ,101.922,101.734,101.595,101.465, 101.325,101.178,100.896,100.743,100.587 ,100.346,100.093,99.9174,99.7377,99.543 ,99.2387,98.9391,98.7257,98.5062, 98.1666,97.9255,97.6729,97.4165,97.2858 ,97.4268)
ORBIT_NUMBER = 25370
ORBITAL_ECCENTRICITY = 0.574
ORBITAL_INCLINATION = 87.07
ORBITAL_SEMIMAJOR_AXIS = 8772.09
PERIAPSIS_ALTITUDE = 354.59
PERIAPSIS_ARGUMENT_ANGLE = 294.67
PERIAPSIS_TIME = 2024-02-04T15:04:03.000Z
SPACECRAFT_ORIENTATION = (0.0,1.0,0.0)
^MEX_ORIENTATION_DESC = "MEX_ORIENTATION_DESC.TXT"
SPACECRAFT_POINTING_MODE = ACROSSTRACK
^MEX_POINTING_DESC = "MEX_POINTING_DESC.TXT"
RIGHT_ASCENSION = -1e+32
DECLINATION = -1e+32
OFFSET_ANGLE = 1.105
SPACECRAFT_SOLAR_DISTANCE = 2.15271e+08
TARGET_NAME = MARS
/* CAMERA DATA ELEMENTS */
DETECTOR_TEMPERATURE = 17.7588
FOCAL_PLANE_TEMPERATURE = 9.6028
INST_CMPRS_NAME = "DISCRETE COSINE TRANSFORMATION (DCT)"
INST_CMPRS_RATIO = 16.1808
INST_CMPRS_QUALITY = 0
INST_CMPRS_QUANTZ_TBL_ID = 0
INSTRUMENT_TEMPERATURE = 11.6418
LENS_TEMPERATURE = 10.2145
MACROPIXEL_SIZE = 2
MISSING_FRAMES = 0
PIXEL_SUBSAMPLING_FLAG = N
SIGNAL_CHAIN_ID = 3
/* RADIOMETRIC DATA ELEMENTS */
BANDWIDTH = 174.0
CENTER_FILTER_WAVELENGTH = 675.0
RADIANCE_OFFSET = 2.61894
RADIANCE_SCALING_FACTOR = 0.0146046
REFLECTANCE_SCALING_FACTOR = 0.00036404
MEX:REFLECTANCE_OFFSET = 0.0652806
/* IMAGE OBJECT DEFINITIONS */
OBJECT = IMAGE
  INTERCHANGE_FORMAT = BINARY
  LINES = 26448
  LINE_SAMPLES = 8483
  SAMPLE_TYPE = UNSIGNED_INTEGER
  SAMPLE_BITS = 8
  BANDS = 1
  BAND_STORAGE_TYPE = BAND_SEQUENTIAL
  MAXIMUM = 255
  MEAN = 225.049
  MINIMUM = 1
  STANDARD_DEVIATION = 46.3869
END_OBJECT = IMAGE
/* MAP OBJECT DEFINITIONS */
OBJECT = IMAGE_MAP_PROJECTION
  ^DATA_SET_MAP_PROJECTION_CATALOG= "DSMAP.CAT"
  A_AXIS_RADIUS = 3396.0
  B_AXIS_RADIUS = 3396.0
  C_AXIS_RADIUS = 3396.0
  CENTER_LATITUDE = 0.0
  CENTER_LONGITUDE = 100.0
  COORDINATE_SYSTEM_NAME = PLANETOGRAPHIC
  COORDINATE_SYSTEM_TYPE = "BODY-FIXED ROTATING"
  EASTERNMOST_LONGITUDE = 104.213
  FIRST_STANDARD_PARALLEL = "N/A"
  LINE_FIRST_PIXEL = 1
  LINE_LAST_PIXEL = 26448
  LINE_PROJECTION_OFFSET = -157770.25
  MAP_PROJECTION_ROTATION = 0.0
  MAP_PROJECTION_TYPE = SINUSOIDAL
  MAP_RESOLUTION = 2370.85521546667
  MAP_SCALE = 0.025
  MAXIMUM_LATITUDE = -66.557
  MINIMUM_LATITUDE = -77.6327
  POSITIVE_LONGITUDE_DIRECTION = EAST
  REFERENCE_LATITUDE = "N/A"
  REFERENCE_LONGITUDE = "N/A"
  SAMPLE_FIRST_PIXEL = 1
  SAMPLE_LAST_PIXEL = 8483
  SAMPLE_PROJECTION_OFFSET = 4505.25
  SECOND_STANDARD_PARALLEL = "N/A"
  WESTERNMOST_LONGITUDE = 91.0596
END_OBJECT = IMAGE_MAP_PROJECTION
END
