PDS_VERSION_ID = PDS3
/* FILE DATA ELEMENTS */
RECORD_TYPE = UNDEFINED
/* POINTERS TO DATA OBJECTS */
^IMAGE = ("HP415_0000_BL4.TIF")
/* IDENTIFICATION DATA ELEMENTS */
DATA_SET_ID = "MEX-M-HRSC-4-REFDR-MAPPROJECT-EXT9-V4.0"
DATA_SET_NAME = "MARS EXPRESS HRSC MAP PROJECTED REFDR EXTENSION9 V4.0"
DETECTOR_ID = MEX_HRSC_BLUE
EVENT_TYPE = "MARS-REGIONAL-MAPPING-Gl-Ot-Ts"
INSTRUMENT_HOST_ID = MEX
INSTRUMENT_HOST_NAME = "MARS EXPRESS"
INSTRUMENT_ID = HRSC
INSTRUMENT_NAME = "HIGH RESOLUTION STEREO CAMERA"
MISSION_NAME = "MARS EXPRESS"
MISSION_PHASE_NAME = ME_Phase_50
PROCESSING_LEVEL_ID = 4
PRODUCT_CREATION_TIME = 2024-08-19T12:52:58.000Z
PRODUCT_ID = "HP415_0000_BL4.TIF"
RELEASE_ID = 0012
REVISION_ID = 0000
/* QUALITY DATA ELEMENTS */
DATA_QUALITY_ID = 1
DATA_QUALITY_DESC = "Data calculated based on original SPICE kernels"
/* TIME DATA ELEMENTS */
SPACECRAFT_CLOCK_START_COUNT = "1/0656270315.64166"
SPACECRAFT_CLOCK_STOP_COUNT = "1/0656270532.45743"
START_TIME = 2024-02-17T17:19:51.707Z
STOP_TIME = 2024-02-17T17:22:20.053Z
/* ORBITAL DATA ELEMENTS */
ASCENDING_NODE_LONGITUDE = 102.64
MAXIMUM_RESOLUTION = 0.0564
FOOTPRINT_POINT_LATITUDE = (-80.1056,-79.9965,-79.874,-79.6929, -79.6883,-79.6501,-79.2995,-78.9465, -78.591,-78.2338,-77.8746,-77.6943, -77.5139,-77.333,-77.0609,-76.879, -76.6968,-76.4226,-76.1477,-75.9641, -75.7807,-75.5966,-75.4122,-75.2277, -75.0428,-74.8579,-74.6728,-74.4875, -74.3018,-74.116,-73.9303,-73.744, -73.4637,-73.2768,-73.0877,-72.8094, -72.6223,-72.4346,-72.2466,-71.9646, -71.7764,-71.5884,-71.4001,-71.2118, -71.0236,-70.8351,-70.5522,-70.4578, -70.4461,-70.5108,-70.5537,-70.5862, -70.6528,-70.6544,-70.6557,-70.8467, -71.0378,-71.3242,-71.6105,-71.8015, -71.9923,-72.183,-72.3735,-72.564, -72.7546,-72.9449,-73.1351,-73.4208, -73.7061,-73.8963,-74.086,-74.276, -74.4646,-74.6544,-74.8442,-75.1281, -75.3175,-75.5064,-75.7895,-75.9781, -76.2607,-76.4489,-76.6369,-76.9181, -77.1058,-77.2944,-77.4817,-77.6687, -77.9489,-78.1355,-78.3218,-78.5079, -78.7865,-78.9717,-79.1571,-79.4346, -79.619,-79.9867,-80.0785,-80.1056)
FOOTPRINT_POINT_LONGITUDE = (180.225,178.231,176.258,173.704, 173.643,173.4,174.205,174.958,175.661, 176.323,176.943,177.239,177.528,177.808 ,178.213,178.472,178.725,179.088, 179.437,179.662,179.883,180.096,180.304 ,180.506,180.703,180.896,181.084, 181.268,181.446,181.62,181.791,181.956, 182.193,182.347,182.486,182.72,182.864, 183.002,183.136,183.332,183.459,183.585 ,183.708,183.828,183.947,184.062, 184.229,184.284,184.291,185.292,186.014 ,186.597,187.924,187.958,187.969, 187.892,187.813,187.691,187.565,187.479 ,187.39,187.3,187.208,187.114,187.017, 186.919,186.818,186.662,186.5,186.388, 186.275,186.158,186.039,185.917,185.79, 185.596,185.461,185.324,185.11,184.963, 184.734,184.577,184.414,184.163,183.988 ,183.807,183.621,183.431,183.133, 182.927,182.714,182.494,182.15,181.912, 181.664,181.276,181.007,180.438,180.29, 180.225)
ORBIT_NUMBER = 25415
ORBITAL_ECCENTRICITY = 0.574
ORBITAL_INCLINATION = 87.07
ORBITAL_SEMIMAJOR_AXIS = 8761.46
PERIAPSIS_ALTITUDE = 355.23
PERIAPSIS_ARGUMENT_ANGLE = 287.13
PERIAPSIS_TIME = 2024-02-17T17:21:55.000Z
SPACECRAFT_ORIENTATION = (0.0,1.0,0.0)
^MEX_ORIENTATION_DESC = "MEX_ORIENTATION_DESC.TXT"
SPACECRAFT_POINTING_MODE = ACROSSTRACK
^MEX_POINTING_DESC = "MEX_POINTING_DESC.TXT"
RIGHT_ASCENSION = -1e+32
DECLINATION = -1e+32
OFFSET_ANGLE = 0.539
SPACECRAFT_SOLAR_DISTANCE = 2.13203e+08
TARGET_NAME = MARS
/* CAMERA DATA ELEMENTS */
DETECTOR_TEMPERATURE = 18.3705
FOCAL_PLANE_TEMPERATURE = 9.195
INST_CMPRS_NAME = "DISCRETE COSINE TRANSFORMATION (DCT)"
INST_CMPRS_RATIO = 3.8775
INST_CMPRS_QUALITY = 0
INST_CMPRS_QUANTZ_TBL_ID = 0
INSTRUMENT_TEMPERATURE = 11.6418
LENS_TEMPERATURE = 10.2145
MACROPIXEL_SIZE = 4
MISSING_FRAMES = 0
PIXEL_SUBSAMPLING_FLAG = N
SIGNAL_CHAIN_ID = 2
/* RADIOMETRIC DATA ELEMENTS */
BANDWIDTH = 76.0
CENTER_FILTER_WAVELENGTH = 444.0
RADIANCE_OFFSET = 0.696777
RADIANCE_SCALING_FACTOR = 0.00653574
REFLECTANCE_SCALING_FACTOR = 0.000305238
MEX:REFLECTANCE_OFFSET = 0.0325414
/* IMAGE OBJECT DEFINITIONS */
OBJECT = IMAGE
  INTERCHANGE_FORMAT = BINARY
  LINES = 11416
  LINE_SAMPLES = 4005
  SAMPLE_TYPE = UNSIGNED_INTEGER
  SAMPLE_BITS = 8
  BANDS = 1
  BAND_STORAGE_TYPE = BAND_SEQUENTIAL
  MAXIMUM = 255
  MEAN = 104.35
  MINIMUM = 1
  STANDARD_DEVIATION = 51.4053
END_OBJECT = IMAGE
/* MAP OBJECT DEFINITIONS */
OBJECT = IMAGE_MAP_PROJECTION
  ^DATA_SET_MAP_PROJECTION_CATALOG= "DSMAP.CAT"
  A_AXIS_RADIUS = 3396.0
  B_AXIS_RADIUS = 3396.0
  C_AXIS_RADIUS = 3396.0
  CENTER_LATITUDE = 0.0
  CENTER_LONGITUDE = 183.0
  COORDINATE_SYSTEM_NAME = PLANETOGRAPHIC
  COORDINATE_SYSTEM_TYPE = "BODY-FIXED ROTATING"
  EASTERNMOST_LONGITUDE = 187.969
  FIRST_STANDARD_PARALLEL = "N/A"
  LINE_FIRST_PIXEL = 1
  LINE_LAST_PIXEL = 11416
  LINE_PROJECTION_OFFSET = -83510.625
  MAP_PROJECTION_ROTATION = 0.0
  MAP_PROJECTION_TYPE = SINUSOIDAL
  MAP_RESOLUTION = 1185.42760773333
  MAP_SCALE = 0.05
  MAXIMUM_LATITUDE = -70.4461
  MINIMUM_LATITUDE = -80.1056
  POSITIVE_LONGITUDE_DIRECTION = EAST
  REFERENCE_LATITUDE = "N/A"
  REFERENCE_LONGITUDE = "N/A"
  SAMPLE_FIRST_PIXEL = 1
  SAMPLE_LAST_PIXEL = 4005
  SAMPLE_PROJECTION_OFFSET = 2050.625
  SECOND_STANDARD_PARALLEL = "N/A"
  WESTERNMOST_LONGITUDE = 173.4
END_OBJECT = IMAGE_MAP_PROJECTION
END
