PDS_VERSION_ID = PDS3
/* FILE DATA ELEMENTS */
RECORD_TYPE = UNDEFINED
/* POINTERS TO DATA OBJECTS */
^IMAGE = ("HP474_0000_BL4.TIF")
/* IDENTIFICATION DATA ELEMENTS */
DATA_SET_ID = "MEX-M-HRSC-4-REFDR-MAPPROJECT-EXT9-V4.0"
DATA_SET_NAME = "MARS EXPRESS HRSC MAP PROJECTED REFDR EXTENSION9 V4.0"
DETECTOR_ID = MEX_HRSC_BLUE
EVENT_TYPE = "MARS-TERMINATOR-CALIBRATION-Tc"
INSTRUMENT_HOST_ID = MEX
INSTRUMENT_HOST_NAME = "MARS EXPRESS"
INSTRUMENT_ID = HRSC
INSTRUMENT_NAME = "HIGH RESOLUTION STEREO CAMERA"
MISSION_NAME = "MARS EXPRESS"
MISSION_PHASE_NAME = ME_Phase_50
PROCESSING_LEVEL_ID = 4
PRODUCT_CREATION_TIME = 2024-08-19T12:52:58.000Z
PRODUCT_ID = "HP474_0000_BL4.TIF"
RELEASE_ID = 0012
REVISION_ID = 0000
/* QUALITY DATA ELEMENTS */
DATA_QUALITY_ID = 1
DATA_QUALITY_DESC = "Data calculated based on original SPICE kernels"
/* TIME DATA ELEMENTS */
SPACECRAFT_CLOCK_START_COUNT = "1/0657758449.00333"
SPACECRAFT_CLOCK_STOP_COUNT = "1/0657758889.00241"
START_TIME = 2024-03-05T22:43:44.209Z
STOP_TIME = 2024-03-05T22:47:27.200Z
/* ORBITAL DATA ELEMENTS */
ASCENDING_NODE_LONGITUDE = 101.63
MAXIMUM_RESOLUTION = 0.5597
FOOTPRINT_POINT_LATITUDE = (9.04788,9.74266,5.76241,6.12445, 2.41102,3.4013,0.483167,3.31863, -0.038456,2.6867,-1.14142,1.60515, -2.10705,-1.00726,-3.97439,-1.06489, -5.11219,-2.31741,-5.72571,-3.93907, -7.44791,-4.58854,-7.87625,-4.82275, -8.43684,-6.83012,-10.0471,-7.3142, -11.4033,-9.41985,-12.5663,-9.48961, -13.0802,-10.6716,-14.8602,-11.46, -15.4448,-11.7315,-15.358,-12.0424, -15.6725,-12.3995,-15.8864,-12.7816, -16.326,-13.2649,-16.758,-13.4204, -17.0947,-13.5114,-16.9571,-13.9683, -17.5124,-14.0909,-17.7926,-14.2993, -17.9755,-14.602,-17.996,-14.9437, -18.3709,-14.9522,-18.4587,-15.0981, -18.4612,-15.0562,-18.36,-15.2026, -18.5157,-15.2143,-18.2685,-15.1217, -18.4578,-15.1648,-17.489,-14.2131, -15.816,-16.5562,-16.1487,-10.2094, -5.94882,0.807477,5.26264,8.54923, 13.3116,18.161,20.634,22.9137,24.5672, 24.9196,24.7212,24.126,23.3351,21.5164, 18.647,16.24,14.0965,10.1162,9.65083, 9.04788)
FOOTPRINT_POINT_LONGITUDE = (206.523,207.483,210.557,215.404, 215.251,219.228,217.199,219.493,218.105 ,220.288,219.66,221.825,221.499,225.955 ,224.144,226.346,226.013,228.1,228.008, 231.008,230.18,232.295,230.54,232.746, 232.767,236.441,234.892,236.916,238.267 ,242.322,241.037,243.644,242.228, 246.757,248.088,249.24,249.396,250.591, 250.698,251.722,251.733,252.704,252.656 ,254.4,254.265,256.515,256.341,257.148, 256.914,257.75,258.145,259.876,259.673, 260.829,261.102,261.746,262.458,263.45, 265.341,266.853,266.807,267.878,267.868 ,268.223,268.217,269.21,271.165,273.671 ,274.702,276.097,277.665,279.347, 279.713,280.549,283.183,286.04,289.186, 289.339,289.44,287.88,286.473,283.273, 280.362,277.84,273.224,266.71,262.055, 255.959,248.123,241.829,237.774,233.368 ,229.743,223.793,218.259,214.534, 211.785,207.597,207.169,206.523)
ORBIT_NUMBER = 25474
ORBITAL_ECCENTRICITY = 0.574
ORBITAL_INCLINATION = 87.07
ORBITAL_SEMIMAJOR_AXIS = 8755.22
PERIAPSIS_ALTITUDE = 355.85
PERIAPSIS_ARGUMENT_ANGLE = 277.25
PERIAPSIS_TIME = 2024-03-05T21:27:02.000Z
SPACECRAFT_ORIENTATION = (0.0,1.0,0.0)
^MEX_ORIENTATION_DESC = "MEX_ORIENTATION_DESC.TXT"
SPACECRAFT_POINTING_MODE = FIXED
^MEX_POINTING_DESC = "MEX_POINTING_DESC.TXT"
RIGHT_ASCENSION = -1e+32
DECLINATION = -1e+32
OFFSET_ANGLE = -1e+32
SPACECRAFT_SOLAR_DISTANCE = 2.10836e+08
TARGET_NAME = MARS
/* CAMERA DATA ELEMENTS */
DETECTOR_TEMPERATURE = 18.3705
FOCAL_PLANE_TEMPERATURE = 9.195
INST_CMPRS_NAME = "DISCRETE COSINE TRANSFORMATION (DCT)"
INST_CMPRS_RATIO = 11.5937
INST_CMPRS_QUALITY = 0
INST_CMPRS_QUANTZ_TBL_ID = 0
INSTRUMENT_TEMPERATURE = 11.234
LENS_TEMPERATURE = 9.3989
MACROPIXEL_SIZE = 2
MISSING_FRAMES = 0
PIXEL_SUBSAMPLING_FLAG = N
SIGNAL_CHAIN_ID = 2
/* RADIOMETRIC DATA ELEMENTS */
BANDWIDTH = 76.0
CENTER_FILTER_WAVELENGTH = 444.0
RADIANCE_OFFSET = 0.0
RADIANCE_SCALING_FACTOR = 0.0101581
REFLECTANCE_SCALING_FACTOR = 0.000463904
MEX:REFLECTANCE_OFFSET = 0.0
/* IMAGE OBJECT DEFINITIONS */
OBJECT = IMAGE
  INTERCHANGE_FORMAT = BINARY
  LINES = 5643
  LINE_SAMPLES = 10801
  SAMPLE_TYPE = UNSIGNED_INTEGER
  SAMPLE_BITS = 8
  BANDS = 1
  BAND_STORAGE_TYPE = BAND_SEQUENTIAL
  MAXIMUM = 254
  MEAN = 189.278
  MINIMUM = 75
  STANDARD_DEVIATION = 27.1736
END_OBJECT = IMAGE
/* MAP OBJECT DEFINITIONS */
OBJECT = IMAGE_MAP_PROJECTION
  ^DATA_SET_MAP_PROJECTION_CATALOG= "DSMAP.CAT"
  A_AXIS_RADIUS = 3396.0
  B_AXIS_RADIUS = 3396.0
  C_AXIS_RADIUS = 3396.0
  CENTER_LATITUDE = 12.2938
  CENTER_LONGITUDE = 253.008
  COORDINATE_SYSTEM_NAME = PLANETOGRAPHIC
  COORDINATE_SYSTEM_TYPE = "BODY-FIXED ROTATING"
  EASTERNMOST_LONGITUDE = 289.44
  FIRST_STANDARD_PARALLEL = "N/A"
  LINE_FIRST_PIXEL = 1
  LINE_LAST_PIXEL = 5643
  LINE_PROJECTION_OFFSET = 1808.25
  MAP_PROJECTION_ROTATION = 0.0
  MAP_PROJECTION_TYPE = ORTHOGRAPHIC
  MAP_RESOLUTION = 148.178450966667
  MAP_SCALE = 0.4
  MAXIMUM_LATITUDE = 24.9196
  MINIMUM_LATITUDE = -18.5157
  POSITIVE_LONGITUDE_DIRECTION = EAST
  REFERENCE_LATITUDE = "N/A"
  REFERENCE_LONGITUDE = "N/A"
  SAMPLE_FIRST_PIXEL = 1
  SAMPLE_LAST_PIXEL = 10801
  SAMPLE_PROJECTION_OFFSET = 6026.25
  SECOND_STANDARD_PARALLEL = "N/A"
  WESTERNMOST_LONGITUDE = 206.523
END_OBJECT = IMAGE_MAP_PROJECTION
END
