PDS_VERSION_ID = PDS3
/* FILE DATA ELEMENTS */
RECORD_TYPE = UNDEFINED
/* POINTERS TO DATA OBJECTS */
^IMAGE = ("HP484_0000_GR4.TIF")
/* IDENTIFICATION DATA ELEMENTS */
DATA_SET_ID = "MEX-M-HRSC-4-REFDR-MAPPROJECT-EXT9-V4.0"
DATA_SET_NAME = "MARS EXPRESS HRSC MAP PROJECTED REFDR EXTENSION9 V4.0"
DETECTOR_ID = MEX_HRSC_GREEN
EVENT_TYPE = "MARS-REGIONAL-MAPPING-Gl-Pf-La"
INSTRUMENT_HOST_ID = MEX
INSTRUMENT_HOST_NAME = "MARS EXPRESS"
INSTRUMENT_ID = HRSC
INSTRUMENT_NAME = "HIGH RESOLUTION STEREO CAMERA"
MISSION_NAME = "MARS EXPRESS"
MISSION_PHASE_NAME = ME_Phase_50
PROCESSING_LEVEL_ID = 4
PRODUCT_CREATION_TIME = 2024-08-19T12:52:58.000Z
PRODUCT_ID = "HP484_0000_GR4.TIF"
RELEASE_ID = 0012
REVISION_ID = 0000
/* QUALITY DATA ELEMENTS */
DATA_QUALITY_ID = 1
DATA_QUALITY_DESC = "Data calculated based on original SPICE kernels"
/* TIME DATA ELEMENTS */
SPACECRAFT_CLOCK_START_COUNT = "1/0658005357.65300"
SPACECRAFT_CLOCK_STOP_COUNT = "1/0658005581.41424"
START_TIME = 2024-03-08T19:17:22.915Z
STOP_TIME = 2024-03-08T19:19:58.244Z
/* ORBITAL DATA ELEMENTS */
ASCENDING_NODE_LONGITUDE = 101.46
MAXIMUM_RESOLUTION = 0.0562
FOOTPRINT_POINT_LATITUDE = (-85.3252,-85.2106,-85.1085,-84.9231, -84.7226,-84.7161,-84.7169,-84.4729, -84.307,-84.1389,-83.9688,-83.7967, -83.5356,-83.271,-83.0927,-82.9132, -82.6419,-82.4598,-82.1847,-82.0002, -81.8149,-81.6289,-81.4422,-81.2549, -80.9729,-80.7842,-80.5952,-80.4056, -80.2156,-80.0251,-79.7388,-79.5474, -79.3558,-79.1639,-78.9718,-78.7794, -78.4903,-78.2008,-78.0075,-77.8141, -77.6205,-77.0388,-76.5533,-76.1645, -75.7755,-75.4836,-75.3863,-75.3513, -75.433,-75.4789,-75.5381,-75.5657, -75.5672,-75.5686,-75.865,-76.2604, -76.6559,-76.9526,-77.1503,-77.3482, -77.5463,-77.744,-77.9417,-78.2381, -78.4358,-78.6337,-78.8313,-79.0286, -79.2264,-79.424,-79.6216,-79.8187, -80.0159,-80.213,-80.41,-80.6069, -80.8037,-81.0002,-81.1967,-81.3929, -81.5888,-81.7848,-81.9805,-82.176, -82.3713,-82.566,-82.8573,-83.1479, -83.4374,-83.6297,-83.8216,-84.0115, -84.201,-84.4849,-84.6729,-84.8593, -85.0455,-85.23,-85.3216,-85.3252)
FOOTPRINT_POINT_LONGITUDE = (323.789,321.038,318.877,315.464,312.32 ,312.226,312.004,313.888,315.052, 316.149,317.184,318.161,319.519,320.774 ,321.559,322.302,323.348,324.0,324.923, 325.503,326.056,326.583,327.087,327.568 ,328.251,328.682,329.094,329.49,329.87, 330.235,330.757,331.088,331.406,331.712 ,332.007,332.292,332.7,333.086,333.334, 333.572,333.802,334.451,334.945,335.313 ,335.658,335.904,335.983,336.012, 337.633,338.668,340.195,341.015,341.064 ,341.08,340.922,340.703,340.469,340.283 ,340.154,340.022,339.887,339.745, 339.598,339.365,339.205,339.041,338.868 ,338.687,338.504,338.313,338.114, 337.904,337.687,337.461,337.226,336.981 ,336.725,336.457,336.177,335.885, 335.576,335.257,334.92,334.567,334.197, 333.804,333.173,332.49,331.743,331.208, 330.642,330.02,329.362,328.306,327.538, 326.705,325.823,324.865,324.357, 323.789)
ORBIT_NUMBER = 25484
ORBITAL_ECCENTRICITY = 0.574
ORBITAL_INCLINATION = 87.08
ORBITAL_SEMIMAJOR_AXIS = 8753.85
PERIAPSIS_ALTITUDE = 355.95
PERIAPSIS_ARGUMENT_ANGLE = 275.56
PERIAPSIS_TIME = 2024-03-08T19:17:39.000Z
SPACECRAFT_ORIENTATION = (0.0,1.0,0.0)
^MEX_ORIENTATION_DESC = "MEX_ORIENTATION_DESC.TXT"
SPACECRAFT_POINTING_MODE = ACROSSTRACK
^MEX_POINTING_DESC = "MEX_POINTING_DESC.TXT"
RIGHT_ASCENSION = -1e+32
DECLINATION = -1e+32
OFFSET_ANGLE = -0.3
SPACECRAFT_SOLAR_DISTANCE = 2.10479e+08
TARGET_NAME = MARS
/* CAMERA DATA ELEMENTS */
DETECTOR_TEMPERATURE = 18.1666
FOCAL_PLANE_TEMPERATURE = 8.5833
INST_CMPRS_NAME = "DISCRETE COSINE TRANSFORMATION (DCT)"
INST_CMPRS_RATIO = 8.49954
INST_CMPRS_QUALITY = 0
INST_CMPRS_QUANTZ_TBL_ID = 0
INSTRUMENT_TEMPERATURE = 11.234
LENS_TEMPERATURE = 8.5833
MACROPIXEL_SIZE = 4
MISSING_FRAMES = 0
PIXEL_SUBSAMPLING_FLAG = N
SIGNAL_CHAIN_ID = 2
/* RADIOMETRIC DATA ELEMENTS */
BANDWIDTH = 88.0
CENTER_FILTER_WAVELENGTH = 538.0
RADIANCE_OFFSET = 1.46346
RADIANCE_SCALING_FACTOR = 0.0244319
REFLECTANCE_SCALING_FACTOR = 0.000931887
MEX:REFLECTANCE_OFFSET = 0.0558194
/* IMAGE OBJECT DEFINITIONS */
OBJECT = IMAGE
  INTERCHANGE_FORMAT = BINARY
  LINES = 11891
  LINE_SAMPLES = 4555
  SAMPLE_TYPE = UNSIGNED_INTEGER
  SAMPLE_BITS = 8
  BANDS = 1
  BAND_STORAGE_TYPE = BAND_SEQUENTIAL
  MAXIMUM = 254
  MEAN = 99.7343
  MINIMUM = 1
  STANDARD_DEVIATION = 36.6946
END_OBJECT = IMAGE
/* MAP OBJECT DEFINITIONS */
OBJECT = IMAGE_MAP_PROJECTION
  ^DATA_SET_MAP_PROJECTION_CATALOG= "DSMAP.CAT"
  A_AXIS_RADIUS = 3396.0
  B_AXIS_RADIUS = 3396.0
  C_AXIS_RADIUS = 3396.0
  CENTER_LATITUDE = -80.38800000000001
  CENTER_LONGITUDE = 333.376
  COORDINATE_SYSTEM_NAME = PLANETOGRAPHIC
  COORDINATE_SYSTEM_TYPE = "BODY-FIXED ROTATING"
  EASTERNMOST_LONGITUDE = 341.08
  FIRST_STANDARD_PARALLEL = "N/A"
  LINE_FIRST_PIXEL = 1
  LINE_LAST_PIXEL = 11891
  LINE_PROJECTION_OFFSET = 5937.875
  MAP_PROJECTION_ROTATION = 0.0
  MAP_PROJECTION_TYPE = ORTHOGRAPHIC
  MAP_RESOLUTION = 1185.42760773333
  MAP_SCALE = 0.05
  MAXIMUM_LATITUDE = -75.35129999999999
  MINIMUM_LATITUDE = -85.3252
  POSITIVE_LONGITUDE_DIRECTION = EAST
  REFERENCE_LATITUDE = "N/A"
  REFERENCE_LONGITUDE = "N/A"
  SAMPLE_FIRST_PIXEL = 1
  SAMPLE_LAST_PIXEL = 4555
  SAMPLE_PROJECTION_OFFSET = 2288.625
  SECOND_STANDARD_PARALLEL = "N/A"
  WESTERNMOST_LONGITUDE = 312.004
END_OBJECT = IMAGE_MAP_PROJECTION
END
