PDS_VERSION_ID = PDS3
/* FILE DATA ELEMENTS */
RECORD_TYPE = UNDEFINED
/* POINTERS TO DATA OBJECTS */
^IMAGE = ("HP496_0000_RE4.TIF")
/* IDENTIFICATION DATA ELEMENTS */
DATA_SET_ID = "MEX-M-HRSC-4-REFDR-MAPPROJECT-EXT9-V4.0"
DATA_SET_NAME = "MARS EXPRESS HRSC MAP PROJECTED REFDR EXTENSION9 V4.0"
DETECTOR_ID = MEX_HRSC_RED
EVENT_TYPE = "MARS-REGIONAL-MAPPING-Gl-La"
INSTRUMENT_HOST_ID = MEX
INSTRUMENT_HOST_NAME = "MARS EXPRESS"
INSTRUMENT_ID = HRSC
INSTRUMENT_NAME = "HIGH RESOLUTION STEREO CAMERA"
MISSION_NAME = "MARS EXPRESS"
MISSION_PHASE_NAME = ME_Phase_50
PROCESSING_LEVEL_ID = 4
PRODUCT_CREATION_TIME = 2024-08-19T12:52:58.000Z
PRODUCT_ID = "HP496_0000_RE4.TIF"
RELEASE_ID = 0012
REVISION_ID = 0000
/* QUALITY DATA ELEMENTS */
DATA_QUALITY_ID = 1
DATA_QUALITY_DESC = "Data calculated based on original SPICE kernels"
/* TIME DATA ELEMENTS */
SPACECRAFT_CLOCK_START_COUNT = "1/0658306933.00359"
SPACECRAFT_CLOCK_STOP_COUNT = "1/0658307208.31899"
START_TIME = 2024-03-12T07:03:06.610Z
STOP_TIME = 2024-03-12T07:06:33.859Z
/* ORBITAL DATA ELEMENTS */
ASCENDING_NODE_LONGITUDE = 101.24
MAXIMUM_RESOLUTION = 0.0591
FOOTPRINT_POINT_LATITUDE = (-82.0506,-81.9323,-81.8237,-81.701, -81.6969,-81.7843,-82.0554,-82.3215, -82.5901,-82.9914,-83.258,-83.6548, -83.9151,-84.177,-84.5639,-84.8206, -85.1969,-85.4448,-85.6887,-85.9263, -86.1577,-86.382,-86.6997,-86.8964, -87.0787,-87.2427,-87.4295,-87.5913, -87.6612,-87.6592,-87.6091,-87.5458, -87.4604,-87.2953,-87.164,-86.9397, -86.7754,-86.6016,-86.4205,-86.1336, -85.9348,-85.7299,-85.417,-85.2039, -84.9873,-84.7677,-84.5459,-84.3219, -84.2092,-84.1379,-84.253,-84.3477, -84.435,-84.4365,-84.4379,-84.8015, -85.0433,-85.2843,-85.5245,-85.7626, -86.0017,-86.3576,-86.7082,-87.0572, -87.2869,-87.6229,-87.8428,-88.1588, -88.4504,-88.6242,-88.7732,-88.8882, -88.9582,-88.96,-88.8406,-88.7082, -88.5473,-88.3564,-88.1222,-87.8737, -87.6166,-87.3534,-87.0861,-86.8171, -86.4084,-86.1318,-85.8549,-85.5795, -85.1646,-84.7443,-84.4671,-84.1893, -83.9089,-83.6296,-83.2126,-82.9342, -82.6553,-82.3768,-82.2373,-82.0506)
FOOTPRINT_POINT_LONGITUDE = (31.5586,35.4079,38.1706,40.7918, 40.8716,40.9086,41.4658,42.0633,42.7071 ,43.7699,44.552,45.8523,46.8142,47.8692 ,49.644,50.9818,53.2541,54.9859,56.9216 ,59.0868,61.5231,64.2757,69.093,72.8432 ,77.0944,81.8872,89.2746,99.795,111.361 ,117.31,126.054,131.618,136.883,144.047 ,148.316,154.009,157.337,160.314, 162.966,166.51,168.591,170.491,172.982, 174.458,175.813,177.057,178.195,179.245 ,179.74,180.041,183.551,187.304,192.581 ,192.712,192.754,192.014,191.457, 190.847,190.173,189.451,188.595,187.119 ,185.391,183.151,181.324,178.058, 175.183,169.674,162.047,155.253,146.691 ,136.137,123.721,103.548,85.51,75.9446, 68.3317,62.0608,56.5525,52.3099,48.9705 ,46.2917,44.1012,42.2695,40.052,38.8558 ,37.8142,36.8864,35.7002,34.7378, 34.1555,33.6332,33.1773,32.7545,32.1769 ,31.8339,31.5216,31.2321,31.0969, 31.5586)
ORBIT_NUMBER = 25496
ORBITAL_ECCENTRICITY = 0.574
ORBITAL_INCLINATION = 87.07
ORBITAL_SEMIMAJOR_AXIS = 8754.39
PERIAPSIS_ALTITUDE = 356.03
PERIAPSIS_ARGUMENT_ANGLE = 273.56
PERIAPSIS_TIME = 2024-03-12T07:06:33.000Z
SPACECRAFT_ORIENTATION = (0.0,1.0,0.0)
^MEX_ORIENTATION_DESC = "MEX_ORIENTATION_DESC.TXT"
SPACECRAFT_POINTING_MODE = ACROSSTRACK
^MEX_POINTING_DESC = "MEX_POINTING_DESC.TXT"
RIGHT_ASCENSION = -1e+32
DECLINATION = -1e+32
OFFSET_ANGLE = -1.145
SPACECRAFT_SOLAR_DISTANCE = 2.10069e+08
TARGET_NAME = MARS
/* CAMERA DATA ELEMENTS */
DETECTOR_TEMPERATURE = 18.7783
FOCAL_PLANE_TEMPERATURE = 8.5833
INST_CMPRS_NAME = "DISCRETE COSINE TRANSFORMATION (DCT)"
INST_CMPRS_RATIO = 7.71099
INST_CMPRS_QUALITY = 0
INST_CMPRS_QUANTZ_TBL_ID = 0
INSTRUMENT_TEMPERATURE = 11.0301
LENS_TEMPERATURE = 9.195
MACROPIXEL_SIZE = 4
MISSING_FRAMES = 0
PIXEL_SUBSAMPLING_FLAG = N
SIGNAL_CHAIN_ID = 2
/* RADIOMETRIC DATA ELEMENTS */
BANDWIDTH = 48.0
CENTER_FILTER_WAVELENGTH = 748.0
RADIANCE_OFFSET = 0.579967
RADIANCE_SCALING_FACTOR = 0.00610961
REFLECTANCE_SCALING_FACTOR = 0.00061527
MEX:REFLECTANCE_OFFSET = 0.0584057
/* IMAGE OBJECT DEFINITIONS */
OBJECT = IMAGE
  INTERCHANGE_FORMAT = BINARY
  LINES = 8175
  LINE_SAMPLES = 14816
  SAMPLE_TYPE = UNSIGNED_INTEGER
  SAMPLE_BITS = 8
  BANDS = 1
  BAND_STORAGE_TYPE = BAND_SEQUENTIAL
  MAXIMUM = 255
  MEAN = 115.042
  MINIMUM = 1
  STANDARD_DEVIATION = 41.9246
END_OBJECT = IMAGE
/* MAP OBJECT DEFINITIONS */
OBJECT = IMAGE_MAP_PROJECTION
  ^DATA_SET_MAP_PROJECTION_CATALOG= "DSMAP.CAT"
  A_AXIS_RADIUS = 3396.0
  B_AXIS_RADIUS = 3396.0
  C_AXIS_RADIUS = 3396.0
  CENTER_LATITUDE = -88.1121
  CENTER_LONGITUDE = 88.25539999999999
  COORDINATE_SYSTEM_NAME = PLANETOGRAPHIC
  COORDINATE_SYSTEM_TYPE = "BODY-FIXED ROTATING"
  EASTERNMOST_LONGITUDE = 192.754
  FIRST_STANDARD_PARALLEL = "N/A"
  LINE_FIRST_PIXEL = 1
  LINE_LAST_PIXEL = 8175
  LINE_PROJECTION_OFFSET = 4314.625
  MAP_PROJECTION_ROTATION = 0.0
  MAP_PROJECTION_TYPE = ORTHOGRAPHIC
  MAP_RESOLUTION = 1185.42760773333
  MAP_SCALE = 0.05
  MAXIMUM_LATITUDE = -81.6969
  MINIMUM_LATITUDE = -88.95999999999999
  POSITIVE_LONGITUDE_DIRECTION = EAST
  REFERENCE_LATITUDE = "N/A"
  REFERENCE_LONGITUDE = "N/A"
  SAMPLE_FIRST_PIXEL = 1
  SAMPLE_LAST_PIXEL = 14816
  SAMPLE_PROJECTION_OFFSET = 7802.375
  SECOND_STANDARD_PARALLEL = "N/A"
  WESTERNMOST_LONGITUDE = 31.0969
END_OBJECT = IMAGE_MAP_PROJECTION
END
