PDS_VERSION_ID = PDS3
/* FILE DATA ELEMENTS */
RECORD_TYPE = UNDEFINED
/* POINTERS TO DATA OBJECTS */
^IMAGE = ("HP532_0000_IR4.TIF")
/* IDENTIFICATION DATA ELEMENTS */
DATA_SET_ID = "MEX-M-HRSC-4-REFDR-MAPPROJECT-EXT9-V4.0"
DATA_SET_NAME = "MARS EXPRESS HRSC MAP PROJECTED REFDR EXTENSION9 V4.0"
DETECTOR_ID = MEX_HRSC_IR
EVENT_TYPE = "MARS-REGIONAL-MAPPING-Gl-Pf-La"
INSTRUMENT_HOST_ID = MEX
INSTRUMENT_HOST_NAME = "MARS EXPRESS"
INSTRUMENT_ID = HRSC
INSTRUMENT_NAME = "HIGH RESOLUTION STEREO CAMERA"
MISSION_NAME = "MARS EXPRESS"
MISSION_PHASE_NAME = ME_Phase_50
PROCESSING_LEVEL_ID = 4
PRODUCT_CREATION_TIME = 2024-08-20T18:09:15.000Z
PRODUCT_ID = "HP532_0000_IR4.TIF"
RELEASE_ID = 0013
REVISION_ID = 0000
/* QUALITY DATA ELEMENTS */
DATA_QUALITY_ID = 1
DATA_QUALITY_DESC = "Data calculated based on original SPICE kernels"
/* TIME DATA ELEMENTS */
SPACECRAFT_CLOCK_START_COUNT = "1/0659212414.65106"
SPACECRAFT_CLOCK_STOP_COUNT = "1/0659212644.13678"
START_TIME = 2024-03-22T18:35:23.312Z
STOP_TIME = 2024-03-22T18:38:02.343Z
/* ORBITAL DATA ELEMENTS */
ASCENDING_NODE_LONGITUDE = 100.63
MAXIMUM_RESOLUTION = 0.0614
FOOTPRINT_POINT_LATITUDE = (-85.4884,-85.2862,-85.1083,-84.9136, -84.9073,-84.9777,-84.8109,-84.6407, -84.4676,-84.2932,-84.1174,-83.9402, -83.762,-83.4927,-83.3089,-83.126, -82.9439,-82.7613,-82.5782,-82.3025, -82.1179,-81.9323,-81.7467,-81.5611, -81.3752,-81.19,-81.0042,-80.8169, -80.6296,-80.4422,-80.2555,-79.8868, -79.6992,-79.4181,-79.0405,-78.6692, -78.3893,-78.0154,-77.7298,-77.5382, -77.3467,-77.0593,-76.7705,-76.4774, -76.2807,-76.085,-75.7982,-75.7, -75.6186,-75.7185,-75.7573,-75.8018, -75.83,-75.8645,-75.8663,-75.8678, -76.0662,-76.265,-76.4638,-76.6564, -76.8556,-77.0532,-77.2478,-77.443, -77.6378,-77.8325,-78.0274,-78.222, -78.5993,-78.9812,-79.3633,-79.5558, -80.0352,-80.3233,-80.5156,-80.7073, -80.8993,-81.092,-81.3805,-81.5732, -81.8624,-82.0551,-82.2478,-82.4407, -82.6336,-82.9235,-83.1166,-83.3085, -83.5,-83.6917,-83.8836,-84.0755, -84.2672,-84.5547,-84.7459,-84.9371, -85.1281,-85.4112,-85.5054,-85.4884)
FOOTPRINT_POINT_LONGITUDE = (107.53,101.806,97.8745,94.2954,94.1889 ,93.784,94.9257,96.0007,97.0126,97.9607 ,98.8507,99.688,100.476,101.574,102.264 ,102.911,103.52,104.097,104.644,105.414 ,105.896,106.357,106.795,107.212,107.61 ,107.989,108.352,108.701,109.036, 109.356,109.662,110.233,110.505,110.892 ,111.379,111.825,112.14,112.535,112.82, 113.002,113.179,113.433,113.676,113.91, 114.061,114.207,114.414,114.482,114.538 ,116.575,117.477,118.624,119.437, 120.556,120.616,120.636,120.559,120.48, 120.399,120.296,120.211,120.132,120.042 ,119.95,119.853,119.751,119.646,119.536 ,119.303,119.066,118.809,118.678, 118.317,118.083,117.918,117.744,117.563 ,117.376,117.076,116.866,116.531, 116.293,116.043,115.78,115.503,115.061, 114.744,114.403,114.04,113.656,113.248, 112.815,112.352,111.597,111.046,110.456 ,109.818,108.749,108.363,107.53)
ORBIT_NUMBER = 25532
ORBITAL_ECCENTRICITY = 0.574
ORBITAL_INCLINATION = 87.08
ORBITAL_SEMIMAJOR_AXIS = 8753.98
PERIAPSIS_ALTITUDE = 356.64
PERIAPSIS_ARGUMENT_ANGLE = 267.53
PERIAPSIS_TIME = 2024-03-22T18:33:13.000Z
SPACECRAFT_ORIENTATION = (0.0,1.0,0.0)
^MEX_ORIENTATION_DESC = "MEX_ORIENTATION_DESC.TXT"
SPACECRAFT_POINTING_MODE = ACROSSTRACK
^MEX_POINTING_DESC = "MEX_POINTING_DESC.TXT"
RIGHT_ASCENSION = -1e+32
DECLINATION = -1e+32
OFFSET_ANGLE = -0.808
SPACECRAFT_SOLAR_DISTANCE = 2.08966e+08
TARGET_NAME = MARS
/* CAMERA DATA ELEMENTS */
DETECTOR_TEMPERATURE = 17.351
FOCAL_PLANE_TEMPERATURE = 8.9911
INST_CMPRS_NAME = "DISCRETE COSINE TRANSFORMATION (DCT)"
INST_CMPRS_RATIO = 11.0719
INST_CMPRS_QUALITY = 0
INST_CMPRS_QUANTZ_TBL_ID = 0
INSTRUMENT_TEMPERATURE = 11.6418
LENS_TEMPERATURE = 9.195
MACROPIXEL_SIZE = 4
MISSING_FRAMES = 0
PIXEL_SUBSAMPLING_FLAG = N
SIGNAL_CHAIN_ID = 2
/* RADIOMETRIC DATA ELEMENTS */
BANDWIDTH = 81.0
CENTER_FILTER_WAVELENGTH = 955.5
RADIANCE_OFFSET = 0.951046
RADIANCE_SCALING_FACTOR = 0.00757574
REFLECTANCE_SCALING_FACTOR = 0.00071368
MEX:REFLECTANCE_OFFSET = 0.0895942
/* IMAGE OBJECT DEFINITIONS */
OBJECT = IMAGE
  INTERCHANGE_FORMAT = BINARY
  LINES = 11769
  LINE_SAMPLES = 4092
  SAMPLE_TYPE = UNSIGNED_INTEGER
  SAMPLE_BITS = 8
  BANDS = 1
  BAND_STORAGE_TYPE = BAND_SEQUENTIAL
  MAXIMUM = 255
  MEAN = 77.154
  MINIMUM = 1
  STANDARD_DEVIATION = 49.2387
END_OBJECT = IMAGE
/* MAP OBJECT DEFINITIONS */
OBJECT = IMAGE_MAP_PROJECTION
  ^DATA_SET_MAP_PROJECTION_CATALOG= "DSMAP.CAT"
  A_AXIS_RADIUS = 3396.0
  B_AXIS_RADIUS = 3396.0
  C_AXIS_RADIUS = 3396.0
  CENTER_LATITUDE = -80.7038
  CENTER_LONGITUDE = 113.218
  COORDINATE_SYSTEM_NAME = PLANETOGRAPHIC
  COORDINATE_SYSTEM_TYPE = "BODY-FIXED ROTATING"
  EASTERNMOST_LONGITUDE = 120.636
  FIRST_STANDARD_PARALLEL = "N/A"
  LINE_FIRST_PIXEL = 1
  LINE_LAST_PIXEL = 11769
  LINE_PROJECTION_OFFSET = 5990.625
  MAP_PROJECTION_ROTATION = 0.0
  MAP_PROJECTION_TYPE = ORTHOGRAPHIC
  MAP_RESOLUTION = 1185.42760773333
  MAP_SCALE = 0.05
  MAXIMUM_LATITUDE = -75.6186
  MINIMUM_LATITUDE = -85.50539999999999
  POSITIVE_LONGITUDE_DIRECTION = EAST
  REFERENCE_LATITUDE = "N/A"
  REFERENCE_LONGITUDE = "N/A"
  SAMPLE_FIRST_PIXEL = 1
  SAMPLE_LAST_PIXEL = 4092
  SAMPLE_PROJECTION_OFFSET = 1986.125
  SECOND_STANDARD_PARALLEL = "N/A"
  WESTERNMOST_LONGITUDE = 93.78400000000001
END_OBJECT = IMAGE_MAP_PROJECTION
END
