PDS_VERSION_ID = PDS3
/* FILE DATA ELEMENTS */
RECORD_TYPE = UNDEFINED
/* POINTERS TO DATA OBJECTS */
^IMAGE = ("HP596_0000_ND4.TIF")
/* IDENTIFICATION DATA ELEMENTS */
DATA_SET_ID = "MEX-M-HRSC-4-REFDR-MAPPROJECT-EXT9-V4.0"
DATA_SET_NAME = "MARS EXPRESS HRSC MAP PROJECTED REFDR EXTENSION9 V4.0"
DETECTOR_ID = MEX_HRSC_NADIR
EVENT_TYPE = "MARS-LOCAL-CARTOGRAPHY-Pf-Ot"
INSTRUMENT_HOST_ID = MEX
INSTRUMENT_HOST_NAME = "MARS EXPRESS"
INSTRUMENT_ID = HRSC
INSTRUMENT_NAME = "HIGH RESOLUTION STEREO CAMERA"
MISSION_NAME = "MARS EXPRESS"
MISSION_PHASE_NAME = ME_Phase_50
PROCESSING_LEVEL_ID = 4
PRODUCT_CREATION_TIME = 2024-08-20T18:09:15.000Z
PRODUCT_ID = "HP596_0000_ND4.TIF"
RELEASE_ID = 0013
REVISION_ID = 0000
/* QUALITY DATA ELEMENTS */
DATA_QUALITY_ID = 1
DATA_QUALITY_DESC = "Data calculated based on original SPICE kernels"
/* TIME DATA ELEMENTS */
SPACECRAFT_CLOCK_START_COUNT = "1/0660821873.00355"
SPACECRAFT_CLOCK_STOP_COUNT = "1/0660822202.37948"
START_TIME = 2024-04-10T09:39:15.375Z
STOP_TIME = 2024-04-10T09:43:15.359Z
/* ORBITAL DATA ELEMENTS */
ASCENDING_NODE_LONGITUDE = 99.52
MAXIMUM_RESOLUTION = 0.0175
FOOTPRINT_POINT_LATITUDE = (-84.1142,-83.8836,-83.6244,-83.3003, -83.2908,-83.2793,-82.9423,-82.5957, -82.2408,-81.7462,-81.239,-80.8482, -80.5816,-80.3132,-79.9071,-79.4881, -79.2069,-78.9243,-78.4904,-78.1984, -77.9055,-77.4559,-77.1533,-76.8502, -76.3844,-76.0728,-75.7576,-75.4384, -75.1186,-74.7934,-74.4654,-73.9681, -73.632,-73.2946,-72.9503,-72.6053, -72.0794,-71.7267,-71.3673,-71.0069, -70.6409,-70.2732,-69.8997,-69.5256, -69.1418,-68.7573,-68.3667,-67.9733, -67.7747,-67.7586,-67.8605,-67.936, -68.0124,-68.062,-68.1031,-68.1056, -68.1071,-68.7038,-69.0977,-69.4847, -69.8706,-70.2505,-70.6271,-70.9989, -71.3687,-71.7331,-72.2755,-72.6326, -73.1624,-73.5116,-73.8574,-74.1993, -74.5412,-74.8763,-75.2106,-75.5426, -75.8695,-76.1961,-76.5194,-76.8386, -77.1574,-77.4727,-77.9394,-78.2499, -78.5558,-78.8587,-79.1605,-79.6091, -79.9034,-80.197,-80.6329,-80.9179, -81.2021,-81.7652,-82.4477,-82.9858, -83.3758,-84.0145,-84.1397,-84.1142)
FOOTPRINT_POINT_LONGITUDE = (39.8203,35.98,32.379,28.6115,28.511, 27.8589,30.0552,32.0489,33.8514,36.0566 ,38.0078,39.3413,40.1761,40.9618, 42.0593,43.0929,43.7324,44.3412,45.2081 ,45.7498,46.2702,47.0075,47.4571, 47.8944,48.5295,48.9264,49.3146,49.6892 ,50.0452,50.3848,50.7126,51.173,51.4709 ,51.7499,52.0248,52.287,52.6648,52.9058 ,53.139,53.3635,53.5806,53.792,53.9946, 54.1967,54.3786,54.5583,54.7362,54.9051 ,54.991,54.9977,56.3362,57.4481,58.7236 ,59.663,60.5446,60.5996,60.6265,60.4395 ,60.3095,60.1763,60.0375,59.8949, 59.7479,59.5963,59.4388,59.2767,59.0218 ,58.8444,58.5655,58.3717,58.1708, 57.9626,57.7442,57.5195,57.2851,57.0407 ,56.7877,56.5223,56.246,55.9589,55.6569 ,55.3421,54.8436,54.4884,54.1191, 53.7314,53.3216,52.6673,52.2036,51.7113 ,50.9193,50.3573,49.7579,48.4374, 46.5483,44.7727,43.2842,40.3684,39.7104 ,39.8203)
ORBIT_NUMBER = 25596
ORBITAL_ECCENTRICITY = 0.574
ORBITAL_INCLINATION = 87.08
ORBITAL_SEMIMAJOR_AXIS = 8758.08
PERIAPSIS_ALTITUDE = 357.69
PERIAPSIS_ARGUMENT_ANGLE = 256.84
PERIAPSIS_TIME = 2024-04-10T09:34:15.000Z
SPACECRAFT_ORIENTATION = (0.0,1.0,0.0)
^MEX_ORIENTATION_DESC = "MEX_ORIENTATION_DESC.TXT"
SPACECRAFT_POINTING_MODE = INERT
^MEX_POINTING_DESC = "MEX_POINTING_DESC.TXT"
RIGHT_ASCENSION = 323.953
DECLINATION = 38.942
OFFSET_ANGLE = -1e+32
SPACECRAFT_SOLAR_DISTANCE = 2.07513e+08
TARGET_NAME = MARS
/* CAMERA DATA ELEMENTS */
DETECTOR_TEMPERATURE = 18.3705
FOCAL_PLANE_TEMPERATURE = 8.5833
INST_CMPRS_NAME = "DISCRETE COSINE TRANSFORMATION (DCT)"
INST_CMPRS_RATIO = 6.89845
INST_CMPRS_QUALITY = 0
INST_CMPRS_QUANTZ_TBL_ID = 0
INSTRUMENT_TEMPERATURE = 11.6418
LENS_TEMPERATURE = 8.7872
MACROPIXEL_SIZE = 1
MISSING_FRAMES = 0
PIXEL_SUBSAMPLING_FLAG = N
SIGNAL_CHAIN_ID = 0
/* RADIOMETRIC DATA ELEMENTS */
BANDWIDTH = 177.0
CENTER_FILTER_WAVELENGTH = 677.5
RADIANCE_OFFSET = 4.84953
RADIANCE_SCALING_FACTOR = 0.0485406
REFLECTANCE_SCALING_FACTOR = 0.0011104
MEX:REFLECTANCE_OFFSET = 0.110937
/* IMAGE OBJECT DEFINITIONS */
OBJECT = IMAGE
  INTERCHANGE_FORMAT = BINARY
  LINES = 77946
  LINE_SAMPLES = 28136
  SAMPLE_TYPE = UNSIGNED_INTEGER
  SAMPLE_BITS = 8
  BANDS = 1
  BAND_STORAGE_TYPE = BAND_SEQUENTIAL
  MAXIMUM = 255
  MEAN = 152.34
  MINIMUM = 1
  STANDARD_DEVIATION = 74.4155
END_OBJECT = IMAGE
/* MAP OBJECT DEFINITIONS */
OBJECT = IMAGE_MAP_PROJECTION
  ^DATA_SET_MAP_PROJECTION_CATALOG= "DSMAP.CAT"
  A_AXIS_RADIUS = 3396.0
  B_AXIS_RADIUS = 3396.0
  C_AXIS_RADIUS = 3396.0
  CENTER_LATITUDE = -76.7992
  CENTER_LONGITUDE = 52.0483
  COORDINATE_SYSTEM_NAME = PLANETOGRAPHIC
  COORDINATE_SYSTEM_TYPE = "BODY-FIXED ROTATING"
  EASTERNMOST_LONGITUDE = 60.6265
  FIRST_STANDARD_PARALLEL = "N/A"
  LINE_FIRST_PIXEL = 1
  LINE_LAST_PIXEL = 77946
  LINE_PROJECTION_OFFSET = 42558.0
  MAP_PROJECTION_ROTATION = 0.0
  MAP_PROJECTION_TYPE = ORTHOGRAPHIC
  MAP_RESOLUTION = 4741.71043093333
  MAP_SCALE = 0.0125
  MAXIMUM_LATITUDE = -67.7586
  MINIMUM_LATITUDE = -84.1397
  POSITIVE_LONGITUDE_DIRECTION = EAST
  REFERENCE_LATITUDE = "N/A"
  REFERENCE_LONGITUDE = "N/A"
  SAMPLE_FIRST_PIXEL = 1
  SAMPLE_LAST_PIXEL = 28136
  SAMPLE_PROJECTION_OFFSET = 13024.0
  SECOND_STANDARD_PARALLEL = "N/A"
  WESTERNMOST_LONGITUDE = 27.8589
END_OBJECT = IMAGE_MAP_PROJECTION
END
