PDS_VERSION_ID = PDS3
/* FILE DATA ELEMENTS */
RECORD_TYPE = UNDEFINED
/* POINTERS TO DATA OBJECTS */
^IMAGE = ("HP632_0000_P24.TIF")
/* IDENTIFICATION DATA ELEMENTS */
DATA_SET_ID = "MEX-M-HRSC-4-REFDR-MAPPROJECT-EXT9-V4.0"
DATA_SET_NAME = "MARS EXPRESS HRSC MAP PROJECTED REFDR EXTENSION9 V4.0"
DETECTOR_ID = MEX_HRSC_P2
EVENT_TYPE = "MARS-REGIONAL-MAPPING-Gl-Pf-La"
INSTRUMENT_HOST_ID = MEX
INSTRUMENT_HOST_NAME = "MARS EXPRESS"
INSTRUMENT_ID = HRSC
INSTRUMENT_NAME = "HIGH RESOLUTION STEREO CAMERA"
MISSION_NAME = "MARS EXPRESS"
MISSION_PHASE_NAME = ME_Phase_50
PROCESSING_LEVEL_ID = 4
PRODUCT_CREATION_TIME = 2024-08-21T01:11:59.000Z
PRODUCT_ID = "HP632_0000_P24.TIF"
RELEASE_ID = 0014
REVISION_ID = 0000
/* QUALITY DATA ELEMENTS */
DATA_QUALITY_ID = 1
DATA_QUALITY_DESC = "Data calculated based on original SPICE kernels"
/* TIME DATA ELEMENTS */
SPACECRAFT_CLOCK_START_COUNT = "1/0661727003.64154"
SPACECRAFT_CLOCK_STOP_COUNT = "1/0661727274.48219"
START_TIME = 2024-04-20T21:05:13.651Z
STOP_TIME = 2024-04-20T21:08:21.247Z
/* ORBITAL DATA ELEMENTS */
ASCENDING_NODE_LONGITUDE = 98.91
MAXIMUM_RESOLUTION = 0.0341
FOOTPRINT_POINT_LATITUDE = (-84.3865,-84.6943,-84.9627,-85.1536, -85.1597,-85.1175,-85.6602,-86.0175, -86.279,-86.4487,-86.6135,-86.8528, -87.007,-87.1545,-87.2926,-87.4205, -87.5918,-87.6898,-87.8049,-87.8578, -87.8982,-87.8976,-87.8741,-87.7982, -87.6759,-87.5723,-87.4532,-87.3218, -87.0995,-86.9389,-86.771,-86.5968, -86.415,-86.2276,-86.0341,-85.7367, -85.532,-85.3253,-85.1178,-84.9048, -84.689,-84.4733,-84.1442,-83.8093, -83.5841,-83.353,-83.1222,-83.006, -83.0049,-82.839,-82.7106,-82.5893, -82.417,-82.308,-82.2995,-82.2969, -82.6135,-82.8233,-83.0277,-83.2301, -83.4305,-83.7204,-83.9101,-84.1875, -84.3652,-84.6241,-84.7907,-84.95, -85.1047,-85.3246,-85.46,-85.5879, -85.7081,-85.8197,-85.9201,-86.0102, -86.09,-86.1586,-86.2383,-86.2894, -86.3078,-86.3135,-86.3062,-86.2872, -86.2335,-86.1832,-86.1218,-86.0504, -85.9706,-85.8827,-85.7327,-85.6222, -85.4464,-85.1909,-85.0549,-84.9141, -84.6232,-84.3959,-84.3185,-84.3865)
FOOTPRINT_POINT_LONGITUDE = (211.774,207.609,203.089,199.094, 198.951,198.265,201.713,204.579,207.109 ,209.003,211.067,214.58,217.265,220.279 ,223.573,227.186,233.383,238.046, 245.715,251.211,259.89,265.86,271.766, 280.224,288.035,292.786,297.118,301.029 ,306.25,309.317,312.064,314.53,316.777, 318.815,320.658,323.106,324.578,325.916 ,327.139,328.273,329.322,330.287, 331.609,332.798,333.518,334.199,334.834 ,335.135,335.138,330.978,328.314, 326.123,323.398,321.84,321.72,321.676, 320.368,319.419,318.426,317.371,316.247 ,314.469,313.184,311.107,309.63,307.24, 305.509,303.687,301.722,298.561,296.337 ,293.982,291.478,288.822,286.058, 283.199,280.202,277.087,272.28,267.315, 263.949,260.565,257.22,253.946,249.064, 245.905,242.841,239.934,237.153,234.498 ,230.711,228.33,225.055,221.078,219.247 ,217.516,214.377,212.254,211.584, 211.774)
ORBIT_NUMBER = 25632
ORBITAL_ECCENTRICITY = 0.573
ORBITAL_INCLINATION = 87.09
ORBITAL_SEMIMAJOR_AXIS = 8763.43
PERIAPSIS_ALTITUDE = 359.35
PERIAPSIS_ARGUMENT_ANGLE = 250.78
PERIAPSIS_TIME = 2024-04-20T21:00:58.000Z
SPACECRAFT_ORIENTATION = (0.0,-1.0,0.0)
^MEX_ORIENTATION_DESC = "MEX_ORIENTATION_DESC.TXT"
SPACECRAFT_POINTING_MODE = NADIR
^MEX_POINTING_DESC = "MEX_POINTING_DESC.TXT"
RIGHT_ASCENSION = -1e+32
DECLINATION = -1e+32
OFFSET_ANGLE = -1e+32
SPACECRAFT_SOLAR_DISTANCE = 2.07003e+08
TARGET_NAME = MARS
/* CAMERA DATA ELEMENTS */
DETECTOR_TEMPERATURE = 18.5744
FOCAL_PLANE_TEMPERATURE = 8.5833
INST_CMPRS_NAME = "DISCRETE COSINE TRANSFORMATION (DCT)"
INST_CMPRS_RATIO = 4.66324
INST_CMPRS_QUALITY = 0
INST_CMPRS_QUANTZ_TBL_ID = 0
INSTRUMENT_TEMPERATURE = 11.4379
LENS_TEMPERATURE = 7.9716
MACROPIXEL_SIZE = 2
MISSING_FRAMES = 0
PIXEL_SUBSAMPLING_FLAG = N
SIGNAL_CHAIN_ID = 3
/* RADIOMETRIC DATA ELEMENTS */
BANDWIDTH = 177.0
CENTER_FILTER_WAVELENGTH = 676.5
RADIANCE_OFFSET = 3.70005
RADIANCE_SCALING_FACTOR = 0.0598259
REFLECTANCE_SCALING_FACTOR = 0.00135924
MEX:REFLECTANCE_OFFSET = 0.0840651
/* IMAGE OBJECT DEFINITIONS */
OBJECT = IMAGE
  INTERCHANGE_FORMAT = BINARY
  LINES = 11434
  LINE_SAMPLES = 26097
  SAMPLE_TYPE = UNSIGNED_INTEGER
  SAMPLE_BITS = 8
  BANDS = 1
  BAND_STORAGE_TYPE = BAND_SEQUENTIAL
  MAXIMUM = 255
  MEAN = 135.937
  MINIMUM = 1
  STANDARD_DEVIATION = 54.8925
END_OBJECT = IMAGE
/* MAP OBJECT DEFINITIONS */
OBJECT = IMAGE_MAP_PROJECTION
  ^DATA_SET_MAP_PROJECTION_CATALOG= "DSMAP.CAT"
  A_AXIS_RADIUS = 3396.0
  B_AXIS_RADIUS = 3396.0
  C_AXIS_RADIUS = 3396.0
  CENTER_LATITUDE = -86.9644
  CENTER_LONGITUDE = 279.058
  COORDINATE_SYSTEM_NAME = PLANETOGRAPHIC
  COORDINATE_SYSTEM_TYPE = "BODY-FIXED ROTATING"
  EASTERNMOST_LONGITUDE = 335.138
  FIRST_STANDARD_PARALLEL = "N/A"
  LINE_FIRST_PIXEL = 1
  LINE_LAST_PIXEL = 11434
  LINE_PROJECTION_OFFSET = 6166.25
  MAP_PROJECTION_ROTATION = 0.0
  MAP_PROJECTION_TYPE = ORTHOGRAPHIC
  MAP_RESOLUTION = 2370.85521546667
  MAP_SCALE = 0.025
  MAXIMUM_LATITUDE = -82.29689999999999
  MINIMUM_LATITUDE = -87.8982
  POSITIVE_LONGITUDE_DIRECTION = EAST
  REFERENCE_LATITUDE = "N/A"
  REFERENCE_LONGITUDE = "N/A"
  SAMPLE_FIRST_PIXEL = 1
  SAMPLE_LAST_PIXEL = 26097
  SAMPLE_PROJECTION_OFFSET = 12411.75
  SECOND_STANDARD_PARALLEL = "N/A"
  WESTERNMOST_LONGITUDE = 198.265
END_OBJECT = IMAGE_MAP_PROJECTION
END
