PDS_VERSION_ID = PDS3
/* FILE DATA ELEMENTS */
RECORD_TYPE = UNDEFINED
/* POINTERS TO DATA OBJECTS */
^IMAGE = ("HP635_0006_GR4.TIF")
/* IDENTIFICATION DATA ELEMENTS */
DATA_SET_ID = "MEX-M-HRSC-4-REFDR-MAPPROJECT-EXT9-V4.0"
DATA_SET_NAME = "MARS EXPRESS HRSC MAP PROJECTED REFDR EXTENSION9 V4.0"
DETECTOR_ID = MEX_HRSC_GREEN
EVENT_TYPE = "MARS-REGIONAL-MAPPING-Gl-Pf-La"
INSTRUMENT_HOST_ID = MEX
INSTRUMENT_HOST_NAME = "MARS EXPRESS"
INSTRUMENT_ID = HRSC
INSTRUMENT_NAME = "HIGH RESOLUTION STEREO CAMERA"
MISSION_NAME = "MARS EXPRESS"
MISSION_PHASE_NAME = ME_Phase_50
PROCESSING_LEVEL_ID = 4
PRODUCT_CREATION_TIME = 2024-08-21T01:11:59.000Z
PRODUCT_ID = "HP635_0006_GR4.TIF"
RELEASE_ID = 0014
REVISION_ID = 0000
/* QUALITY DATA ELEMENTS */
DATA_QUALITY_ID = 1
DATA_QUALITY_DESC = "Data calculated based on original SPICE kernels"
/* TIME DATA ELEMENTS */
SPACECRAFT_CLOCK_START_COUNT = "1/0661802500.59125"
SPACECRAFT_CLOCK_STOP_COUNT = "1/0661802825.52566"
START_TIME = 2024-04-21T18:02:57.381Z
STOP_TIME = 2024-04-21T18:06:24.567Z
/* ORBITAL DATA ELEMENTS */
ASCENDING_NODE_LONGITUDE = 98.85
MAXIMUM_RESOLUTION = 0.0686
FOOTPRINT_POINT_LATITUDE = (-86.2742,-86.5444,-86.8389,-87.1689, -87.3892,-87.3983,-87.411,-87.6895, -88.0085,-88.2371,-88.3266,-88.3104, -88.1437,-87.8552,-87.4857,-87.2811, -87.0632,-86.8362,-86.6023,-86.3642, -86.1184,-85.8659,-85.6105,-85.3532, -85.0904,-84.8224,-84.5531,-84.2825, -84.0062,-83.7271,-83.4471,-83.0103, -82.7222,-82.4334,-82.1409,-81.8448, -81.5483,-81.2487,-80.9451,-80.6412, -80.3332,-80.0224,-79.7113,-79.2359, -78.9176,-78.4324,-78.1075,-77.7766, -77.6107,-77.4607,-77.4188,-77.3543, -77.2666,-77.2015,-77.0884,-77.0834, -77.0833,-77.4075,-77.7301,-78.0474, -78.3632,-78.6736,-78.9821,-79.2887, -79.5896,-79.8894,-80.1856,-80.4775, -80.7683,-81.0541,-81.336,-81.6165, -81.8926,-82.1641,-82.4334,-82.7089, -83.097,-83.3526,-83.6033,-83.8473, -84.0876,-84.4405,-84.6649,-84.884, -85.0971,-85.3028,-85.4971,-85.7726, -85.9439,-86.1028,-86.3768,-86.4914, -86.6682,-86.7659,-86.7857,-86.7157, -86.5752,-86.3682,-86.3074,-86.2742)
FOOTPRINT_POINT_LONGITUDE = (284.401,281.622,277.905,272.477, 267.703,267.477,266.236,272.276,282.836 ,296.709,309.243,326.987,342.924, 355.658,365.06,368.757,371.984,374.772, 377.174,379.286,381.125,382.77,384.226, 385.542,386.706,387.761,388.72,389.599, 390.397,391.13,391.808,392.748,393.298, 393.812,394.292,394.741,395.155,395.546 ,395.917,396.263,396.592,396.902, 397.192,397.601,397.858,398.217,398.443 ,398.664,398.77,398.862,397.311,395.448 ,393.368,392.061,390.058,389.979, 389.951,389.588,389.207,388.811,388.392 ,387.956,387.497,387.012,386.507,385.97 ,385.406,384.812,384.18,383.514,382.809 ,382.056,381.26,380.415,379.508,378.503 ,376.93,375.779,374.544,373.228,371.801 ,369.446,367.736,365.876,363.85,361.651 ,359.3,355.378,352.474,349.341,342.424, 338.581,330.25,321.36,314.459,303.204, 294.886,287.364,285.624,284.401)
ORBIT_NUMBER = 25635
ORBITAL_ECCENTRICITY = 0.574
ORBITAL_INCLINATION = 87.07
ORBITAL_SEMIMAJOR_AXIS = 8764.72
PERIAPSIS_ALTITUDE = 359.33
PERIAPSIS_ARGUMENT_ANGLE = 250.28
PERIAPSIS_TIME = 2024-04-21T17:58:09.000Z
SPACECRAFT_ORIENTATION = (0.0,-1.0,0.0)
^MEX_ORIENTATION_DESC = "MEX_ORIENTATION_DESC.TXT"
SPACECRAFT_POINTING_MODE = INERT
^MEX_POINTING_DESC = "MEX_POINTING_DESC.TXT"
RIGHT_ASCENSION = 310.375
DECLINATION = 44.053
OFFSET_ANGLE = -1e+32
SPACECRAFT_SOLAR_DISTANCE = 2.06971e+08
TARGET_NAME = MARS
/* CAMERA DATA ELEMENTS */
DETECTOR_TEMPERATURE = 0.0
FOCAL_PLANE_TEMPERATURE = 0.0
INST_CMPRS_NAME = "DISCRETE COSINE TRANSFORMATION (DCT)"
INST_CMPRS_RATIO = 5.74945
INST_CMPRS_QUALITY = 0
INST_CMPRS_QUANTZ_TBL_ID = 0
INSTRUMENT_TEMPERATURE = 0.0
LENS_TEMPERATURE = 0.0
MACROPIXEL_SIZE = 4
MISSING_FRAMES = 1
PIXEL_SUBSAMPLING_FLAG = N
SIGNAL_CHAIN_ID = 2
/* RADIOMETRIC DATA ELEMENTS */
BANDWIDTH = 88.0
CENTER_FILTER_WAVELENGTH = 538.0
RADIANCE_OFFSET = 3.27981
RADIANCE_SCALING_FACTOR = 0.0275614
REFLECTANCE_SCALING_FACTOR = 0.0010165
MEX:REFLECTANCE_OFFSET = 0.120963
/* IMAGE OBJECT DEFINITIONS */
OBJECT = IMAGE
  INTERCHANGE_FORMAT = BINARY
  LINES = 15465
  LINE_SAMPLES = 9620
  SAMPLE_TYPE = UNSIGNED_INTEGER
  SAMPLE_BITS = 8
  BANDS = 1
  BAND_STORAGE_TYPE = BAND_SEQUENTIAL
  MAXIMUM = 255
  MEAN = 128.276
  MINIMUM = 1
  STANDARD_DEVIATION = 25.1502
END_OBJECT = IMAGE
/* MAP OBJECT DEFINITIONS */
OBJECT = IMAGE_MAP_PROJECTION
  ^DATA_SET_MAP_PROJECTION_CATALOG= "DSMAP.CAT"
  A_AXIS_RADIUS = 3396.0
  B_AXIS_RADIUS = 3396.0
  C_AXIS_RADIUS = 3396.0
  CENTER_LATITUDE = -84.88509999999999
  CENTER_LONGITUDE = 17.1135
  COORDINATE_SYSTEM_NAME = PLANETOGRAPHIC
  COORDINATE_SYSTEM_TYPE = "BODY-FIXED ROTATING"
  EASTERNMOST_LONGITUDE = 38.862
  FIRST_STANDARD_PARALLEL = "N/A"
  LINE_FIRST_PIXEL = 1
  LINE_LAST_PIXEL = 15465
  LINE_PROJECTION_OFFSET = 8307.875
  MAP_PROJECTION_ROTATION = 0.0
  MAP_PROJECTION_TYPE = ORTHOGRAPHIC
  MAP_RESOLUTION = 1185.42760773333
  MAP_SCALE = 0.05
  MAXIMUM_LATITUDE = -77.08329999999999
  MINIMUM_LATITUDE = -88.3266
  POSITIVE_LONGITUDE_DIRECTION = EAST
  REFERENCE_LATITUDE = "N/A"
  REFERENCE_LONGITUDE = "N/A"
  SAMPLE_FIRST_PIXEL = 1
  SAMPLE_LAST_PIXEL = 9620
  SAMPLE_PROJECTION_OFFSET = 4443.125
  SECOND_STANDARD_PARALLEL = "N/A"
  WESTERNMOST_LONGITUDE = -93.764
END_OBJECT = IMAGE_MAP_PROJECTION
END
