PDS_VERSION_ID = PDS3
/* FILE DATA ELEMENTS */
RECORD_TYPE = UNDEFINED
/* POINTERS TO DATA OBJECTS */
^IMAGE = ("HP643_0000_BL4.TIF")
/* IDENTIFICATION DATA ELEMENTS */
DATA_SET_ID = "MEX-M-HRSC-4-REFDR-MAPPROJECT-EXT9-V4.0"
DATA_SET_NAME = "MARS EXPRESS HRSC MAP PROJECTED REFDR EXTENSION9 V4.0"
DETECTOR_ID = MEX_HRSC_BLUE
EVENT_TYPE = "MARS-REGIONAL-VARIABLE-Gl-La-Ot"
INSTRUMENT_HOST_ID = MEX
INSTRUMENT_HOST_NAME = "MARS EXPRESS"
INSTRUMENT_ID = HRSC
INSTRUMENT_NAME = "HIGH RESOLUTION STEREO CAMERA"
MISSION_NAME = "MARS EXPRESS"
MISSION_PHASE_NAME = ME_Phase_50
PROCESSING_LEVEL_ID = 4
PRODUCT_CREATION_TIME = 2024-08-21T01:11:59.000Z
PRODUCT_ID = "HP643_0000_BL4.TIF"
RELEASE_ID = 0014
REVISION_ID = 0000
/* QUALITY DATA ELEMENTS */
DATA_QUALITY_ID = 1
DATA_QUALITY_DESC = "Data calculated based on original SPICE kernels"
/* TIME DATA ELEMENTS */
SPACECRAFT_CLOCK_START_COUNT = "1/0662003801.00346"
SPACECRAFT_CLOCK_STOP_COUNT = "1/0662004086.32360"
START_TIME = 2024-04-24T01:58:26.235Z
STOP_TIME = 2024-04-24T02:01:04.845Z
/* ORBITAL DATA ELEMENTS */
ASCENDING_NODE_LONGITUDE = 98.72
MAXIMUM_RESOLUTION = 0.085
FOOTPRINT_POINT_LATITUDE = (-82.2615,-82.3719,-82.4984,-82.6427, -82.7432,-82.8731,-82.948,-82.9527, -82.9799,-82.574,-82.1605,-81.8293, -81.5752,-81.2363,-81.0657,-80.8931, -80.634,-80.3739,-80.1988,-80.0237, -79.8476,-79.6696,-79.4906,-79.2229, -78.9557,-78.6885,-78.4217,-78.2428, -77.978,-77.8001,-77.6231,-77.4469, -77.2699,-77.0936,-76.9174,-76.7427, -76.5664,-76.3908,-76.2153,-76.0401, -75.8653,-75.6907,-75.5163,-75.342, -75.1679,-74.9941,-74.8205,-74.6471, -74.301,-74.2147,-74.1817,-74.1478, -74.0927,-74.0476,-73.9816,-73.9327, -73.8936,-73.8088,-73.8038,-73.8034, -74.2272,-74.5668,-74.9072,-75.0775, -75.2483,-75.4187,-75.59,-75.7603, -75.9314,-76.1026,-76.2743,-76.4455, -76.7028,-76.8743,-77.1315,-77.3032, -77.4751,-77.7333,-77.9051,-78.0769, -78.2487,-78.5064,-78.6781,-78.8494, -79.0212,-79.2779,-79.53,-79.6979, -79.9483,-80.1127,-80.2769,-80.4408, -80.6029,-80.9229,-81.3181,-81.5511, -81.8594,-82.1601,-82.2349,-82.2615)
FOOTPRINT_POINT_LONGITUDE = (278.242,279.783,281.711,284.18,286.122 ,289.006,290.943,291.074,291.306, 292.285,293.173,293.824,294.277,294.845 ,295.112,295.373,295.745,296.099, 296.331,296.553,296.76,296.966,297.163, 297.449,297.721,297.977,298.221,298.37, 298.602,298.743,298.882,299.021,299.151 ,299.279,299.403,299.53,299.644,299.757 ,299.867,299.975,300.08,300.182,300.282 ,300.378,300.471,300.563,300.652, 300.739,300.906,300.946,300.962,299.783 ,298.214,297.123,295.73,294.807,294.119 ,292.751,292.676,292.65,292.324,292.05, 291.76,291.61,291.452,291.296,291.127, 290.966,290.793,290.614,290.425,290.237 ,289.943,289.742,289.43,289.211,288.984 ,288.622,288.378,288.126,287.866,287.46 ,287.177,286.893,286.585,286.124, 285.637,285.299,284.768,284.404,284.025 ,283.633,283.23,282.392,281.249,280.524 ,279.48,278.376,278.086,278.242)
ORBIT_NUMBER = 25643
ORBITAL_ECCENTRICITY = 0.574
ORBITAL_INCLINATION = 87.07
ORBITAL_SEMIMAJOR_AXIS = 8767.67
PERIAPSIS_ALTITUDE = 359.7
PERIAPSIS_ARGUMENT_ANGLE = 248.95
PERIAPSIS_TIME = 2024-04-24T01:50:57.000Z
SPACECRAFT_ORIENTATION = (0.0,-1.0,0.0)
^MEX_ORIENTATION_DESC = "MEX_ORIENTATION_DESC.TXT"
SPACECRAFT_POINTING_MODE = NADIR
^MEX_POINTING_DESC = "MEX_POINTING_DESC.TXT"
RIGHT_ASCENSION = -1e+32
DECLINATION = -1e+32
OFFSET_ANGLE = -1e+32
SPACECRAFT_SOLAR_DISTANCE = 2.06893e+08
TARGET_NAME = MARS
/* CAMERA DATA ELEMENTS */
DETECTOR_TEMPERATURE = 18.5744
FOCAL_PLANE_TEMPERATURE = 8.7872
INST_CMPRS_NAME = "DISCRETE COSINE TRANSFORMATION (DCT)"
INST_CMPRS_RATIO = 7.90803
INST_CMPRS_QUALITY = 0
INST_CMPRS_QUANTZ_TBL_ID = 0
INSTRUMENT_TEMPERATURE = 11.234
LENS_TEMPERATURE = 9.3989
MACROPIXEL_SIZE = 4
MISSING_FRAMES = 0
PIXEL_SUBSAMPLING_FLAG = N
SIGNAL_CHAIN_ID = 2
/* RADIOMETRIC DATA ELEMENTS */
BANDWIDTH = 76.0
CENTER_FILTER_WAVELENGTH = 444.0
RADIANCE_OFFSET = 1.7684
RADIANCE_SCALING_FACTOR = 0.0222646
REFLECTANCE_SCALING_FACTOR = 0.000979179
MEX:REFLECTANCE_OFFSET = 0.0777725
/* IMAGE OBJECT DEFINITIONS */
OBJECT = IMAGE
  INTERCHANGE_FORMAT = BINARY
  LINES = 5448
  LINE_SAMPLES = 2467
  SAMPLE_TYPE = UNSIGNED_INTEGER
  SAMPLE_BITS = 8
  BANDS = 1
  BAND_STORAGE_TYPE = BAND_SEQUENTIAL
  MAXIMUM = 255
  MEAN = 136.493
  MINIMUM = 1
  STANDARD_DEVIATION = 24.9256
END_OBJECT = IMAGE
/* MAP OBJECT DEFINITIONS */
OBJECT = IMAGE_MAP_PROJECTION
  ^DATA_SET_MAP_PROJECTION_CATALOG= "DSMAP.CAT"
  A_AXIS_RADIUS = 3396.0
  B_AXIS_RADIUS = 3396.0
  C_AXIS_RADIUS = 3396.0
  CENTER_LATITUDE = -78.4568
  CENTER_LONGITUDE = 292.927
  COORDINATE_SYSTEM_NAME = PLANETOGRAPHIC
  COORDINATE_SYSTEM_TYPE = "BODY-FIXED ROTATING"
  EASTERNMOST_LONGITUDE = 300.962
  FIRST_STANDARD_PARALLEL = "N/A"
  LINE_FIRST_PIXEL = 1
  LINE_LAST_PIXEL = 5448
  LINE_PROJECTION_OFFSET = 2763.125
  MAP_PROJECTION_ROTATION = 0.0
  MAP_PROJECTION_TYPE = ORTHOGRAPHIC
  MAP_RESOLUTION = 592.713803866667
  MAP_SCALE = 0.1
  MAXIMUM_LATITUDE = -73.8034
  MINIMUM_LATITUDE = -82.9799
  POSITIVE_LONGITUDE_DIRECTION = EAST
  REFERENCE_LATITUDE = "N/A"
  REFERENCE_LONGITUDE = "N/A"
  SAMPLE_FIRST_PIXEL = 1
  SAMPLE_LAST_PIXEL = 2467
  SAMPLE_PROJECTION_OFFSET = 1173.125
  SECOND_STANDARD_PARALLEL = "N/A"
  WESTERNMOST_LONGITUDE = 278.086
END_OBJECT = IMAGE_MAP_PROJECTION
END
