PDS_VERSION_ID = PDS3
/* FILE DATA ELEMENTS */
RECORD_TYPE = UNDEFINED
/* POINTERS TO DATA OBJECTS */
^IMAGE = ("HP673_0000_P14.TIF")
/* IDENTIFICATION DATA ELEMENTS */
DATA_SET_ID = "MEX-M-HRSC-4-REFDR-MAPPROJECT-EXT9-V4.0"
DATA_SET_NAME = "MARS EXPRESS HRSC MAP PROJECTED REFDR EXTENSION9 V4.0"
DETECTOR_ID = MEX_HRSC_P1
EVENT_TYPE = "MARS-REGIONAL-MAPPING-Gl-Pf-La"
INSTRUMENT_HOST_ID = MEX
INSTRUMENT_HOST_NAME = "MARS EXPRESS"
INSTRUMENT_ID = HRSC
INSTRUMENT_NAME = "HIGH RESOLUTION STEREO CAMERA"
MISSION_NAME = "MARS EXPRESS"
MISSION_PHASE_NAME = ME_Phase_50
PROCESSING_LEVEL_ID = 4
PRODUCT_CREATION_TIME = 2024-08-21T01:11:59.000Z
PRODUCT_ID = "HP673_0000_P14.TIF"
RELEASE_ID = 0014
REVISION_ID = 0000
/* QUALITY DATA ELEMENTS */
DATA_QUALITY_ID = 1
DATA_QUALITY_DESC = "Data calculated based on original SPICE kernels"
/* TIME DATA ELEMENTS */
SPACECRAFT_CLOCK_START_COUNT = "1/0662758109.00337"
SPACECRAFT_CLOCK_STOP_COUNT = "1/0662758494.09012"
START_TIME = 2024-05-02T19:29:31.543Z
STOP_TIME = 2024-05-02T19:33:30.043Z
/* ORBITAL DATA ELEMENTS */
ASCENDING_NODE_LONGITUDE = 98.21
MAXIMUM_RESOLUTION = 0.0377
FOOTPRINT_POINT_LATITUDE = (-85.5475,-85.816,-86.1435,-86.3979, -86.6956,-86.7054,-86.7666,-87.0683, -87.4305,-87.6568,-87.8708,-87.9487, -87.8385,-87.7307,-87.5116,-87.3351, -87.1396,-86.9249,-86.5798,-86.3348, -86.0802,-85.6824,-85.4093,-85.135, -84.856,-84.433,-84.1486,-83.8626, -83.5755,-83.1423,-82.8524,-82.5621, -82.2716,-81.9808,-81.6897,-81.398, -81.106,-80.8141,-80.5227,-80.2292, -79.9359,-79.5012,-79.2095,-78.9179, -78.6259,-78.3331,-78.0421,-77.7512, -77.606,-77.5645,-77.4726,-77.3771, -77.2914,-77.2067,-77.0764,-77.0697, -77.0679,-77.3482,-77.6283,-77.9089, -78.1895,-78.4698,-78.89,-79.1693, -79.4484,-79.7283,-80.0051,-80.2828, -80.6994,-80.9752,-81.2467,-81.514, -81.7832,-82.0511,-82.3165,-82.5799, -82.8427,-83.1023,-83.3574,-83.6072, -83.8525,-84.0924,-84.3262,-84.5531, -84.7702,-84.9757,-85.2647,-85.5234, -85.6793,-85.8176,-85.939,-86.0872, -86.2128,-86.2519,-86.188,-86.0482, -85.8971,-85.6485,-85.5782,-85.5475)
FOOTPRINT_POINT_LONGITUDE = (359.367,356.765,352.949,349.319, 343.973,343.772,343.974,348.983,357.504 ,365.577,378.749,397.962,413.268, 420.125,429.216,434.369,438.851,442.808 ,447.775,450.577,453.047,456.245, 458.058,459.628,461.049,462.906,463.991 ,464.974,465.865,467.064,467.781, 468.438,469.043,469.602,470.12,470.604, 471.056,471.476,471.868,472.244,472.596 ,473.067,473.365,473.648,473.917, 474.176,474.415,474.644,474.753,474.784 ,472.087,469.924,468.275,466.839, 464.863,464.77,464.735,464.373,463.992, 463.592,463.171,462.728,462.017,461.51, 460.974,460.407,459.805,459.167,458.134 ,457.388,456.594,455.747,454.84,453.869 ,452.827,451.707,450.5,449.198,447.791, 446.272,444.625,442.839,440.899,438.79, 436.514,434.074,430.028,425.55,422.271, 418.815,415.15,409.273,401.0,390.281, 381.85,373.995,368.539,362.129,360.633, 359.367)
ORBIT_NUMBER = 25673
ORBITAL_ECCENTRICITY = 0.574
ORBITAL_INCLINATION = 87.08
ORBITAL_SEMIMAJOR_AXIS = 8770.42
PERIAPSIS_ALTITUDE = 359.86
PERIAPSIS_ARGUMENT_ANGLE = 243.91
PERIAPSIS_TIME = 2024-05-02T19:23:48.000Z
SPACECRAFT_ORIENTATION = (0.0,-1.0,0.0)
^MEX_ORIENTATION_DESC = "MEX_ORIENTATION_DESC.TXT"
SPACECRAFT_POINTING_MODE = NADIR
^MEX_POINTING_DESC = "MEX_POINTING_DESC.TXT"
RIGHT_ASCENSION = -1e+32
DECLINATION = -1e+32
OFFSET_ANGLE = -1e+32
SPACECRAFT_SOLAR_DISTANCE = 2.06704e+08
TARGET_NAME = MARS
/* CAMERA DATA ELEMENTS */
DETECTOR_TEMPERATURE = 17.1471
FOCAL_PLANE_TEMPERATURE = 8.5833
INST_CMPRS_NAME = "DISCRETE COSINE TRANSFORMATION (DCT)"
INST_CMPRS_RATIO = 5.70969
INST_CMPRS_QUALITY = 0
INST_CMPRS_QUANTZ_TBL_ID = 0
INSTRUMENT_TEMPERATURE = 11.4379
LENS_TEMPERATURE = 8.9911
MACROPIXEL_SIZE = 2
MISSING_FRAMES = 0
PIXEL_SUBSAMPLING_FLAG = N
SIGNAL_CHAIN_ID = 3
/* RADIOMETRIC DATA ELEMENTS */
BANDWIDTH = 174.0
CENTER_FILTER_WAVELENGTH = 675.0
RADIANCE_OFFSET = 5.71662
RADIANCE_SCALING_FACTOR = 0.0479577
REFLECTANCE_SCALING_FACTOR = 0.00110216
MEX:REFLECTANCE_OFFSET = 0.131379
/* IMAGE OBJECT DEFINITIONS */
OBJECT = IMAGE
  INTERCHANGE_FORMAT = BINARY
  LINES = 32537
  LINE_SAMPLES = 21457
  SAMPLE_TYPE = UNSIGNED_INTEGER
  SAMPLE_BITS = 8
  BANDS = 1
  BAND_STORAGE_TYPE = BAND_SEQUENTIAL
  MAXIMUM = 255
  MEAN = 94.2628
  MINIMUM = 1
  STANDARD_DEVIATION = 50.2471
END_OBJECT = IMAGE
/* MAP OBJECT DEFINITIONS */
OBJECT = IMAGE_MAP_PROJECTION
  ^DATA_SET_MAP_PROJECTION_CATALOG= "DSMAP.CAT"
  A_AXIS_RADIUS = 3396.0
  B_AXIS_RADIUS = 3396.0
  C_AXIS_RADIUS = 3396.0
  CENTER_LATITUDE = -84.2178
  CENTER_LONGITUDE = 93.2139
  COORDINATE_SYSTEM_NAME = PLANETOGRAPHIC
  COORDINATE_SYSTEM_TYPE = "BODY-FIXED ROTATING"
  EASTERNMOST_LONGITUDE = 114.784
  FIRST_STANDARD_PARALLEL = "N/A"
  LINE_FIRST_PIXEL = 1
  LINE_LAST_PIXEL = 32537
  LINE_PROJECTION_OFFSET = 16394.25
  MAP_PROJECTION_ROTATION = 0.0
  MAP_PROJECTION_TYPE = ORTHOGRAPHIC
  MAP_RESOLUTION = 2370.85521546667
  MAP_SCALE = 0.025
  MAXIMUM_LATITUDE = -77.06789999999999
  MINIMUM_LATITUDE = -87.9487
  POSITIVE_LONGITUDE_DIRECTION = EAST
  REFERENCE_LATITUDE = "N/A"
  REFERENCE_LONGITUDE = "N/A"
  SAMPLE_FIRST_PIXEL = 1
  SAMPLE_LAST_PIXEL = 21457
  SAMPLE_PROJECTION_OFFSET = 10542.25
  SECOND_STANDARD_PARALLEL = "N/A"
  WESTERNMOST_LONGITUDE = -16.228
END_OBJECT = IMAGE_MAP_PROJECTION
END
