PDS_VERSION_ID = PDS3
/* FILE DATA ELEMENTS */
RECORD_TYPE = UNDEFINED
/* POINTERS TO DATA OBJECTS */
^IMAGE = ("HP707_0000_BL4.TIF")
/* IDENTIFICATION DATA ELEMENTS */
DATA_SET_ID = "MEX-M-HRSC-4-REFDR-MAPPROJECT-EXT9-V4.0"
DATA_SET_NAME = "MARS EXPRESS HRSC MAP PROJECTED REFDR EXTENSION9 V4.0"
DETECTOR_ID = MEX_HRSC_BLUE
EVENT_TYPE = "MARS-TERMINATOR-CALIBRATION-Tc"
INSTRUMENT_HOST_ID = MEX
INSTRUMENT_HOST_NAME = "MARS EXPRESS"
INSTRUMENT_ID = HRSC
INSTRUMENT_NAME = "HIGH RESOLUTION STEREO CAMERA"
MISSION_NAME = "MARS EXPRESS"
MISSION_PHASE_NAME = ME_Phase_50
PROCESSING_LEVEL_ID = 4
PRODUCT_CREATION_TIME = 2024-08-21T23:02:24.000Z
PRODUCT_ID = "HP707_0000_BL4.TIF"
RELEASE_ID = 0015
REVISION_ID = 0000
/* QUALITY DATA ELEMENTS */
DATA_QUALITY_ID = 1
DATA_QUALITY_DESC = "Data calculated based on original SPICE kernels"
/* TIME DATA ELEMENTS */
SPACECRAFT_CLOCK_START_COUNT = "1/0663620137.00352"
SPACECRAFT_CLOCK_STOP_COUNT = "1/0663620589.65210"
START_TIME = 2024-05-12T18:58:40.442Z
STOP_TIME = 2024-05-12T19:02:29.484Z
/* ORBITAL DATA ELEMENTS */
ASCENDING_NODE_LONGITUDE = 97.63
MAXIMUM_RESOLUTION = 0.7145
FOOTPRINT_POINT_LATITUDE = (78.5845,80.5941,80.2975,77.9422, 75.1079,72.2052,69.3195,66.4551,63.5879 ,60.675,57.65,54.4029,50.6745,48.3922, 46.1307,45.0281,45.4546,45.1736,46.7815 ,47.4325,47.7022,47.7535,47.4627, 46.8526,46.0487,45.1171,44.0968,41.8822 ,39.5203,37.0661,34.5431,31.9608, 29.3187,26.6104,23.8238,20.9448,17.9517 ,14.8086,11.4794,7.91772,4.04387, -0.252578,-5.15588,-7.94919,-11.0783, -14.6749,-19.0254,-21.6685,-24.8427, -29.0467,-37.3421,-36.4719,-36.6795, -35.2709,-32.368,-28.1776,-26.0193, -24.5103,-24.3785,-26.3982,-27.3511, -27.8579,-25.2992,-21.3869,-20.0589, -12.6818,-9.26972,-6.55938,-4.24364, -0.431883,2.82843,5.72447,8.40728, 13.0278,17.264,21.172,24.8443,28.3554, 31.7591,35.096,38.3988,41.7052,45.0596, 48.4905,52.0244,55.7182,59.639,63.8713, 68.5537,71.1266,73.9021,76.9292,80.2543 ,83.7942,85.2969,85.5957,83.535,78.146, 78.5845)
FOOTPRINT_POINT_LONGITUDE = (74.079,91.8491,122.108,138.183,145.625 ,148.967,150.192,150.171,149.302, 147.757,145.558,142.566,138.271,135.093 ,131.392,129.323,128.654,135.007, 142.743,148.114,152.485,156.248,162.579 ,167.815,172.289,176.185,179.631, 185.482,190.31,194.379,197.893,200.975, 203.718,206.193,208.451,210.538,212.486 ,214.321,216.072,217.766,219.426, 221.085,222.784,223.669,224.594,225.586 ,226.69,227.315,228.025,228.899,230.432 ,234.953,240.773,242.848,243.198, 245.734,248.453,252.806,256.565,261.996 ,263.248,263.839,269.067,270.783,274.28 ,267.906,265.408,263.561,262.065,259.78 ,257.947,256.4,255.003,252.818,250.87, 249.141,247.573,246.113,244.721,243.364 ,242.019,240.684,239.337,237.925, 236.393,234.697,232.74,230.335,227.087, 224.862,221.875,217.439,209.661,191.099 ,168.589,130.162,94.0839,72.3254, 74.079)
ORBIT_NUMBER = 25707
ORBITAL_ECCENTRICITY = 0.574
ORBITAL_INCLINATION = 87.09
ORBITAL_SEMIMAJOR_AXIS = 8782.27
PERIAPSIS_ALTITUDE = 360.54
PERIAPSIS_ARGUMENT_ANGLE = 238.18
PERIAPSIS_TIME = 2024-05-12T16:52:30.000Z
SPACECRAFT_ORIENTATION = (0.0,1.0,0.0)
^MEX_ORIENTATION_DESC = "MEX_ORIENTATION_DESC.TXT"
SPACECRAFT_POINTING_MODE = FIXED
^MEX_POINTING_DESC = "MEX_POINTING_DESC.TXT"
RIGHT_ASCENSION = -1e+32
DECLINATION = -1e+32
OFFSET_ANGLE = -1e+32
SPACECRAFT_SOLAR_DISTANCE = 2.0669e+08
TARGET_NAME = MARS
/* CAMERA DATA ELEMENTS */
DETECTOR_TEMPERATURE = 18.5744
FOCAL_PLANE_TEMPERATURE = 9.3989
INST_CMPRS_NAME = "DISCRETE COSINE TRANSFORMATION (DCT)"
INST_CMPRS_RATIO = 9.95058
INST_CMPRS_QUALITY = 0
INST_CMPRS_QUANTZ_TBL_ID = 0
INSTRUMENT_TEMPERATURE = 11.8457
LENS_TEMPERATURE = 9.3989
MACROPIXEL_SIZE = 2
MISSING_FRAMES = 0
PIXEL_SUBSAMPLING_FLAG = N
SIGNAL_CHAIN_ID = 2
/* RADIOMETRIC DATA ELEMENTS */
BANDWIDTH = 76.0
CENTER_FILTER_WAVELENGTH = 444.0
RADIANCE_OFFSET = 0.0
RADIANCE_SCALING_FACTOR = 0.00915761
REFLECTANCE_SCALING_FACTOR = 0.000401957
MEX:REFLECTANCE_OFFSET = 0.0
/* IMAGE OBJECT DEFINITIONS */
OBJECT = IMAGE
  INTERCHANGE_FORMAT = BINARY
  LINES = 6295
  LINE_SAMPLES = 5572
  SAMPLE_TYPE = UNSIGNED_INTEGER
  SAMPLE_BITS = 8
  BANDS = 1
  BAND_STORAGE_TYPE = BAND_SEQUENTIAL
  MAXIMUM = 198
  MEAN = 83.374
  MINIMUM = 1
  STANDARD_DEVIATION = 55.5505
END_OBJECT = IMAGE
/* MAP OBJECT DEFINITIONS */
OBJECT = IMAGE_MAP_PROJECTION
  ^DATA_SET_MAP_PROJECTION_CATALOG= "DSMAP.CAT"
  A_AXIS_RADIUS = 3396.0
  B_AXIS_RADIUS = 3396.0
  C_AXIS_RADIUS = 3396.0
  CENTER_LATITUDE = 32.1246
  CENTER_LONGITUDE = 223.647
  COORDINATE_SYSTEM_NAME = PLANETOGRAPHIC
  COORDINATE_SYSTEM_TYPE = "BODY-FIXED ROTATING"
  EASTERNMOST_LONGITUDE = 360.0
  FIRST_STANDARD_PARALLEL = "N/A"
  LINE_FIRST_PIXEL = 1
  LINE_LAST_PIXEL = 6295
  LINE_PROJECTION_OFFSET = 4052.75
  MAP_PROJECTION_ROTATION = 0.0
  MAP_PROJECTION_TYPE = ORTHOGRAPHIC
  MAP_RESOLUTION = 74.08922548333329
  MAP_SCALE = 0.8
  MAXIMUM_LATITUDE = 90.0
  MINIMUM_LATITUDE = -37.3421
  POSITIVE_LONGITUDE_DIRECTION = EAST
  REFERENCE_LATITUDE = "N/A"
  REFERENCE_LONGITUDE = "N/A"
  SAMPLE_FIRST_PIXEL = 1
  SAMPLE_LAST_PIXEL = 5572
  SAMPLE_PROJECTION_OFFSET = 3113.75
  SECOND_STANDARD_PARALLEL = "N/A"
  WESTERNMOST_LONGITUDE = 0.0
END_OBJECT = IMAGE_MAP_PROJECTION
END
