PDS_VERSION_ID = PDS3
/* FILE DATA ELEMENTS */
RECORD_TYPE = UNDEFINED
/* POINTERS TO DATA OBJECTS */
^IMAGE = ("HP763_0000_RE4.TIF")
/* IDENTIFICATION DATA ELEMENTS */
DATA_SET_ID = "MEX-M-HRSC-4-REFDR-MAPPROJECT-EXT9-V4.0"
DATA_SET_NAME = "MARS EXPRESS HRSC MAP PROJECTED REFDR EXTENSION9 V4.0"
DETECTOR_ID = MEX_HRSC_RED
EVENT_TYPE = "MARS-TERMINATOR-CALIBRATION-Tc"
INSTRUMENT_HOST_ID = MEX
INSTRUMENT_HOST_NAME = "MARS EXPRESS"
INSTRUMENT_ID = HRSC
INSTRUMENT_NAME = "HIGH RESOLUTION STEREO CAMERA"
MISSION_NAME = "MARS EXPRESS"
MISSION_PHASE_NAME = ME_Phase_50
PROCESSING_LEVEL_ID = 4
PRODUCT_CREATION_TIME = 2024-08-21T23:02:24.000Z
PRODUCT_ID = "HP763_0000_RE4.TIF"
RELEASE_ID = 0015
REVISION_ID = 0000
/* QUALITY DATA ELEMENTS */
DATA_QUALITY_ID = 1
DATA_QUALITY_DESC = "Data calculated based on original SPICE kernels"
/* TIME DATA ELEMENTS */
SPACECRAFT_CLOCK_START_COUNT = "1/0665033150.65077"
SPACECRAFT_CLOCK_STOP_COUNT = "1/0665033555.63888"
START_TIME = 2024-05-29T03:30:09.783Z
STOP_TIME = 2024-05-29T03:33:22.499Z
/* ORBITAL DATA ELEMENTS */
ASCENDING_NODE_LONGITUDE = 96.66
MAXIMUM_RESOLUTION = 0.8414
FOOTPRINT_POINT_LATITUDE = (-5.71027,-5.77341,-7.14268,-10.1544, -12.7288,-13.7111,-10.9989,-7.13455, -3.87177,-1.42674,2.34922,5.04604, 7.66874,9.93129,13.8406,18.0323,20.6471 ,23.5531,26.1221,28.428,30.1861,32.3694 ,33.7912,36.1775,37.3975,38.8496,39.487 ,40.2251,40.4469,40.425,39.9278,39.2952 ,38.1772,36.7684,34.2673,32.7611, 30.8708,28.3504,26.6975,24.5318,21.1285 ,18.0543,21.0498,23.6848,25.3519, 30.4053,34.1296,36.3754,39.1276,40.0843 ,44.2179,43.0035,47.5541,44.0254, 44.0742,46.7561,46.147,50.1553,52.8644, 56.3393,58.8685,62.2991,66.7201,69.0714 ,71.0952,74.353,76.6781,78.0722,78.5141 ,78.0924,77.0007,74.3336,72.2444,70.135 ,67.9278,65.7894,63.4422,61.027,57.4209 ,54.8001,52.0637,47.4827,44.49,41.0101, 37.1021,32.5037,29.7745,26.5397,22.2732 ,19.143,16.5553,12.3894,9.50754,7.67918 ,5.53219,2.82569,-1.48661,-3.47549, -5.71027)
FOOTPRINT_POINT_LONGITUDE = (184.224,184.198,187.801,192.302, 195.785,199.851,201.487,203.862,205.92, 207.509,210.063,211.968,213.905,215.664 ,218.903,222.689,225.337,228.697, 231.932,235.184,237.956,241.853,244.764 ,250.644,254.436,260.339,263.898,270.22 ,274.68,278.847,285.737,290.138,295.453 ,300.443,307.082,310.338,313.909, 318.027,320.432,323.305,327.329,331.1, 335.815,338.311,341.226,346.582,350.917 ,355.489,357.837,1.4879,359.978,3.34408 ,359.956,4.07596,8.61861,9.00013, 14.3736,12.2977,9.75447,6.19459,3.3227, 358.89,351.753,346.901,341.76,330.175, 316.269,300.103,282.831,266.552,252.727 ,235.917,227.875,221.768,216.678, 212.577,208.728,205.273,200.783,197.883 ,195.083,190.773,188.132,185.175, 181.946,178.202,175.981,173.328,169.747 ,167.036,164.707,164.165,166.494, 170.986,173.126,175.769,179.796,182.406 ,184.224)
ORBIT_NUMBER = 25763
ORBITAL_ECCENTRICITY = 0.574
ORBITAL_INCLINATION = 87.08
ORBITAL_SEMIMAJOR_AXIS = 8798.37
PERIAPSIS_ALTITUDE = 362.41
PERIAPSIS_ARGUMENT_ANGLE = 228.75
PERIAPSIS_TIME = 2024-05-29T00:01:50.000Z
SPACECRAFT_ORIENTATION = (0.0,1.0,0.0)
^MEX_ORIENTATION_DESC = "MEX_ORIENTATION_DESC.TXT"
SPACECRAFT_POINTING_MODE = FIXED
^MEX_POINTING_DESC = "MEX_POINTING_DESC.TXT"
RIGHT_ASCENSION = -1e+32
DECLINATION = -1e+32
OFFSET_ANGLE = -1e+32
SPACECRAFT_SOLAR_DISTANCE = 2.07125e+08
TARGET_NAME = MARS
/* CAMERA DATA ELEMENTS */
DETECTOR_TEMPERATURE = 19.39
FOCAL_PLANE_TEMPERATURE = 9.195
INST_CMPRS_NAME = "DISCRETE COSINE TRANSFORMATION (DCT)"
INST_CMPRS_RATIO = 16.2081
INST_CMPRS_QUALITY = 0
INST_CMPRS_QUANTZ_TBL_ID = 0
INSTRUMENT_TEMPERATURE = 11.4379
LENS_TEMPERATURE = 8.9911
MACROPIXEL_SIZE = 2
MISSING_FRAMES = 0
PIXEL_SUBSAMPLING_FLAG = N
SIGNAL_CHAIN_ID = 3
/* RADIOMETRIC DATA ELEMENTS */
BANDWIDTH = 48.0
CENTER_FILTER_WAVELENGTH = 748.0
RADIANCE_OFFSET = 0.0
RADIANCE_SCALING_FACTOR = 0.00387812
REFLECTANCE_SCALING_FACTOR = 0.000379699
MEX:REFLECTANCE_OFFSET = 0.0
/* IMAGE OBJECT DEFINITIONS */
OBJECT = IMAGE
  INTERCHANGE_FORMAT = BINARY
  LINES = 6267
  LINE_SAMPLES = 8011
  SAMPLE_TYPE = UNSIGNED_INTEGER
  SAMPLE_BITS = 8
  BANDS = 1
  BAND_STORAGE_TYPE = BAND_SEQUENTIAL
  MAXIMUM = 255
  MEAN = 123.169
  MINIMUM = 1
  STANDARD_DEVIATION = 109.759
END_OBJECT = IMAGE
/* MAP OBJECT DEFINITIONS */
OBJECT = IMAGE_MAP_PROJECTION
  ^DATA_SET_MAP_PROJECTION_CATALOG= "DSMAP.CAT"
  A_AXIS_RADIUS = 3396.0
  B_AXIS_RADIUS = 3396.0
  C_AXIS_RADIUS = 3396.0
  CENTER_LATITUDE = 51.23
  CENTER_LONGITUDE = 242.835
  COORDINATE_SYSTEM_NAME = PLANETOGRAPHIC
  COORDINATE_SYSTEM_TYPE = "BODY-FIXED ROTATING"
  EASTERNMOST_LONGITUDE = 360.0
  FIRST_STANDARD_PARALLEL = "N/A"
  LINE_FIRST_PIXEL = 1
  LINE_LAST_PIXEL = 6267
  LINE_PROJECTION_OFFSET = 3435.75
  MAP_PROJECTION_ROTATION = 0.0
  MAP_PROJECTION_TYPE = ORTHOGRAPHIC
  MAP_RESOLUTION = 74.08922548333329
  MAP_SCALE = 0.8
  MAXIMUM_LATITUDE = 90.0
  MINIMUM_LATITUDE = -13.7111
  POSITIVE_LONGITUDE_DIRECTION = EAST
  REFERENCE_LATITUDE = "N/A"
  REFERENCE_LONGITUDE = "N/A"
  SAMPLE_FIRST_PIXEL = 1
  SAMPLE_LAST_PIXEL = 8011
  SAMPLE_PROJECTION_OFFSET = 3983.25
  SECOND_STANDARD_PARALLEL = "N/A"
  WESTERNMOST_LONGITUDE = 0.0
END_OBJECT = IMAGE_MAP_PROJECTION
END
