PDS_VERSION_ID = PDS3
/* FILE DATA ELEMENTS */
RECORD_TYPE = UNDEFINED
/* POINTERS TO DATA OBJECTS */
^IMAGE = ("HP823_0000_RE4.TIF")
/* IDENTIFICATION DATA ELEMENTS */
DATA_SET_ID = "MEX-M-HRSC-4-REFDR-MAPPROJECT-EXT9-V4.0"
DATA_SET_NAME = "MARS EXPRESS HRSC MAP PROJECTED REFDR EXTENSION9 V4.0"
DETECTOR_ID = MEX_HRSC_RED
EVENT_TYPE = "MARS-TERMINATOR-CALIBRATION-Tc"
INSTRUMENT_HOST_ID = MEX
INSTRUMENT_HOST_NAME = "MARS EXPRESS"
INSTRUMENT_ID = HRSC
INSTRUMENT_NAME = "HIGH RESOLUTION STEREO CAMERA"
MISSION_NAME = "MARS EXPRESS"
MISSION_PHASE_NAME = ME_Phase_50
PROCESSING_LEVEL_ID = 4
PRODUCT_CREATION_TIME = 2024-08-22T02:21:17.000Z
PRODUCT_ID = "HP823_0000_RE4.TIF"
RELEASE_ID = 0016
REVISION_ID = 0000
/* QUALITY DATA ELEMENTS */
DATA_QUALITY_ID = 1
DATA_QUALITY_DESC = "Data calculated based on original SPICE kernels"
/* TIME DATA ELEMENTS */
SPACECRAFT_CLOCK_START_COUNT = "1/0666534614.65136"
SPACECRAFT_CLOCK_STOP_COUNT = "1/0666535077.61151"
START_TIME = 2024-06-15T12:34:31.131Z
STOP_TIME = 2024-06-15T12:38:45.066Z
/* ORBITAL DATA ELEMENTS */
ASCENDING_NODE_LONGITUDE = 95.62
MAXIMUM_RESOLUTION = 0.5572
FOOTPRINT_POINT_LATITUDE = (-46.3275,-45.7003,-45.2578,-43.808, -41.9039,-39.2925,-37.9175,-35.4186, -32.7086,-30.7357,-27.3686,-24.1307, -21.3197,-18.3446,-15.2119,-12.1773, -9.67742,-6.17762,-3.80157,-0.0245493, 4.24281,8.2767,10.9469,14.3273,16.3193, 19.0066,22.7539,25.5669,29.1978,31.8686 ,33.6797,35.6909,38.6625,40.9367, 43.0106,45.9492,48.2171,50.0178,51.2684 ,50.9001,54.3376,56.8164,58.86,61.0325, 63.4889,61.5244,64.3146,63.958,67.212, 64.9309,67.4036,65.3691,67.9271,65.6212 ,68.1419,66.0396,67.879,65.204,65.6103, 62.8661,58.4996,53.471,50.8519,47.0196, 42.7011,39.7258,37.4174,33.9652,29.5965 ,24.958,21.9658,19.6707,16.5703,13.6598 ,11.2384,8.14919,6.27777,3.586,1.7779, -1.07211,-3.74334,-5.56734,-7.56656, -8.53147,-9.60571,-10.1282,-10.512, -12.2239,-15.5291,-19.5383,-20.5117, -23.0413,-24.7989,-26.1346,-29.2221, -31.5541,-35.9584,-39.1824,-41.9181, -46.3275)
FOOTPRINT_POINT_LONGITUDE = (197.494,200.455,202.351,207.536, 212.978,218.945,221.633,225.953,230.022 ,232.679,236.762,240.273,243.067,245.82 ,248.539,251.035,253.014,255.692, 257.464,260.236,263.343,266.297,268.282 ,270.852,272.407,274.564,277.715,280.22 ,283.674,286.413,288.389,290.712, 294.451,297.62,300.798,305.923,310.559, 314.853,316.959,315.086,310.527,309.553 ,305.59,299.878,297.918,294.669,292.773 ,285.277,280.609,276.992,274.033, 269.571,268.842,267.611,266.119,263.935 ,259.502,255.369,249.405,249.183, 250.316,250.666,250.562,250.183,249.455 ,248.747,248.071,246.898,245.221, 243.153,241.636,240.37,238.524,236.581, 234.802,232.247,230.562,227.881,225.806 ,222.094,217.898,214.406,209.617, 206.635,202.097,198.87,194.315,192.435, 194.253,194.588,192.309,194.978,193.082 ,195.237,193.659,195.392,194.365, 196.856,195.875,197.494)
ORBIT_NUMBER = 25823
ORBITAL_ECCENTRICITY = 0.574
ORBITAL_INCLINATION = 87.08
ORBITAL_SEMIMAJOR_AXIS = 8816.01
PERIAPSIS_ALTITUDE = 364.25
PERIAPSIS_ARGUMENT_ANGLE = 218.6
PERIAPSIS_TIME = 2024-06-15T11:07:55.000Z
SPACECRAFT_ORIENTATION = (0.0,-1.0,0.0)
^MEX_ORIENTATION_DESC = "MEX_ORIENTATION_DESC.TXT"
SPACECRAFT_POINTING_MODE = FIXED
^MEX_POINTING_DESC = "MEX_POINTING_DESC.TXT"
RIGHT_ASCENSION = -1e+32
DECLINATION = -1e+32
OFFSET_ANGLE = -1e+32
SPACECRAFT_SOLAR_DISTANCE = 2.08207e+08
TARGET_NAME = MARS
/* CAMERA DATA ELEMENTS */
DETECTOR_TEMPERATURE = 18.3705
FOCAL_PLANE_TEMPERATURE = 9.195
INST_CMPRS_NAME = "DISCRETE COSINE TRANSFORMATION (DCT)"
INST_CMPRS_RATIO = 11.1961
INST_CMPRS_QUALITY = 0
INST_CMPRS_QUANTZ_TBL_ID = 0
INSTRUMENT_TEMPERATURE = 11.4379
LENS_TEMPERATURE = 9.6028
MACROPIXEL_SIZE = 2
MISSING_FRAMES = 0
PIXEL_SUBSAMPLING_FLAG = N
SIGNAL_CHAIN_ID = 3
/* RADIOMETRIC DATA ELEMENTS */
BANDWIDTH = 48.0
CENTER_FILTER_WAVELENGTH = 748.0
RADIANCE_OFFSET = 0.0
RADIANCE_SCALING_FACTOR = 0.0135473
REFLECTANCE_SCALING_FACTOR = 0.00134025
MEX:REFLECTANCE_OFFSET = 0.0
/* IMAGE OBJECT DEFINITIONS */
OBJECT = IMAGE
  INTERCHANGE_FORMAT = BINARY
  LINES = 13913
  LINE_SAMPLES = 12182
  SAMPLE_TYPE = UNSIGNED_INTEGER
  SAMPLE_BITS = 8
  BANDS = 1
  BAND_STORAGE_TYPE = BAND_SEQUENTIAL
  MAXIMUM = 255
  MEAN = 111.608
  MINIMUM = 2
  STANDARD_DEVIATION = 50.305
END_OBJECT = IMAGE
/* MAP OBJECT DEFINITIONS */
OBJECT = IMAGE_MAP_PROJECTION
  ^DATA_SET_MAP_PROJECTION_CATALOG= "DSMAP.CAT"
  A_AXIS_RADIUS = 3396.0
  B_AXIS_RADIUS = 3396.0
  C_AXIS_RADIUS = 3396.0
  CENTER_LATITUDE = 4.67563
  CENTER_LONGITUDE = 251.331
  COORDINATE_SYSTEM_NAME = PLANETOGRAPHIC
  COORDINATE_SYSTEM_TYPE = "BODY-FIXED ROTATING"
  EASTERNMOST_LONGITUDE = 316.959
  FIRST_STANDARD_PARALLEL = "N/A"
  LINE_FIRST_PIXEL = 1
  LINE_LAST_PIXEL = 13913
  LINE_PROJECTION_OFFSET = 7347.25
  MAP_PROJECTION_ROTATION = 0.0
  MAP_PROJECTION_TYPE = ORTHOGRAPHIC
  MAP_RESOLUTION = 148.178450966667
  MAP_SCALE = 0.4
  MAXIMUM_LATITUDE = 68.14190000000001
  MINIMUM_LATITUDE = -46.3275
  POSITIVE_LONGITUDE_DIRECTION = EAST
  REFERENCE_LATITUDE = "N/A"
  REFERENCE_LONGITUDE = "N/A"
  SAMPLE_FIRST_PIXEL = 1
  SAMPLE_LAST_PIXEL = 12182
  SAMPLE_PROJECTION_OFFSET = 7015.75
  SECOND_STANDARD_PARALLEL = "N/A"
  WESTERNMOST_LONGITUDE = 192.309
END_OBJECT = IMAGE_MAP_PROJECTION
END
