PDS_VERSION_ID = PDS3
/* FILE DATA ELEMENTS */
RECORD_TYPE = UNDEFINED
/* POINTERS TO DATA OBJECTS */
^IMAGE = ("HP858_0000_RE4.TIF")
/* IDENTIFICATION DATA ELEMENTS */
DATA_SET_ID = "MEX-M-HRSC-4-REFDR-MAPPROJECT-EXT9-V4.0"
DATA_SET_NAME = "MARS EXPRESS HRSC MAP PROJECTED REFDR EXTENSION9 V4.0"
DETECTOR_ID = MEX_HRSC_RED
EVENT_TYPE = "MARS-TERMINATOR-CALIBRATION-Tc"
INSTRUMENT_HOST_ID = MEX
INSTRUMENT_HOST_NAME = "MARS EXPRESS"
INSTRUMENT_ID = HRSC
INSTRUMENT_NAME = "HIGH RESOLUTION STEREO CAMERA"
MISSION_NAME = "MARS EXPRESS"
MISSION_PHASE_NAME = ME_Phase_50
PROCESSING_LEVEL_ID = 4
PRODUCT_CREATION_TIME = 2024-08-22T02:21:17.000Z
PRODUCT_ID = "HP858_0000_RE4.TIF"
RELEASE_ID = 0016
REVISION_ID = 0000
/* QUALITY DATA ELEMENTS */
DATA_QUALITY_ID = 1
DATA_QUALITY_DESC = "Data calculated based on original SPICE kernels"
/* TIME DATA ELEMENTS */
SPACECRAFT_CLOCK_START_COUNT = "1/0667417002.65105"
SPACECRAFT_CLOCK_STOP_COUNT = "1/0667417427.00296"
START_TIME = 2024-06-25T17:40:59.302Z
STOP_TIME = 2024-06-25T17:44:34.252Z
/* ORBITAL DATA ELEMENTS */
ASCENDING_NODE_LONGITUDE = 95.01
MAXIMUM_RESOLUTION = 0.7129
FOOTPRINT_POINT_LATITUDE = (-49.6369,-49.6891,-49.8218,-53.1021, -55.5333,-58.3335,-59.1293,-61.2556, -62.6877,-58.9591,-55.7776,-52.033, -49.1204,-45.1988,-41.3197,-37.8089, -32.4449,-30.0001,-26.4718,-23.6938, -19.2334,-16.1229,-13.8923,-11.313, -6.69638,-3.63003,-1.33888,2.93419, 5.57339,8.48719,12.0538,14.5417,18.121, 20.6948,24.3716,26.3323,27.8355,29.4492 ,30.7638,32.249,34.1299,35.1425,36.2409 ,36.8642,37.2844,40.3438,43.8501, 46.7418,51.4337,52.6885,57.3006,59.8947 ,64.1704,69.6477,72.1516,76.1698, 73.4817,70.5332,68.4674,65.2723,62.7145 ,60.5247,56.8146,53.6772,50.9923, 46.7483,43.8642,40.3774,36.8993,32.3711 ,29.1265,24.7983,21.9547,18.9409, 14.7321,11.2647,8.97072,6.54439,3.30882 ,1.01015,-1.8228,-3.94852,-7.71553, -9.892,-12.8962,-15.3515,-17.2833, -19.9047,-22.0852,-23.4835,-25.0619, -26.9811,-28.5835,-29.5337,-31.6946, -34.7578,-39.2023,-42.3564,-46.5203, -49.6369)
FOOTPRINT_POINT_LONGITUDE = (224.139,224.053,224.612,228.378, 234.208,237.387,242.188,244.561,250.527 ,254.826,257.867,260.975,263.137, 265.802,268.178,270.249,273.236,274.553 ,276.428,277.894,280.256,281.925, 283.143,284.581,287.311,289.151,290.574 ,293.466,295.38,297.629,300.622,302.901 ,306.542,309.473,314.276,317.229, 319.737,322.733,325.473,329.002,334.478 ,338.21,343.53,347.949,353.293,351.533, 351.771,351.178,351.61,352.136,349.967, 348.244,344.335,336.646,330.636,330.003 ,316.462,308.611,304.477,299.408, 296.122,293.685,290.121,287.504,285.475 ,282.583,280.769,278.65,276.632,274.098 ,272.309,269.938,268.367,266.676, 264.252,262.181,260.759,259.205,257.039 ,255.418,253.311,251.646,248.469, 246.474,243.496,240.829,238.533,235.093 ,231.891,229.628,226.825,222.949, 219.175,216.6,215.773,214.391,217.331, 220.037,221.633,224.139)
ORBIT_NUMBER = 25858
ORBITAL_ECCENTRICITY = 0.574
ORBITAL_INCLINATION = 87.07
ORBITAL_SEMIMAJOR_AXIS = 8823.84
PERIAPSIS_ALTITUDE = 365.84
PERIAPSIS_ARGUMENT_ANGLE = 212.66
PERIAPSIS_TIME = 2024-06-25T15:35:22.000Z
SPACECRAFT_ORIENTATION = (0.0,-1.0,0.0)
^MEX_ORIENTATION_DESC = "MEX_ORIENTATION_DESC.TXT"
SPACECRAFT_POINTING_MODE = FIXED
^MEX_POINTING_DESC = "MEX_POINTING_DESC.TXT"
RIGHT_ASCENSION = -1e+32
DECLINATION = -1e+32
OFFSET_ANGLE = -1e+32
SPACECRAFT_SOLAR_DISTANCE = 2.09115e+08
TARGET_NAME = MARS
/* CAMERA DATA ELEMENTS */
DETECTOR_TEMPERATURE = 18.5744
FOCAL_PLANE_TEMPERATURE = 9.195
INST_CMPRS_NAME = "DISCRETE COSINE TRANSFORMATION (DCT)"
INST_CMPRS_RATIO = 11.1546
INST_CMPRS_QUALITY = 0
INST_CMPRS_QUANTZ_TBL_ID = 0
INSTRUMENT_TEMPERATURE = 11.234
LENS_TEMPERATURE = 9.6028
MACROPIXEL_SIZE = 2
MISSING_FRAMES = 0
PIXEL_SUBSAMPLING_FLAG = N
SIGNAL_CHAIN_ID = 3
/* RADIOMETRIC DATA ELEMENTS */
BANDWIDTH = 48.0
CENTER_FILTER_WAVELENGTH = 748.0
RADIANCE_OFFSET = 0.0
RADIANCE_SCALING_FACTOR = 0.0137696
REFLECTANCE_SCALING_FACTOR = 0.00137421
MEX:REFLECTANCE_OFFSET = 0.0
/* IMAGE OBJECT DEFINITIONS */
OBJECT = IMAGE
  INTERCHANGE_FORMAT = BINARY
  LINES = 7844
  LINE_SAMPLES = 6554
  SAMPLE_TYPE = UNSIGNED_INTEGER
  SAMPLE_BITS = 8
  BANDS = 1
  BAND_STORAGE_TYPE = BAND_SEQUENTIAL
  MAXIMUM = 255
  MEAN = 112.945
  MINIMUM = 1
  STANDARD_DEVIATION = 34.6527
END_OBJECT = IMAGE
/* MAP OBJECT DEFINITIONS */
OBJECT = IMAGE_MAP_PROJECTION
  ^DATA_SET_MAP_PROJECTION_CATALOG= "DSMAP.CAT"
  A_AXIS_RADIUS = 3396.0
  B_AXIS_RADIUS = 3396.0
  C_AXIS_RADIUS = 3396.0
  CENTER_LATITUDE = 6.35313
  CENTER_LONGITUDE = 279.14
  COORDINATE_SYSTEM_NAME = PLANETOGRAPHIC
  COORDINATE_SYSTEM_TYPE = "BODY-FIXED ROTATING"
  EASTERNMOST_LONGITUDE = 353.293
  FIRST_STANDARD_PARALLEL = "N/A"
  LINE_FIRST_PIXEL = 1
  LINE_LAST_PIXEL = 7844
  LINE_PROJECTION_OFFSET = 3950.75
  MAP_PROJECTION_ROTATION = 0.0
  MAP_PROJECTION_TYPE = ORTHOGRAPHIC
  MAP_RESOLUTION = 74.08922548333329
  MAP_SCALE = 0.8
  MAXIMUM_LATITUDE = 76.1698
  MINIMUM_LATITUDE = -62.6877
  POSITIVE_LONGITUDE_DIRECTION = EAST
  REFERENCE_LATITUDE = "N/A"
  REFERENCE_LONGITUDE = "N/A"
  SAMPLE_FIRST_PIXEL = 1
  SAMPLE_LAST_PIXEL = 6554
  SAMPLE_PROJECTION_OFFSET = 3261.25
  SECOND_STANDARD_PARALLEL = "N/A"
  WESTERNMOST_LONGITUDE = 214.391
END_OBJECT = IMAGE_MAP_PROJECTION
END
