PDS_VERSION_ID = PDS3
/* FILE DATA ELEMENTS */
RECORD_TYPE = UNDEFINED
/* POINTERS TO DATA OBJECTS */
^IMAGE = ("HP881_0000_GR4.TIF")
/* IDENTIFICATION DATA ELEMENTS */
DATA_SET_ID = "MEX-M-HRSC-4-REFDR-MAPPROJECT-EXT9-V4.0"
DATA_SET_NAME = "MARS EXPRESS HRSC MAP PROJECTED REFDR EXTENSION9 V4.0"
DETECTOR_ID = MEX_HRSC_GREEN
EVENT_TYPE = "MARS-REGIONAL-VARIABLE-Gl-At"
INSTRUMENT_HOST_ID = MEX
INSTRUMENT_HOST_NAME = "MARS EXPRESS"
INSTRUMENT_ID = HRSC
INSTRUMENT_NAME = "HIGH RESOLUTION STEREO CAMERA"
MISSION_NAME = "MARS EXPRESS"
MISSION_PHASE_NAME = ME_Phase_50
PROCESSING_LEVEL_ID = 4
PRODUCT_CREATION_TIME = 2024-08-22T02:21:17.000Z
PRODUCT_ID = "HP881_0000_GR4.TIF"
RELEASE_ID = 0016
REVISION_ID = 0000
/* QUALITY DATA ELEMENTS */
DATA_QUALITY_ID = 1
DATA_QUALITY_DESC = "Data calculated based on original SPICE kernels"
/* TIME DATA ELEMENTS */
SPACECRAFT_CLOCK_START_COUNT = "1/0667988730.65382"
SPACECRAFT_CLOCK_STOP_COUNT = "1/0667989782.48391"
START_TIME = 2024-07-02T08:27:31.573Z
STOP_TIME = 2024-07-02T08:39:00.879Z
/* ORBITAL DATA ELEMENTS */
ASCENDING_NODE_LONGITUDE = 94.61
MAXIMUM_RESOLUTION = 0.1346
FOOTPRINT_POINT_LATITUDE = (-74.5219,-74.72,-74.9199,-75.0069, -75.0091,-75.031,-76.1002,-76.8068, -77.508,-78.2044,-78.8964,-79.5839, -80.2643,-80.9408,-81.6119,-82.2777, -82.9374,-83.5926,-84.2403,-84.883, -85.52,-86.1478,-86.7676,-87.3754, -87.9651,-88.5206,-88.9932,-89.2251, -89.0345,-88.5885,-88.0596,-87.5033, -86.937,-86.3674,-85.7978,-85.2295, -84.6639,-84.1011,-83.5413,-82.4331, -81.3399,-80.2608,-79.1987,-78.1499, -77.1169,-76.0996,-75.0977,-74.849, -74.7949,-74.7922,-74.7605,-74.6583, -74.509,-74.2601,-74.0133,-73.8053, -73.7851,-73.7793,-74.7161,-75.6614, -76.6103,-77.5632,-78.5175,-79.4678, -80.4076,-81.3286,-82.2148,-82.6388, -83.0455,-83.4296,-83.7863,-84.1101, -84.3938,-84.6296,-84.8081,-84.9224, -84.9663,-84.9366,-84.8325,-84.6566, -84.4129,-84.1106,-83.7565,-83.3571, -82.9185,-82.4462,-81.9451,-81.419, -80.8711,-80.3042,-79.7204,-79.1214, -78.5089,-77.884,-77.2477,-76.6009, -75.9442,-74.942,-74.6037,-74.5219)
FOOTPRINT_POINT_LONGITUDE = (313.181,310.038,305.611,302.531, 302.428,302.278,302.471,302.619,302.787 ,302.975,303.183,303.413,303.696,304.01 ,304.379,304.811,305.333,305.951, 306.729,307.687,308.902,310.542,312.787 ,316.069,321.261,330.443,349.13,386.538 ,425.497,445.537,455.28,460.685,464.081 ,466.392,468.055,469.314,470.283, 471.058,471.695,472.654,473.34,473.866, 474.253,474.573,474.822,475.016,475.168 ,475.205,475.213,471.271,469.083, 465.398,461.991,458.038,455.007,452.839 ,452.644,452.578,451.581,450.415, 449.029,447.38,445.402,442.998,440.042, 436.363,431.717,428.936,425.788,422.222 ,418.189,413.644,408.557,402.925, 396.788,390.241,383.431,376.547,369.791 ,363.349,357.373,351.905,346.975, 342.574,338.673,335.227,332.181,329.488 ,327.103,324.985,323.099,321.408, 319.896,318.533,317.302,316.187,315.174 ,313.819,313.407,313.181)
ORBIT_NUMBER = 25881
ORBITAL_ECCENTRICITY = 0.574
ORBITAL_INCLINATION = 87.09
ORBITAL_SEMIMAJOR_AXIS = 8826.86
PERIAPSIS_ALTITUDE = 366.45
PERIAPSIS_ARGUMENT_ANGLE = 208.78
PERIAPSIS_TIME = 2024-07-02T08:14:46.000Z
SPACECRAFT_ORIENTATION = (0.0,-1.0,0.0)
^MEX_ORIENTATION_DESC = "MEX_ORIENTATION_DESC.TXT"
SPACECRAFT_POINTING_MODE = NADIR
^MEX_POINTING_DESC = "MEX_POINTING_DESC.TXT"
RIGHT_ASCENSION = -1e+32
DECLINATION = -1e+32
OFFSET_ANGLE = -1e+32
SPACECRAFT_SOLAR_DISTANCE = 2.09816e+08
TARGET_NAME = MARS
/* CAMERA DATA ELEMENTS */
DETECTOR_TEMPERATURE = 17.9627
FOCAL_PLANE_TEMPERATURE = 8.9911
INST_CMPRS_NAME = "DISCRETE COSINE TRANSFORMATION (DCT)"
INST_CMPRS_RATIO = 11.0904
INST_CMPRS_QUALITY = 0
INST_CMPRS_QUANTZ_TBL_ID = 0
INSTRUMENT_TEMPERATURE = 11.0301
LENS_TEMPERATURE = 9.3989
MACROPIXEL_SIZE = 4
MISSING_FRAMES = 0
PIXEL_SUBSAMPLING_FLAG = N
SIGNAL_CHAIN_ID = 2
/* RADIOMETRIC DATA ELEMENTS */
BANDWIDTH = 88.0
CENTER_FILTER_WAVELENGTH = 538.0
RADIANCE_OFFSET = 0.959857
RADIANCE_SCALING_FACTOR = 0.0249098
REFLECTANCE_SCALING_FACTOR = 0.000944144
MEX:REFLECTANCE_OFFSET = 0.036381
/* IMAGE OBJECT DEFINITIONS */
OBJECT = IMAGE
  INTERCHANGE_FORMAT = BINARY
  LINES = 11270
  LINE_SAMPLES = 16546
  SAMPLE_TYPE = UNSIGNED_INTEGER
  SAMPLE_BITS = 8
  BANDS = 1
  BAND_STORAGE_TYPE = BAND_SEQUENTIAL
  MAXIMUM = 255
  MEAN = 67.5009
  MINIMUM = 1
  STANDARD_DEVIATION = 70.2639
END_OBJECT = IMAGE
/* MAP OBJECT DEFINITIONS */
OBJECT = IMAGE_MAP_PROJECTION
  ^DATA_SET_MAP_PROJECTION_CATALOG= "DSMAP.CAT"
  A_AXIS_RADIUS = 3396.0
  B_AXIS_RADIUS = 3396.0
  C_AXIS_RADIUS = 3396.0
  CENTER_LATITUDE = -86.63500000000001
  CENTER_LONGITUDE = 56.1934
  COORDINATE_SYSTEM_NAME = PLANETOGRAPHIC
  COORDINATE_SYSTEM_TYPE = "BODY-FIXED ROTATING"
  EASTERNMOST_LONGITUDE = 115.213
  FIRST_STANDARD_PARALLEL = "N/A"
  LINE_FIRST_PIXEL = 1
  LINE_LAST_PIXEL = 11270
  LINE_PROJECTION_OFFSET = 5766.375
  MAP_PROJECTION_ROTATION = 0.0
  MAP_PROJECTION_TYPE = ORTHOGRAPHIC
  MAP_RESOLUTION = 592.713803866667
  MAP_SCALE = 0.1
  MAXIMUM_LATITUDE = -73.77930000000001
  MINIMUM_LATITUDE = -89.2251
  POSITIVE_LONGITUDE_DIRECTION = EAST
  REFERENCE_LATITUDE = "N/A"
  REFERENCE_LONGITUDE = "N/A"
  SAMPLE_FIRST_PIXEL = 1
  SAMPLE_LAST_PIXEL = 16546
  SAMPLE_PROJECTION_OFFSET = 8847.125
  SECOND_STANDARD_PARALLEL = "N/A"
  WESTERNMOST_LONGITUDE = -57.722
END_OBJECT = IMAGE_MAP_PROJECTION
END
