PDS_VERSION_ID = PDS3
/* FILE DATA ELEMENTS */
RECORD_TYPE = UNDEFINED
/* POINTERS TO DATA OBJECTS */
^IMAGE = ("HP890_0000_P24.TIF")
/* IDENTIFICATION DATA ELEMENTS */
DATA_SET_ID = "MEX-M-HRSC-4-REFDR-MAPPROJECT-EXT9-V4.0"
DATA_SET_NAME = "MARS EXPRESS HRSC MAP PROJECTED REFDR EXTENSION9 V4.0"
DETECTOR_ID = MEX_HRSC_P2
EVENT_TYPE = "MARS-REGIONAL-VARIABLE-Gl-At"
INSTRUMENT_HOST_ID = MEX
INSTRUMENT_HOST_NAME = "MARS EXPRESS"
INSTRUMENT_ID = HRSC
INSTRUMENT_NAME = "HIGH RESOLUTION STEREO CAMERA"
MISSION_NAME = "MARS EXPRESS"
MISSION_PHASE_NAME = ME_Phase_50
PROCESSING_LEVEL_ID = 4
PRODUCT_CREATION_TIME = 2024-08-22T02:21:17.000Z
PRODUCT_ID = "HP890_0000_P24.TIF"
RELEASE_ID = 0016
REVISION_ID = 0000
/* QUALITY DATA ELEMENTS */
DATA_QUALITY_ID = 1
DATA_QUALITY_DESC = "Data calculated based on original SPICE kernels"
/* TIME DATA ELEMENTS */
SPACECRAFT_CLOCK_START_COUNT = "1/0668215078.65131"
SPACECRAFT_CLOCK_STOP_COUNT = "1/0668216347.54025"
START_TIME = 2024-07-04T23:21:48.839Z
STOP_TIME = 2024-07-04T23:35:10.394Z
/* ORBITAL DATA ELEMENTS */
ASCENDING_NODE_LONGITUDE = 94.46
MAXIMUM_RESOLUTION = 0.084
FOOTPRINT_POINT_LATITUDE = (-74.3202,-74.6926,-74.9364,-75.1581, -75.3575,-75.535,-75.6912,-75.7002, -75.6296,-76.2833,-76.9348,-77.5787, -78.2141,-78.8437,-79.4611,-80.0679, -80.6649,-81.546,-82.1192,-82.682, -83.2328,-83.7706,-84.2927,-84.7992, -85.2862,-85.7488,-86.1818,-86.5768, -86.9226,-87.205,-87.4072,-87.5133, -87.4771,-87.3304,-86.8248,-86.1482, -85.3866,-84.5827,-83.7684,-82.9525, -82.1419,-81.3399,-80.5494,-79.7706, -79.0052,-78.4426,-78.256,-78.2295, -78.1818,-78.1245,-78.0331,-77.915, -77.7711,-77.6022,-77.4086,-77.191, -76.9504,-76.6526,-76.3645,-75.8916, -75.85,-75.8353,-76.4345,-77.035, -77.6334,-78.227,-78.8103,-79.3776, -79.9207,-80.4305,-80.8952,-81.3002, -81.6301,-81.8672,-81.9943,-82.0119, -81.9968,-81.9481,-81.8651,-81.7465, -81.5945,-81.4088,-81.1893,-80.9299, -80.6545,-80.344,-80.0038,-79.6397, -79.2467,-78.8372,-78.4038,-77.9398, -77.4721,-76.9734,-76.4636,-75.93, -75.3847,-74.5382,-74.2501,-74.3202)
FOOTPRINT_POINT_LONGITUDE = (124.28,121.625,119.651,117.642,115.604 ,113.535,111.439,111.308,111.236,111.71 ,112.229,112.797,113.421,114.112, 114.873,115.716,116.657,118.301,119.578 ,121.039,122.722,124.677,126.964, 129.679,132.931,136.861,141.66,147.55, 154.773,163.524,173.823,185.2,202.765, 213.44,230.174,241.407,248.95,254.206, 258.002,260.859,263.079,264.85,266.296, 267.498,268.513,269.179,269.385,269.413 ,265.805,263.288,260.44,257.634,254.876 ,252.173,249.529,246.951,244.444, 241.711,239.363,235.976,235.701,235.602 ,234.001,232.192,230.146,227.806, 225.137,222.07,218.557,214.559,209.986, 204.798,198.997,192.615,185.758,182.204 ,178.603,174.986,171.383,167.821, 164.336,160.949,157.68,154.529,151.554, 148.721,146.042,143.521,141.153,138.934 ,136.858,134.921,133.105,131.416, 129.836,128.367,126.992,125.098,124.506 ,124.28)
ORBIT_NUMBER = 25890
ORBITAL_ECCENTRICITY = 0.574
ORBITAL_INCLINATION = 87.08
ORBITAL_SEMIMAJOR_AXIS = 8833.85
PERIAPSIS_ALTITUDE = 366.99
PERIAPSIS_ARGUMENT_ANGLE = 207.22
PERIAPSIS_TIME = 2024-07-04T23:06:36.000Z
SPACECRAFT_ORIENTATION = (0.0,-1.0,0.0)
^MEX_ORIENTATION_DESC = "MEX_ORIENTATION_DESC.TXT"
SPACECRAFT_POINTING_MODE = ACROSSTRACK
^MEX_POINTING_DESC = "MEX_POINTING_DESC.TXT"
RIGHT_ASCENSION = -1e+32
DECLINATION = -1e+32
OFFSET_ANGLE = 2.29
SPACECRAFT_SOLAR_DISTANCE = 2.10111e+08
TARGET_NAME = MARS
/* CAMERA DATA ELEMENTS */
DETECTOR_TEMPERATURE = 18.7783
FOCAL_PLANE_TEMPERATURE = 8.9911
INST_CMPRS_NAME = "DISCRETE COSINE TRANSFORMATION (DCT)"
INST_CMPRS_RATIO = 10.7109
INST_CMPRS_QUALITY = 0
INST_CMPRS_QUANTZ_TBL_ID = 0
INSTRUMENT_TEMPERATURE = 10.8262
LENS_TEMPERATURE = 9.3989
MACROPIXEL_SIZE = 2
MISSING_FRAMES = 0
PIXEL_SUBSAMPLING_FLAG = N
SIGNAL_CHAIN_ID = 3
/* RADIOMETRIC DATA ELEMENTS */
BANDWIDTH = 177.0
CENTER_FILTER_WAVELENGTH = 676.5
RADIANCE_OFFSET = 2.17417
RADIANCE_SCALING_FACTOR = 0.0344527
REFLECTANCE_SCALING_FACTOR = 0.000806458
MEX:REFLECTANCE_OFFSET = 0.0508924
/* IMAGE OBJECT DEFINITIONS */
OBJECT = IMAGE
  INTERCHANGE_FORMAT = BINARY
  LINES = 7373
  LINE_SAMPLES = 29750
  SAMPLE_TYPE = UNSIGNED_INTEGER
  SAMPLE_BITS = 8
  BANDS = 1
  BAND_STORAGE_TYPE = BAND_SEQUENTIAL
  MAXIMUM = 255
  MEAN = 48.5612
  MINIMUM = 1
  STANDARD_DEVIATION = 19.1487
END_OBJECT = IMAGE
/* MAP OBJECT DEFINITIONS */
OBJECT = IMAGE_MAP_PROJECTION
  ^DATA_SET_MAP_PROJECTION_CATALOG= "DSMAP.CAT"
  A_AXIS_RADIUS = 3396.0
  B_AXIS_RADIUS = 3396.0
  C_AXIS_RADIUS = 3396.0
  CENTER_LATITUDE = -84.7604
  CENTER_LONGITUDE = 184.41
  COORDINATE_SYSTEM_NAME = PLANETOGRAPHIC
  COORDINATE_SYSTEM_TYPE = "BODY-FIXED ROTATING"
  EASTERNMOST_LONGITUDE = 269.413
  FIRST_STANDARD_PARALLEL = "N/A"
  LINE_FIRST_PIXEL = 1
  LINE_LAST_PIXEL = 7373
  LINE_PROJECTION_OFFSET = 3613.25
  MAP_PROJECTION_ROTATION = 0.0
  MAP_PROJECTION_TYPE = ORTHOGRAPHIC
  MAP_RESOLUTION = 1185.42760773333
  MAP_SCALE = 0.05
  MAXIMUM_LATITUDE = -74.2501
  MINIMUM_LATITUDE = -87.5133
  POSITIVE_LONGITUDE_DIRECTION = EAST
  REFERENCE_LATITUDE = "N/A"
  REFERENCE_LONGITUDE = "N/A"
  SAMPLE_FIRST_PIXEL = 1
  SAMPLE_LAST_PIXEL = 29750
  SAMPLE_PROJECTION_OFFSET = 16236.75
  SECOND_STANDARD_PARALLEL = "N/A"
  WESTERNMOST_LONGITUDE = 111.236
END_OBJECT = IMAGE_MAP_PROJECTION
END
