PDS_VERSION_ID = PDS3
/* FILE DATA ELEMENTS */
RECORD_TYPE = UNDEFINED
/* POINTERS TO DATA OBJECTS */
^IMAGE = ("HP894_0000_RE4.TIF")
/* IDENTIFICATION DATA ELEMENTS */
DATA_SET_ID = "MEX-M-HRSC-4-REFDR-MAPPROJECT-EXT9-V4.0"
DATA_SET_NAME = "MARS EXPRESS HRSC MAP PROJECTED REFDR EXTENSION9 V4.0"
DETECTOR_ID = MEX_HRSC_RED
EVENT_TYPE = "MARS-TERMINATOR-CALIBRATION-Tc"
INSTRUMENT_HOST_ID = MEX
INSTRUMENT_HOST_NAME = "MARS EXPRESS"
INSTRUMENT_ID = HRSC
INSTRUMENT_NAME = "HIGH RESOLUTION STEREO CAMERA"
MISSION_NAME = "MARS EXPRESS"
MISSION_PHASE_NAME = ME_Phase_50
PROCESSING_LEVEL_ID = 4
PRODUCT_CREATION_TIME = 2024-08-22T02:21:17.000Z
PRODUCT_ID = "HP894_0000_RE4.TIF"
RELEASE_ID = 0016
REVISION_ID = 0000
/* QUALITY DATA ELEMENTS */
DATA_QUALITY_ID = 1
DATA_QUALITY_DESC = "Data calculated based on original SPICE kernels"
/* TIME DATA ELEMENTS */
SPACECRAFT_CLOCK_START_COUNT = "1/0668320706.65130"
SPACECRAFT_CLOCK_STOP_COUNT = "1/0668321143.64728"
START_TIME = 2024-07-06T04:43:16.346Z
STOP_TIME = 2024-07-06T04:46:31.526Z
/* ORBITAL DATA ELEMENTS */
ASCENDING_NODE_LONGITUDE = 94.39
MAXIMUM_RESOLUTION = 0.6225
FOOTPRINT_POINT_LATITUDE = (-43.8684,-45.1539,-46.5064,-47.9393, -49.4734,-51.1372,-52.9709,-55.0432, -56.2067,-57.4928,-58.9562,-60.7209, -62.4947,-63.3406,-63.6961,-63.0725, -59.957,-59.5606,-55.9506,-54.1485, -52.5131,-50.923,-49.4977,-48.8023, -47.1041,-44.3457,-41.8897,-39.6795, -37.5784,-33.6737,-30.0725,-26.635, -23.3212,-20.0661,-16.8503,-13.6205, -10.3304,-7.77128,-6.01602,-4.17648, -2.21487,-0.0547132,1.17739,2.67286, 5.68074,7.33602,9.14609,11.3704,13.7506 ,14.6524,17.1086,19.0193,22.8101, 24.7675,26.5706,29.4383,29.7588,31.8628 ,35.4643,37.135,39.2571,41.6314,44.7382 ,45.4682,43.975,43.6573,43.5461,39.7185 ,37.1065,34.9777,33.092,31.3774,28.3429 ,25.6712,23.2315,20.9522,18.7293, 16.7134,13.2169,10.6489,7.40738,4.33454 ,1.40093,-1.44806,-4.22241,-6.94526, -9.63446,-12.3085,-14.984,-17.6768, -20.404,-23.1807,-26.0432,-29.0033, -32.0962,-35.3648,-38.8562,-42.6499, -43.6575,-43.8684)
FOOTPRINT_POINT_LONGITUDE = (206.065,208.875,211.877,215.125, 218.702,222.732,227.409,233.09,236.52, 240.57,245.597,252.471,260.734,265.418, 266.378,270.969,267.084,272.808,272.311 ,276.053,271.485,276.567,273.13,276.528 ,270.278,264.616,261.249,259.145, 257.542,255.474,254.467,254.013,254.057 ,254.407,255.209,256.402,258.057, 259.858,261.183,262.925,265.2,268.338, 270.618,274.208,272.679,275.797,273.223 ,272.575,272.527,270.599,269.994,272.4, 270.341,271.82,266.662,270.514,265.563, 266.271,264.381,262.304,261.241,259.864 ,259.111,257.943,253.618,252.367, 251.935,246.67,243.688,241.535,239.79, 238.315,235.938,234.051,232.462,231.071 ,229.76,228.659,226.985,225.786,224.357 ,223.079,221.929,220.847,219.833, 218.865,217.936,217.031,216.139,215.25, 214.354,213.439,212.5,211.513,210.463, 209.322,208.052,206.593,206.188, 206.065)
ORBIT_NUMBER = 25894
ORBITAL_ECCENTRICITY = 0.574
ORBITAL_INCLINATION = 87.09
ORBITAL_SEMIMAJOR_AXIS = 8833.68
PERIAPSIS_ALTITUDE = 366.62
PERIAPSIS_ARGUMENT_ANGLE = 206.58
PERIAPSIS_TIME = 2024-07-06T03:02:58.000Z
SPACECRAFT_ORIENTATION = (0.0,-1.0,0.0)
^MEX_ORIENTATION_DESC = "MEX_ORIENTATION_DESC.TXT"
SPACECRAFT_POINTING_MODE = FIXED
^MEX_POINTING_DESC = "MEX_POINTING_DESC.TXT"
RIGHT_ASCENSION = -1e+32
DECLINATION = -1e+32
OFFSET_ANGLE = -1e+32
SPACECRAFT_SOLAR_DISTANCE = 2.10246e+08
TARGET_NAME = MARS
/* CAMERA DATA ELEMENTS */
DETECTOR_TEMPERATURE = 18.3705
FOCAL_PLANE_TEMPERATURE = 9.3989
INST_CMPRS_NAME = "DISCRETE COSINE TRANSFORMATION (DCT)"
INST_CMPRS_RATIO = 12.4861
INST_CMPRS_QUALITY = 0
INST_CMPRS_QUANTZ_TBL_ID = 0
INSTRUMENT_TEMPERATURE = 11.0301
LENS_TEMPERATURE = 10.0106
MACROPIXEL_SIZE = 2
MISSING_FRAMES = 0
PIXEL_SUBSAMPLING_FLAG = N
SIGNAL_CHAIN_ID = 3
/* RADIOMETRIC DATA ELEMENTS */
BANDWIDTH = 48.0
CENTER_FILTER_WAVELENGTH = 748.0
RADIANCE_OFFSET = 0.0
RADIANCE_SCALING_FACTOR = 0.0172144
REFLECTANCE_SCALING_FACTOR = 0.00173663
MEX:REFLECTANCE_OFFSET = 0.0
/* IMAGE OBJECT DEFINITIONS */
OBJECT = IMAGE
  INTERCHANGE_FORMAT = BINARY
  LINES = 4079
  LINE_SAMPLES = 3981
  SAMPLE_TYPE = UNSIGNED_INTEGER
  SAMPLE_BITS = 8
  BANDS = 1
  BAND_STORAGE_TYPE = BAND_SEQUENTIAL
  MAXIMUM = 254
  MEAN = 190.543
  MINIMUM = 106
  STANDARD_DEVIATION = 28.4218
END_OBJECT = IMAGE
/* MAP OBJECT DEFINITIONS */
OBJECT = IMAGE_MAP_PROJECTION
  ^DATA_SET_MAP_PROJECTION_CATALOG= "DSMAP.CAT"
  A_AXIS_RADIUS = 3396.0
  B_AXIS_RADIUS = 3396.0
  C_AXIS_RADIUS = 3396.0
  CENTER_LATITUDE = 8.45316
  CENTER_LONGITUDE = 240.991
  COORDINATE_SYSTEM_NAME = PLANETOGRAPHIC
  COORDINATE_SYSTEM_TYPE = "BODY-FIXED ROTATING"
  EASTERNMOST_LONGITUDE = 276.567
  FIRST_STANDARD_PARALLEL = "N/A"
  LINE_FIRST_PIXEL = 1
  LINE_LAST_PIXEL = 4079
  LINE_PROJECTION_OFFSET = 2553.75
  MAP_PROJECTION_ROTATION = 0.0
  MAP_PROJECTION_TYPE = ORTHOGRAPHIC
  MAP_RESOLUTION = 74.08922548333329
  MAP_SCALE = 0.8
  MAXIMUM_LATITUDE = 45.4682
  MINIMUM_LATITUDE = -63.6961
  POSITIVE_LONGITUDE_DIRECTION = EAST
  REFERENCE_LATITUDE = "N/A"
  REFERENCE_LONGITUDE = "N/A"
  SAMPLE_FIRST_PIXEL = 1
  SAMPLE_LAST_PIXEL = 3981
  SAMPLE_PROJECTION_OFFSET = 1523.75
  SECOND_STANDARD_PARALLEL = "N/A"
  WESTERNMOST_LONGITUDE = 206.065
END_OBJECT = IMAGE_MAP_PROJECTION
END
