PDS_VERSION_ID = PDS3
/* FILE DATA ELEMENTS */
RECORD_TYPE = UNDEFINED
/* POINTERS TO DATA OBJECTS */
^IMAGE = ("HP922_0001_GR4.TIF")
/* IDENTIFICATION DATA ELEMENTS */
DATA_SET_ID = "MEX-M-HRSC-4-REFDR-MAPPROJECT-EXT9-V4.0"
DATA_SET_NAME = "MARS EXPRESS HRSC MAP PROJECTED REFDR EXTENSION9 V4.0"
DETECTOR_ID = MEX_HRSC_GREEN
EVENT_TYPE = "MARS-TERMINATOR-CALIBRATION-Tc"
INSTRUMENT_HOST_ID = MEX
INSTRUMENT_HOST_NAME = "MARS EXPRESS"
INSTRUMENT_ID = HRSC
INSTRUMENT_NAME = "HIGH RESOLUTION STEREO CAMERA"
MISSION_NAME = "MARS EXPRESS"
MISSION_PHASE_NAME = ME_Phase_50
PROCESSING_LEVEL_ID = 4
PRODUCT_CREATION_TIME = 2024-08-22T08:06:08.000Z
PRODUCT_ID = "HP922_0001_GR4.TIF"
RELEASE_ID = 0017
REVISION_ID = 0000
/* QUALITY DATA ELEMENTS */
DATA_QUALITY_ID = 1
DATA_QUALITY_DESC = "Data calculated based on original SPICE kernels"
/* TIME DATA ELEMENTS */
SPACECRAFT_CLOCK_START_COUNT = "1/0669028111.64152"
SPACECRAFT_CLOCK_STOP_COUNT = "1/0669028290.55042"
START_TIME = 2024-07-14T09:10:08.679Z
STOP_TIME = 2024-07-14T09:12:18.538Z
/* ORBITAL DATA ELEMENTS */
ASCENDING_NODE_LONGITUDE = 93.91
MAXIMUM_RESOLUTION = 0.7835
FOOTPRINT_POINT_LATITUDE = (21.1289,19.8211,18.5109,17.1921, 15.8587,14.5039,13.1219,11.7043,10.2352 ,9.47509,8.69329,7.8844,7.04029,6.14724 ,5.17947,4.65076,4.0695,3.37543,2.87373 ,3.23113,-0.00568869,-1.1505,-1.18351, -3.86324,-4.96453,-5.03361,-5.81711, -6.65189,-8.06091,-9.97521,-12.0041, -13.5343,-15.6661,-17.8815,-20.1933, -22.6132,-25.1675,-27.9035,-30.8792, -34.2112,-38.1416,-40.4017,-42.2347, -43.8227,-44.2522,-46.6777,-47.201, -49.887,-52.2799,-55.382,-53.5852, -57.5592,-56.1915,-60.2778,-58.5417, -61.0868,-59.8863,-61.7829,-61.5314, -61.9002,-63.6216,-60.8961,-56.5361, -52.8768,-50.054,-47.7681,-45.7948, -44.0172,-40.9019,-38.2627,-35.6063, -33.4739,-31.5177,-31.2837,-31.1965, -28.8685,-26.023,-23.3782,-20.868, -18.5132,-16.2622,-14.0906,-11.9921, -9.95687,-7.97091,-6.02697,-3.64402, -1.76385,0.0982874,1.94743,5.63053, 7.47425,9.32823,11.1961,14.4959,16.4165 ,18.4146,20.4715,20.9899,21.1289)
FOOTPRINT_POINT_LONGITUDE = (232.802,235.406,238.068,240.813, 243.672,246.684,249.891,253.36,257.201, 259.312,261.592,264.09,266.884,270.109, 274.041,276.462,279.448,283.719,287.719 ,284.674,285.636,289.207,283.475,286.36 ,289.004,284.413,280.9,278.109,275.303, 272.201,269.938,268.396,266.764,265.44, 264.388,263.581,263.035,262.816,263.013 ,263.853,265.892,267.599,270.141, 272.296,268.88,273.146,265.37,269.843, 263.956,263.932,257.65,258.745,253.633, 256.556,250.801,252.818,248.168,246.113 ,240.479,238.287,239.75,236.342,231.252 ,227.146,224.059,221.512,219.28,217.257 ,213.639,210.396,207.033,204.209, 201.477,201.14,201.021,202.558,204.371, 205.998,207.495,208.876,210.175,211.412 ,212.597,213.742,214.857,215.948, 217.291,218.355,219.416,220.481,222.635 ,223.742,224.876,226.04,228.15,229.427, 230.825,232.319,232.703,232.802)
ORBIT_NUMBER = 25922
ORBITAL_ECCENTRICITY = 0.574
ORBITAL_INCLINATION = 87.09
ORBITAL_SEMIMAJOR_AXIS = 8840.1
PERIAPSIS_ALTITUDE = 368.3
PERIAPSIS_ARGUMENT_ANGLE = 201.77
PERIAPSIS_TIME = 2024-07-14T06:36:46.000Z
SPACECRAFT_ORIENTATION = (0.0,-1.0,0.0)
^MEX_ORIENTATION_DESC = "MEX_ORIENTATION_DESC.TXT"
SPACECRAFT_POINTING_MODE = FIXED
^MEX_POINTING_DESC = "MEX_POINTING_DESC.TXT"
RIGHT_ASCENSION = -1e+32
DECLINATION = -1e+32
OFFSET_ANGLE = -1e+32
SPACECRAFT_SOLAR_DISTANCE = 2.11254e+08
TARGET_NAME = MARS
/* CAMERA DATA ELEMENTS */
DETECTOR_TEMPERATURE = 19.5939
FOCAL_PLANE_TEMPERATURE = 10.2145
INST_CMPRS_NAME = "DISCRETE COSINE TRANSFORMATION (DCT)"
INST_CMPRS_RATIO = 7.32868
INST_CMPRS_QUALITY = 0
INST_CMPRS_QUANTZ_TBL_ID = 0
INSTRUMENT_TEMPERATURE = 14.2925
LENS_TEMPERATURE = 10.4184
MACROPIXEL_SIZE = 2
MISSING_FRAMES = 0
PIXEL_SUBSAMPLING_FLAG = N
SIGNAL_CHAIN_ID = 2
/* RADIOMETRIC DATA ELEMENTS */
BANDWIDTH = 88.0
CENTER_FILTER_WAVELENGTH = 538.0
RADIANCE_OFFSET = 0.0
RADIANCE_SCALING_FACTOR = 0.0202539
REFLECTANCE_SCALING_FACTOR = 0.000778332
MEX:REFLECTANCE_OFFSET = 0.0
/* IMAGE OBJECT DEFINITIONS */
OBJECT = IMAGE
  INTERCHANGE_FORMAT = BINARY
  LINES = 5571
  LINE_SAMPLES = 5434
  SAMPLE_TYPE = UNSIGNED_INTEGER
  SAMPLE_BITS = 8
  BANDS = 1
  BAND_STORAGE_TYPE = BAND_SEQUENTIAL
  MAXIMUM = 254
  MEAN = 159.673
  MINIMUM = 67
  STANDARD_DEVIATION = 32.6516
END_OBJECT = IMAGE
/* MAP OBJECT DEFINITIONS */
OBJECT = IMAGE_MAP_PROJECTION
  ^DATA_SET_MAP_PROJECTION_CATALOG= "DSMAP.CAT"
  A_AXIS_RADIUS = 3396.0
  B_AXIS_RADIUS = 3396.0
  C_AXIS_RADIUS = 3396.0
  CENTER_LATITUDE = -12.016
  CENTER_LONGITUDE = 234.398
  COORDINATE_SYSTEM_NAME = PLANETOGRAPHIC
  COORDINATE_SYSTEM_TYPE = "BODY-FIXED ROTATING"
  EASTERNMOST_LONGITUDE = 289.207
  FIRST_STANDARD_PARALLEL = "N/A"
  LINE_FIRST_PIXEL = 1
  LINE_LAST_PIXEL = 5571
  LINE_PROJECTION_OFFSET = 2308.0
  MAP_PROJECTION_ROTATION = 0.0
  MAP_PROJECTION_TYPE = ORTHOGRAPHIC
  MAP_RESOLUTION = 74.08922548333329
  MAP_SCALE = 0.8
  MAXIMUM_LATITUDE = 21.1289
  MINIMUM_LATITUDE = -63.6216
  POSITIVE_LONGITUDE_DIRECTION = EAST
  REFERENCE_LATITUDE = "N/A"
  REFERENCE_LONGITUDE = "N/A"
  SAMPLE_FIRST_PIXEL = 1
  SAMPLE_LAST_PIXEL = 5434
  SAMPLE_PROJECTION_OFFSET = 1983.0
  SECOND_STANDARD_PARALLEL = "N/A"
  WESTERNMOST_LONGITUDE = 201.021
END_OBJECT = IMAGE_MAP_PROJECTION
END
