PDS_VERSION_ID = PDS3
/* FILE DATA ELEMENTS */
RECORD_TYPE = UNDEFINED
/* POINTERS TO DATA OBJECTS */
^IMAGE = ("HQ164_0009_ND4.TIF")
/* IDENTIFICATION DATA ELEMENTS */
DATA_SET_ID = "MEX-M-HRSC-4-REFDR-MAPPROJECT-EXT9-V4.0"
DATA_SET_NAME = "MARS EXPRESS HRSC MAP PROJECTED REFDR EXTENSION9 V4.0"
DETECTOR_ID = MEX_HRSC_NADIR
EVENT_TYPE = "MARS-LOCAL-STEREO-Vo-Eo-At"
INSTRUMENT_HOST_ID = MEX
INSTRUMENT_HOST_NAME = "MARS EXPRESS"
INSTRUMENT_ID = HRSC
INSTRUMENT_NAME = "HIGH RESOLUTION STEREO CAMERA"
MISSION_NAME = "MARS EXPRESS"
MISSION_PHASE_NAME = ME_Phase_50
PROCESSING_LEVEL_ID = 4
PRODUCT_CREATION_TIME = 2025-01-29T00:31:31.000Z
PRODUCT_ID = "HQ164_0009_ND4.TIF"
RELEASE_ID = 0019
REVISION_ID = 0000
/* QUALITY DATA ELEMENTS */
DATA_QUALITY_ID = 1
DATA_QUALITY_DESC = "Data calculated based on original SPICE kernels"
/* TIME DATA ELEMENTS */
SPACECRAFT_CLOCK_START_COUNT = "1/0675104022.65359"
SPACECRAFT_CLOCK_STOP_COUNT = "1/0675104351.41481"
START_TIME = 2024-09-22T16:55:09.525Z
STOP_TIME = 2024-09-22T16:59:17.520Z
/* ORBITAL DATA ELEMENTS */
ASCENDING_NODE_LONGITUDE = 89.69
MAXIMUM_RESOLUTION = 0.0157
FOOTPRINT_POINT_LATITUDE = (19.7189,19.723,19.7259,19.7275,19.7276 ,19.7282,19.4162,19.1042,18.7922, 18.4802,18.1683,17.8564,17.5445,17.2327 ,16.9209,16.6093,16.2976,15.9861, 15.6746,15.3632,15.0519,14.7407,14.4296 ,14.1186,13.8077,13.497,13.1864,12.876, 12.2555,11.6357,11.0166,10.3982,9.78061 ,9.16389,8.54807,8.23358,7.91797, 7.60262,7.28755,6.97275,6.65824,6.17844 ,5.85641,5.53473,5.21336,4.89233, 4.56533,4.23675,4.07262,4.06257,4.05789 ,4.05084,4.04605,4.04023,4.03999, 4.04014,4.36877,4.8608,5.18211,5.50376, 5.82573,6.14803,6.62848,6.94326,7.25832 ,7.57366,7.88928,8.20515,8.52015,9.1365 ,9.75375,10.3718,10.9907,11.6104, 12.2307,12.5411,12.8517,13.1624,13.4733 ,13.7843,14.0954,14.4067,14.718,15.0295 ,15.3411,15.6527,15.9645,16.2763, 16.5882,16.9002,17.2123,17.5244,17.8365 ,18.3048,18.6171,18.9293,19.2416, 19.5539,19.7101,19.7189)
FOOTPRINT_POINT_LONGITUDE = (195.067,194.6,194.118,193.65,193.636, 193.616,193.615,193.615,193.614,193.613 ,193.611,193.61,193.608,193.606,193.604 ,193.602,193.6,193.597,193.595,193.592, 193.589,193.586,193.583,193.58,193.576, 193.572,193.569,193.565,193.557,193.548 ,193.538,193.529,193.518,193.507, 193.495,193.489,193.483,193.477,193.47, 193.464,193.457,193.446,193.439,193.431 ,193.424,193.416,193.408,193.4,193.396, 193.396,193.733,194.222,194.544,194.926 ,194.942,194.949,194.95,194.953,194.954 ,194.956,194.958,194.959,194.962, 194.964,194.966,194.968,194.97,194.972, 194.974,194.978,194.983,194.987,194.992 ,194.997,195.003,195.006,195.008, 195.011,195.014,195.017,195.02,195.023, 195.026,195.029,195.032,195.035,195.039 ,195.042,195.045,195.048,195.052, 195.055,195.059,195.064,195.067,195.071 ,195.075,195.078,195.08,195.067)
ORBIT_NUMBER = 26164
ORBITAL_ECCENTRICITY = 0.572
ORBITAL_INCLINATION = 87.1
ORBITAL_SEMIMAJOR_AXIS = 8834.57
PERIAPSIS_ALTITUDE = 389.56
PERIAPSIS_ARGUMENT_ANGLE = 160.37
PERIAPSIS_TIME = 2024-09-22T16:55:10.000Z
SPACECRAFT_ORIENTATION = (0.0,-1.0,0.0)
^MEX_ORIENTATION_DESC = "MEX_ORIENTATION_DESC.TXT"
SPACECRAFT_POINTING_MODE = NADIR
^MEX_POINTING_DESC = "MEX_POINTING_DESC.TXT"
RIGHT_ASCENSION = -1e+32
DECLINATION = -1e+32
OFFSET_ANGLE = -1e+32
SPACECRAFT_SOLAR_DISTANCE = 2.23203e+08
TARGET_NAME = MARS
/* CAMERA DATA ELEMENTS */
DETECTOR_TEMPERATURE = 17.7588
FOCAL_PLANE_TEMPERATURE = 9.195
INST_CMPRS_NAME = "DISCRETE COSINE TRANSFORMATION (DCT)"
INST_CMPRS_RATIO = 7.54879
INST_CMPRS_QUALITY = 0
INST_CMPRS_QUANTZ_TBL_ID = 0
INSTRUMENT_TEMPERATURE = 10.8262
LENS_TEMPERATURE = 9.6028
MACROPIXEL_SIZE = 1
MISSING_FRAMES = 0
PIXEL_SUBSAMPLING_FLAG = N
SIGNAL_CHAIN_ID = 0
/* RADIOMETRIC DATA ELEMENTS */
BANDWIDTH = 177.0
CENTER_FILTER_WAVELENGTH = 677.5
RADIANCE_OFFSET = 2.8105
RADIANCE_SCALING_FACTOR = 0.0111685
REFLECTANCE_SCALING_FACTOR = 0.000295582
MEX:REFLECTANCE_OFFSET = 0.0743818
/* IMAGE OBJECT DEFINITIONS */
OBJECT = IMAGE
  INTERCHANGE_FORMAT = BINARY
  LINES = 74388
  LINE_SAMPLES = 7867
  SAMPLE_TYPE = UNSIGNED_INTEGER
  SAMPLE_BITS = 8
  BANDS = 1
  BAND_STORAGE_TYPE = BAND_SEQUENTIAL
  MAXIMUM = 255
  MEAN = 90.6318
  MINIMUM = 1
  STANDARD_DEVIATION = 29.1734
END_OBJECT = IMAGE
/* MAP OBJECT DEFINITIONS */
OBJECT = IMAGE_MAP_PROJECTION
  ^DATA_SET_MAP_PROJECTION_CATALOG= "DSMAP.CAT"
  A_AXIS_RADIUS = 3396.0
  B_AXIS_RADIUS = 3396.0
  C_AXIS_RADIUS = 3396.0
  CENTER_LATITUDE = 0.0
  CENTER_LONGITUDE = 194.0
  COORDINATE_SYSTEM_NAME = PLANETOGRAPHIC
  COORDINATE_SYSTEM_TYPE = "BODY-FIXED ROTATING"
  EASTERNMOST_LONGITUDE = 195.08
  FIRST_STANDARD_PARALLEL = "N/A"
  LINE_FIRST_PIXEL = 1
  LINE_LAST_PIXEL = 74388
  LINE_PROJECTION_OFFSET = 93542.0
  MAP_PROJECTION_ROTATION = 0.0
  MAP_PROJECTION_TYPE = SINUSOIDAL
  MAP_RESOLUTION = 4741.71043093333
  MAP_SCALE = 0.0125
  MAXIMUM_LATITUDE = 19.7282
  MINIMUM_LATITUDE = 4.03999
  POSITIVE_LONGITUDE_DIRECTION = EAST
  REFERENCE_LATITUDE = "N/A"
  REFERENCE_LONGITUDE = "N/A"
  SAMPLE_FIRST_PIXEL = 1
  SAMPLE_LAST_PIXEL = 7867
  SAMPLE_PROJECTION_OFFSET = 2950.0
  SECOND_STANDARD_PARALLEL = "N/A"
  WESTERNMOST_LONGITUDE = 193.396
END_OBJECT = IMAGE_MAP_PROJECTION
END
