PDS_VERSION_ID = PDS3
/* FILE DATA ELEMENTS */
RECORD_TYPE = UNDEFINED
/* POINTERS TO DATA OBJECTS */
^IMAGE = ("HQ191_0001_IR4.TIF")
/* IDENTIFICATION DATA ELEMENTS */
DATA_SET_ID = "MEX-M-HRSC-4-REFDR-MAPPROJECT-EXT9-V4.0"
DATA_SET_NAME = "MARS EXPRESS HRSC MAP PROJECTED REFDR EXTENSION9 V4.0"
DETECTOR_ID = MEX_HRSC_IR
EVENT_TYPE = "MARS-REGIONAL-COLOR-Eb-La-Ts"
INSTRUMENT_HOST_ID = MEX
INSTRUMENT_HOST_NAME = "MARS EXPRESS"
INSTRUMENT_ID = HRSC
INSTRUMENT_NAME = "HIGH RESOLUTION STEREO CAMERA"
MISSION_NAME = "MARS EXPRESS"
MISSION_PHASE_NAME = ME_Phase_50
PROCESSING_LEVEL_ID = 4
PRODUCT_CREATION_TIME = 2025-01-29T00:31:31.000Z
PRODUCT_ID = "HQ191_0001_IR4.TIF"
RELEASE_ID = 0019
REVISION_ID = 0000
/* QUALITY DATA ELEMENTS */
DATA_QUALITY_ID = 1
DATA_QUALITY_DESC = "Data calculated based on original SPICE kernels"
/* TIME DATA ELEMENTS */
SPACECRAFT_CLOCK_START_COUNT = "1/0675783119.64168"
SPACECRAFT_CLOCK_STOP_COUNT = "1/0675783324.04488"
START_TIME = 2024-09-30T13:32:57.514Z
STOP_TIME = 2024-09-30T13:34:52.780Z
/* ORBITAL DATA ELEMENTS */
ASCENDING_NODE_LONGITUDE = 89.22
MAXIMUM_RESOLUTION = 0.0343
FOOTPRINT_POINT_LATITUDE = (13.5282,13.5314,13.5357,13.5387, 13.5404,13.5419,13.5426,13.5427,13.518, 13.3052,13.0925,12.8087,12.5959,12.2417 ,11.8161,11.5325,11.3145,11.169,11.0237 ,10.8783,10.7302,10.4422,10.2956, 10.1499,10.0048,9.86056,9.71525,9.56965 ,9.42423,9.27624,9.12711,8.90339, 8.75421,8.60514,8.45624,8.30702,8.15802 ,7.93489,7.78588,7.56245,7.41015,7.2572 ,7.0278,6.87451,6.7225,6.56967,6.41676, 6.26398,6.18758,6.13626,6.13165,6.13076 ,6.12834,6.12513,6.12261,6.11871, 6.11366,6.11336,6.1138,6.26658,6.41962, 6.57238,6.80146,6.95426,7.10738,7.33714 ,7.48978,7.71423,7.93802,8.08706, 8.23623,8.38573,8.53541,8.75892,8.9084, 9.0576,9.20687,9.35581,9.5005,9.64632, 9.79185,9.93707,10.1556,10.3015,10.4472 ,10.5928,10.7386,10.8845,11.0305, 11.1758,11.3217,11.6101,11.894,12.2493, 12.6037,12.8168,13.1011,13.3851,13.456, 13.5282)
FOOTPRINT_POINT_LONGITUDE = (316.965,316.752,316.427,316.144, 315.932,315.691,315.521,315.507,315.493 ,315.49,315.487,315.482,315.479,315.473 ,315.466,315.461,315.458,315.455, 315.452,315.45,315.446,315.442,315.439, 315.436,315.433,315.431,315.428,315.425 ,315.422,315.419,315.416,315.411, 315.408,315.405,315.402,315.399,315.395 ,315.391,315.387,315.382,315.379, 315.375,315.37,315.366,315.362,315.358, 315.355,315.351,315.349,315.347,315.59, 315.88,316.062,316.26,316.412,316.64, 316.899,316.914,316.92,316.92,316.921, 316.922,316.924,316.924,316.925,316.927 ,316.928,316.929,316.931,316.932, 316.933,316.934,316.935,316.936,316.937 ,316.938,316.939,316.941,316.942, 316.943,316.944,316.945,316.947,316.948 ,316.949,316.95,316.951,316.952,316.953 ,316.955,316.956,316.958,316.96,316.963 ,316.966,316.968,316.97,316.973,316.973 ,316.965)
ORBIT_NUMBER = 26191
ORBITAL_ECCENTRICITY = 0.571
ORBITAL_INCLINATION = 87.11
ORBITAL_SEMIMAJOR_AXIS = 8829.89
PERIAPSIS_ALTITUDE = 392.6
PERIAPSIS_ARGUMENT_ANGLE = 155.77
PERIAPSIS_TIME = 2024-09-30T13:30:40.000Z
SPACECRAFT_ORIENTATION = (0.0,-1.0,0.0)
^MEX_ORIENTATION_DESC = "MEX_ORIENTATION_DESC.TXT"
SPACECRAFT_POINTING_MODE = NADIR
^MEX_POINTING_DESC = "MEX_POINTING_DESC.TXT"
RIGHT_ASCENSION = -1e+32
DECLINATION = -1e+32
OFFSET_ANGLE = -1e+32
SPACECRAFT_SOLAR_DISTANCE = 2.24731e+08
TARGET_NAME = MARS
/* CAMERA DATA ELEMENTS */
DETECTOR_TEMPERATURE = 17.5549
FOCAL_PLANE_TEMPERATURE = 9.3989
INST_CMPRS_NAME = "DISCRETE COSINE TRANSFORMATION (DCT)"
INST_CMPRS_RATIO = 4.66425
INST_CMPRS_QUALITY = 0
INST_CMPRS_QUANTZ_TBL_ID = 0
INSTRUMENT_TEMPERATURE = 11.234
LENS_TEMPERATURE = 8.9911
MACROPIXEL_SIZE = 2
MISSING_FRAMES = 0
PIXEL_SUBSAMPLING_FLAG = N
SIGNAL_CHAIN_ID = 3
/* RADIOMETRIC DATA ELEMENTS */
BANDWIDTH = 81.0
CENTER_FILTER_WAVELENGTH = 955.5
RADIANCE_OFFSET = 0.901965
RADIANCE_SCALING_FACTOR = 0.00169782
REFLECTANCE_SCALING_FACTOR = 0.00018499
MEX:REFLECTANCE_OFFSET = 0.0982758
/* IMAGE OBJECT DEFINITIONS */
OBJECT = IMAGE
  INTERCHANGE_FORMAT = BINARY
  LINES = 17608
  LINE_SAMPLES = 3980
  SAMPLE_TYPE = UNSIGNED_INTEGER
  SAMPLE_BITS = 8
  BANDS = 1
  BAND_STORAGE_TYPE = BAND_SEQUENTIAL
  MAXIMUM = 255
  MEAN = 119.933
  MINIMUM = 1
  STANDARD_DEVIATION = 28.5748
END_OBJECT = IMAGE
/* MAP OBJECT DEFINITIONS */
OBJECT = IMAGE_MAP_PROJECTION
  ^DATA_SET_MAP_PROJECTION_CATALOG= "DSMAP.CAT"
  A_AXIS_RADIUS = 3396.0
  B_AXIS_RADIUS = 3396.0
  C_AXIS_RADIUS = 3396.0
  CENTER_LATITUDE = 0.0
  CENTER_LONGITUDE = 316.0
  COORDINATE_SYSTEM_NAME = PLANETOGRAPHIC
  COORDINATE_SYSTEM_TYPE = "BODY-FIXED ROTATING"
  EASTERNMOST_LONGITUDE = 316.973
  FIRST_STANDARD_PARALLEL = "N/A"
  LINE_FIRST_PIXEL = 1
  LINE_LAST_PIXEL = 17608
  LINE_PROJECTION_OFFSET = 32138.25
  MAP_PROJECTION_ROTATION = 0.0
  MAP_PROJECTION_TYPE = SINUSOIDAL
  MAP_RESOLUTION = 2370.85521546667
  MAP_SCALE = 0.025
  MAXIMUM_LATITUDE = 13.5427
  MINIMUM_LATITUDE = 6.11336
  POSITIVE_LONGITUDE_DIRECTION = EAST
  REFERENCE_LATITUDE = "N/A"
  REFERENCE_LONGITUDE = "N/A"
  SAMPLE_FIRST_PIXEL = 1
  SAMPLE_LAST_PIXEL = 3980
  SAMPLE_PROJECTION_OFFSET = 1657.75
  SECOND_STANDARD_PARALLEL = "N/A"
  WESTERNMOST_LONGITUDE = 315.347
END_OBJECT = IMAGE_MAP_PROJECTION
END
