PDS_VERSION_ID = PDS3
/* FILE DATA ELEMENTS */
RECORD_TYPE = UNDEFINED
/* POINTERS TO DATA OBJECTS */
^IMAGE = ("HQ205_0009_SR4.TIF")
/* IDENTIFICATION DATA ELEMENTS */
DATA_SET_ID = "MEX-M-HRSC-4-REFDR-MAPPROJECT-EXT9-V4.0"
DATA_SET_NAME = "MARS EXPRESS HRSC MAP PROJECTED REFDR EXTENSION9 V4.0"
DETECTOR_ID = MEX_HRSC_SRC
EVENT_TYPE = "MARS-LOCAL-CARTOGRAPHY-Fl-Gl-Ot"
INSTRUMENT_HOST_ID = MEX
INSTRUMENT_HOST_NAME = "MARS EXPRESS"
INSTRUMENT_ID = HRSC
INSTRUMENT_NAME = "HIGH RESOLUTION STEREO CAMERA"
MISSION_NAME = "MARS EXPRESS"
MISSION_PHASE_NAME = ME_Phase_50
PROCESSING_LEVEL_ID = 4
PRODUCT_CREATION_TIME = 2025-01-29T08:28:47.000Z
PRODUCT_ID = "HQ205_0009_SR4.TIF"
RELEASE_ID = 0020
REVISION_ID = 0000
/* QUALITY DATA ELEMENTS */
DATA_QUALITY_ID = 1
DATA_QUALITY_DESC = "Data calculated based on original SPICE kernels"
/* TIME DATA ELEMENTS */
SPACECRAFT_CLOCK_START_COUNT = "1/0676134999.64185"
SPACECRAFT_CLOCK_STOP_COUNT = "1/0676135218.64674"
IMAGE_TIME = 2024-10-04T15:19:39.641Z
START_TIME = 2024-10-04T15:19:39.638Z
STOP_TIME = 2024-10-04T15:19:39.643Z
/* ORBITAL DATA ELEMENTS */
ASCENDING_NODE_LONGITUDE = 88.98
MAXIMUM_RESOLUTION = 0.003748
FOOTPRINT_POINT_LATITUDE = (18.8336,18.8381,18.8411,18.8457, 18.8496,18.8538,18.8572,18.8605,18.8626 ,18.8654,18.8673,18.8703,18.8743, 18.8778,18.8801,18.8823,18.8853,18.8873 ,18.8901,18.8931,18.8969,18.8969, 18.8969,18.8969,18.8969,18.8968,18.8968 ,18.8968,18.8968,18.8967,18.8967, 18.8967,18.8967,18.8967,18.8966,18.8966 ,18.8966,18.8966,18.8965,18.8965, 18.8965,18.8965,18.8964,18.8964,18.8964 ,18.8964,18.8963,18.8963,18.8963, 18.8925,18.8896,18.8872,18.8841,18.8815 ,18.8782,18.8763,18.8735,18.8695, 18.8668,18.8649,18.8621,18.8583,18.8558 ,18.8523,18.85,18.8475,18.8454,18.8424, 18.8389,18.8355,18.833,18.833,18.833, 18.833,18.833,18.833,18.8331,18.8331, 18.8331,18.8331,18.8332,18.8332,18.8332 ,18.8333,18.8333,18.8333,18.8333, 18.8334,18.8334,18.8334,18.8334,18.8335 ,18.8335,18.8335,18.8335,18.8336, 18.8336,18.8336,18.8336,18.8336)
FOOTPRINT_POINT_LONGITUDE = (326.741,326.741,326.741,326.741, 326.741,326.741,326.741,326.741,326.741 ,326.741,326.741,326.741,326.741, 326.741,326.741,326.741,326.741,326.742 ,326.742,326.742,326.742,326.742, 326.742,326.744,326.747,326.75,326.752, 326.755,326.758,326.76,326.763,326.766, 326.769,326.771,326.774,326.777,326.779 ,326.782,326.785,326.787,326.79,326.793 ,326.795,326.798,326.801,326.803, 326.808,326.809,326.809,326.809,326.809 ,326.809,326.809,326.809,326.809, 326.809,326.809,326.809,326.809,326.809 ,326.809,326.809,326.809,326.809, 326.809,326.809,326.809,326.809,326.809 ,326.809,326.809,326.809,326.809, 326.807,326.804,326.801,326.798,326.796 ,326.793,326.79,326.788,326.785,326.782 ,326.78,326.777,326.774,326.772,326.769 ,326.766,326.764,326.761,326.758, 326.755,326.753,326.75,326.747,326.745, 326.742,326.741,326.741)
ORBIT_NUMBER = 26205
ORBITAL_ECCENTRICITY = 0.571
ORBITAL_INCLINATION = 87.11
ORBITAL_SEMIMAJOR_AXIS = 8826.1
PERIAPSIS_ALTITUDE = 394.01
PERIAPSIS_ARGUMENT_ANGLE = 153.35
PERIAPSIS_TIME = 2024-10-04T15:17:37.000Z
SPACECRAFT_ORIENTATION = (0.0,-1.0,0.0)
^MEX_ORIENTATION_DESC = "MEX_ORIENTATION_DESC.TXT"
SPACECRAFT_POINTING_MODE = ACROSSTRACK
^MEX_POINTING_DESC = "MEX_POINTING_DESC.TXT"
RIGHT_ASCENSION = -1e+32
DECLINATION = -1e+32
OFFSET_ANGLE = 0.475
SPACECRAFT_SOLAR_DISTANCE = 2.25527e+08
TARGET_NAME = MARS
/* CAMERA DATA ELEMENTS */
BUFFER_MODE_ID = BUFFER_8
EXPOSURE_DURATION = 5.04
INST_CMPRS_NAME = "DISCRETE COSINE TRANSFORMATION (DCT)"
INST_CMPRS_RATIO = 19.1493
INST_CMPRS_QUALITY = 0
INST_CMPRS_QUANTZ_TBL_ID = 0
INSTRUMENT_TEMPERATURE = 9.09701
MISSING_FRAMES = 0
START_BIT = 0
/* RADIOMETRIC DATA ELEMENTS */
BANDWIDTH = 250.0
CENTER_FILTER_WAVELENGTH = 600.0
RADIANCE_OFFSET = -9.99e+31
RADIANCE_SCALING_FACTOR = -9.99e+31
REFLECTANCE_SCALING_FACTOR = -9.99e+31
MEX:REFLECTANCE_OFFSET = -9.99e+31
/* IMAGE OBJECT DEFINITIONS */
OBJECT = IMAGE
  INTERCHANGE_FORMAT = BINARY
  LINES = 1564
  LINE_SAMPLES = 1583
  SAMPLE_TYPE = UNSIGNED_INTEGER
  SAMPLE_BITS = 8
  BANDS = 1
  BAND_STORAGE_TYPE = BAND_SEQUENTIAL
  MAXIMUM = 255
  MEAN = 124.077
  MINIMUM = 6
  STANDARD_DEVIATION = 17.0153
END_OBJECT = IMAGE
/* MAP OBJECT DEFINITIONS */
OBJECT = IMAGE_MAP_PROJECTION
  ^DATA_SET_MAP_PROJECTION_CATALOG= "DSMAP.CAT"
  A_AXIS_RADIUS = 3396.19
  B_AXIS_RADIUS = 3396.19
  C_AXIS_RADIUS = 3396.19
  CENTER_LATITUDE = 0.0
  CENTER_LONGITUDE = 327.0
  COORDINATE_SYSTEM_NAME = PLANETOGRAPHIC
  COORDINATE_SYSTEM_TYPE = "BODY-FIXED ROTATING"
  EASTERNMOST_LONGITUDE = 326.809
  FIRST_STANDARD_PARALLEL = "N/A"
  LINE_FIRST_PIXEL = 1
  LINE_LAST_PIXEL = 1564
  LINE_PROJECTION_OFFSET = 447968.0
  MAP_PROJECTION_ROTATION = 0.0
  MAP_PROJECTION_TYPE = SINUSOIDAL
  MAP_RESOLUTION = 23709.8786048756
  MAP_SCALE = 0.0025
  MAXIMUM_LATITUDE = 18.8969
  MINIMUM_LATITUDE = 18.833
  POSITIVE_LONGITUDE_DIRECTION = EAST
  REFERENCE_LATITUDE = "N/A"
  REFERENCE_LONGITUDE = "N/A"
  SAMPLE_FIRST_PIXEL = 1
  SAMPLE_LAST_PIXEL = 1583
  SAMPLE_PROJECTION_OFFSET = 5772.0
  SECOND_STANDARD_PARALLEL = "N/A"
  WESTERNMOST_LONGITUDE = 326.741
END_OBJECT = IMAGE_MAP_PROJECTION
END
