PDS_VERSION_ID = PDS3
/* FILE DATA ELEMENTS */
RECORD_TYPE = UNDEFINED
/* POINTERS TO DATA OBJECTS */
^IMAGE = ("HQ211_0000_RE4.TIF")
/* IDENTIFICATION DATA ELEMENTS */
DATA_SET_ID = "MEX-M-HRSC-4-REFDR-MAPPROJECT-EXT9-V4.0"
DATA_SET_NAME = "MARS EXPRESS HRSC MAP PROJECTED REFDR EXTENSION9 V4.0"
DETECTOR_ID = MEX_HRSC_RED
EVENT_TYPE = "MARS-LOCAL-MAPPING-Im-Gl-Ts"
INSTRUMENT_HOST_ID = MEX
INSTRUMENT_HOST_NAME = "MARS EXPRESS"
INSTRUMENT_ID = HRSC
INSTRUMENT_NAME = "HIGH RESOLUTION STEREO CAMERA"
MISSION_NAME = "MARS EXPRESS"
MISSION_PHASE_NAME = ME_Phase_50
PROCESSING_LEVEL_ID = 4
PRODUCT_CREATION_TIME = 2025-01-29T08:28:47.000Z
PRODUCT_ID = "HQ211_0000_RE4.TIF"
RELEASE_ID = 0020
REVISION_ID = 0000
/* QUALITY DATA ELEMENTS */
DATA_QUALITY_ID = 1
DATA_QUALITY_DESC = "Data calculated based on original SPICE kernels"
/* TIME DATA ELEMENTS */
SPACECRAFT_CLOCK_START_COUNT = "1/0676285935.64171"
SPACECRAFT_CLOCK_STOP_COUNT = "1/0676286149.53156"
START_TIME = 2024-10-06T09:14:25.920Z
STOP_TIME = 2024-10-06T09:16:30.497Z
/* ORBITAL DATA ELEMENTS */
ASCENDING_NODE_LONGITUDE = 88.87
MAXIMUM_RESOLUTION = 0.0751
FOOTPRINT_POINT_LATITUDE = (21.3316,21.3047,21.2836,21.263,21.2429 ,21.2231,21.2037,21.1848,21.1481, 21.1127,21.0785,21.0764,21.0847,20.7912 ,20.4224,20.1269,19.8327,19.4652, 19.1722,19.0227,18.8697,18.7196,18.4214 ,18.0471,17.8224,17.5988,17.2997, 16.9293,16.702,16.5479,16.3972,16.2434, 16.0902,15.9374,15.7869,15.6346,15.4833 ,15.3311,15.1795,15.0267,14.7981, 14.6442,14.4899,14.3362,14.1826,14.0285 ,13.8753,13.7218,13.5686,13.492,13.4722 ,13.5056,13.5289,13.5659,13.5926, 13.6226,13.6437,13.6683,13.6902,13.7125 ,13.7381,13.7412,13.7433,13.8966, 14.0503,14.2038,14.3581,14.5141,14.6697 ,14.8234,14.9776,15.1314,15.3592, 15.6602,15.8875,16.0408,16.3411,16.4948 ,16.6469,16.8001,16.9523,17.1039, 17.5503,17.8481,18.1448,18.2954,18.4466 ,18.7452,18.8955,19.1204,19.2702, 19.4194,19.6398,19.9349,20.2999,20.6685 ,21.0377,21.2595,21.3351,21.3316)
FOOTPRINT_POINT_LONGITUDE = (78.7149,78.4847,78.3057,78.1311, 77.9606,77.7938,77.6309,77.4716,77.1635 ,76.8682,76.5842,76.5668,76.5778, 76.5727,76.5628,76.5534,76.5456,76.5351 ,76.5278,76.5218,76.5129,76.5083, 76.5014,76.4899,76.4822,76.4758,76.4653 ,76.4563,76.4464,76.4385,76.4353, 76.4275,76.4204,76.4137,76.41,76.4037, 76.3985,76.392,76.386,76.3784,76.3714, 76.3661,76.3602,76.3549,76.3495,76.3434 ,76.3383,76.3325,76.327,76.3241,76.3236 ,76.5957,76.7837,77.0918,77.3115, 77.5584,77.7285,77.9246,78.1023,78.2838 ,78.4932,78.5171,78.525,78.5298,78.5352 ,78.5399,78.546,78.5554,78.5639,78.5682 ,78.5732,78.5771,78.5831,78.5896, 78.5972,78.6058,78.6088,78.6176,78.6228 ,78.6301,78.6349,78.6395,78.652,78.6598 ,78.6643,78.6712,78.6792,78.6864, 78.6919,78.6987,78.7024,78.7081,78.7149 ,78.7264,78.7308,78.7424,78.7543, 78.7617,78.768,78.7149)
ORBIT_NUMBER = 26211
ORBITAL_ECCENTRICITY = 0.571
ORBITAL_INCLINATION = 87.11
ORBITAL_SEMIMAJOR_AXIS = 8833.91
PERIAPSIS_ALTITUDE = 393.83
PERIAPSIS_ARGUMENT_ANGLE = 152.33
PERIAPSIS_TIME = 2024-10-06T09:12:09.000Z
SPACECRAFT_ORIENTATION = (0.0,-1.0,0.0)
^MEX_ORIENTATION_DESC = "MEX_ORIENTATION_DESC.TXT"
SPACECRAFT_POINTING_MODE = ACROSSTRACK
^MEX_POINTING_DESC = "MEX_POINTING_DESC.TXT"
RIGHT_ASCENSION = -1e+32
DECLINATION = -1e+32
OFFSET_ANGLE = 3.853
SPACECRAFT_SOLAR_DISTANCE = 2.25869e+08
TARGET_NAME = MARS
/* CAMERA DATA ELEMENTS */
DETECTOR_TEMPERATURE = 18.1666
FOCAL_PLANE_TEMPERATURE = 8.5833
INST_CMPRS_NAME = "DISCRETE COSINE TRANSFORMATION (DCT)"
INST_CMPRS_RATIO = 12.2957
INST_CMPRS_QUALITY = 0
INST_CMPRS_QUANTZ_TBL_ID = 0
INSTRUMENT_TEMPERATURE = 10.8262
LENS_TEMPERATURE = 8.5833
MACROPIXEL_SIZE = 4
MISSING_FRAMES = 0
PIXEL_SUBSAMPLING_FLAG = N
SIGNAL_CHAIN_ID = 2
/* RADIOMETRIC DATA ELEMENTS */
BANDWIDTH = 48.0
CENTER_FILTER_WAVELENGTH = 748.0
RADIANCE_OFFSET = 0.757908
RADIANCE_SCALING_FACTOR = 0.0023173
REFLECTANCE_SCALING_FACTOR = 0.000269787
MEX:REFLECTANCE_OFFSET = 0.0882379
/* IMAGE OBJECT DEFINITIONS */
OBJECT = IMAGE
  INTERCHANGE_FORMAT = BINARY
  LINES = 9096
  LINE_SAMPLES = 2887
  SAMPLE_TYPE = UNSIGNED_INTEGER
  SAMPLE_BITS = 8
  BANDS = 1
  BAND_STORAGE_TYPE = BAND_SEQUENTIAL
  MAXIMUM = 255
  MEAN = 131.718
  MINIMUM = 1
  STANDARD_DEVIATION = 51.9994
END_OBJECT = IMAGE
/* MAP OBJECT DEFINITIONS */
OBJECT = IMAGE_MAP_PROJECTION
  ^DATA_SET_MAP_PROJECTION_CATALOG= "DSMAP.CAT"
  A_AXIS_RADIUS = 3396.0
  B_AXIS_RADIUS = 3396.0
  C_AXIS_RADIUS = 3396.0
  CENTER_LATITUDE = 0.0
  CENTER_LONGITUDE = 77.0
  COORDINATE_SYSTEM_NAME = PLANETOGRAPHIC
  COORDINATE_SYSTEM_TYPE = "BODY-FIXED ROTATING"
  EASTERNMOST_LONGITUDE = 78.768
  FIRST_STANDARD_PARALLEL = "N/A"
  LINE_FIRST_PIXEL = 1
  LINE_LAST_PIXEL = 9096
  LINE_PROJECTION_OFFSET = 25152.875
  MAP_PROJECTION_ROTATION = 0.0
  MAP_PROJECTION_TYPE = SINUSOIDAL
  MAP_RESOLUTION = 1185.42760773333
  MAP_SCALE = 0.05
  MAXIMUM_LATITUDE = 21.3351
  MINIMUM_LATITUDE = 13.4722
  POSITIVE_LONGITUDE_DIRECTION = EAST
  REFERENCE_LATITUDE = "N/A"
  REFERENCE_LONGITUDE = "N/A"
  SAMPLE_FIRST_PIXEL = 1
  SAMPLE_LAST_PIXEL = 2887
  SAMPLE_PROJECTION_OFFSET = 796.875
  SECOND_STANDARD_PARALLEL = "N/A"
  WESTERNMOST_LONGITUDE = 76.3236
END_OBJECT = IMAGE_MAP_PROJECTION
END
