PDS_VERSION_ID = PDS3
/* FILE DATA ELEMENTS */
RECORD_TYPE = UNDEFINED
/* POINTERS TO DATA OBJECTS */
^IMAGE = ("HQ219_0001_S24.TIF")
/* IDENTIFICATION DATA ELEMENTS */
DATA_SET_ID = "MEX-M-HRSC-4-REFDR-MAPPROJECT-EXT9-V4.0"
DATA_SET_NAME = "MARS EXPRESS HRSC MAP PROJECTED REFDR EXTENSION9 V4.0"
DETECTOR_ID = MEX_HRSC_S2
EVENT_TYPE = "MARS-LOCAL-COLOR-Eb-La-Tc"
INSTRUMENT_HOST_ID = MEX
INSTRUMENT_HOST_NAME = "MARS EXPRESS"
INSTRUMENT_ID = HRSC
INSTRUMENT_NAME = "HIGH RESOLUTION STEREO CAMERA"
MISSION_NAME = "MARS EXPRESS"
MISSION_PHASE_NAME = ME_Phase_50
PROCESSING_LEVEL_ID = 4
PRODUCT_CREATION_TIME = 2025-01-29T08:28:47.000Z
PRODUCT_ID = "HQ219_0001_S24.TIF"
RELEASE_ID = 0020
REVISION_ID = 0000
/* QUALITY DATA ELEMENTS */
DATA_QUALITY_ID = 1
DATA_QUALITY_DESC = "Data calculated based on original SPICE kernels"
/* TIME DATA ELEMENTS */
SPACECRAFT_CLOCK_START_COUNT = "1/0676487141.00345"
SPACECRAFT_CLOCK_STOP_COUNT = "1/0676487326.54816"
START_TIME = 2024-10-08T17:07:48.442Z
STOP_TIME = 2024-10-08T17:09:36.177Z
/* ORBITAL DATA ELEMENTS */
ASCENDING_NODE_LONGITUDE = 88.73
MAXIMUM_RESOLUTION = 0.0364
FOOTPRINT_POINT_LATITUDE = (19.7459,19.7443,19.7433,19.7423, 19.7414,19.7407,19.7398,19.7398,19.7784 ,19.5934,19.3455,19.0931,18.8413, 18.5267,18.2754,18.0869,17.8358,17.5849 ,17.4568,17.3286,17.1999,17.0718, 16.8803,16.7515,16.624,16.4959,16.3684, 16.2408,16.114,15.921,15.791,15.6612, 15.5313,15.3371,15.2074,15.0781,14.8842 ,14.755,14.5598,14.4287,14.3013,14.1698 ,14.0382,13.9027,13.7694,13.5727, 13.4437,13.3797,13.3448,13.3444,13.3395 ,13.338,13.3432,13.3444,13.3411,13.3405 ,13.3432,13.3419,13.3425,13.4738, 13.6002,13.7326,13.9301,14.0623,14.194, 14.3921,14.5244,14.6557,14.7847,14.914, 15.0424,15.1731,15.3091,15.4381,15.6289 ,15.7594,15.8898,16.02,16.1474,16.3381, 16.5297,16.7219,16.9137,17.0418,17.1697 ,17.3619,17.4901,17.617,17.8045,18.0554 ,18.243,18.4938,18.6893,18.8182,18.945, 19.19,19.3776,19.6877,19.7493,19.7459)
FOOTPRINT_POINT_LONGITUDE = (337.288,336.934,336.689,336.444, 336.201,335.989,335.731,335.716,335.703 ,335.701,335.697,335.693,335.689, 335.684,335.68,335.677,335.673,335.668, 335.666,335.664,335.662,335.659,335.656 ,335.653,335.651,335.648,335.646, 335.643,335.641,335.637,335.634,335.631 ,335.628,335.624,335.621,335.618, 335.614,335.611,335.607,335.604,335.6, 335.596,335.593,335.591,335.588,335.583 ,335.579,335.578,335.577,335.756, 336.035,336.297,336.577,336.709,336.874 ,337.072,337.256,337.272,337.278, 337.278,337.276,337.277,337.278,337.278 ,337.279,337.279,337.28,337.28,337.281, 337.281,337.281,337.282,337.285,337.285 ,337.284,337.285,337.285,337.286, 337.286,337.287,337.288,337.289,337.29, 337.291,337.291,337.292,337.292,337.293 ,337.294,337.295,337.295,337.296,337.3, 337.302,337.303,337.301,337.301,337.303 ,337.304,337.288)
ORBIT_NUMBER = 26219
ORBITAL_ECCENTRICITY = 0.571
ORBITAL_INCLINATION = 87.11
ORBITAL_SEMIMAJOR_AXIS = 8823.0
PERIAPSIS_ALTITUDE = 395.47
PERIAPSIS_ARGUMENT_ANGLE = 150.95
PERIAPSIS_TIME = 2024-10-08T17:04:42.000Z
SPACECRAFT_ORIENTATION = (0.0,-1.0,0.0)
^MEX_ORIENTATION_DESC = "MEX_ORIENTATION_DESC.TXT"
SPACECRAFT_POINTING_MODE = ACROSSTRACK
^MEX_POINTING_DESC = "MEX_POINTING_DESC.TXT"
RIGHT_ASCENSION = -1e+32
DECLINATION = -1e+32
OFFSET_ANGLE = 0.269
SPACECRAFT_SOLAR_DISTANCE = 2.26324e+08
TARGET_NAME = MARS
/* CAMERA DATA ELEMENTS */
DETECTOR_TEMPERATURE = 19.1861
FOCAL_PLANE_TEMPERATURE = 9.6028
INST_CMPRS_NAME = "DISCRETE COSINE TRANSFORMATION (DCT)"
INST_CMPRS_RATIO = 13.3037
INST_CMPRS_QUALITY = 0
INST_CMPRS_QUANTZ_TBL_ID = 0
INSTRUMENT_TEMPERATURE = 10.6223
LENS_TEMPERATURE = 10.2145
MACROPIXEL_SIZE = 2
MISSING_FRAMES = 0
PIXEL_SUBSAMPLING_FLAG = N
SIGNAL_CHAIN_ID = 1
/* RADIOMETRIC DATA ELEMENTS */
BANDWIDTH = 178.0
CENTER_FILTER_WAVELENGTH = 679.0
RADIANCE_OFFSET = 3.71058
RADIANCE_SCALING_FACTOR = 0.00686382
REFLECTANCE_SCALING_FACTOR = 0.00018619
MEX:REFLECTANCE_OFFSET = 0.100655
/* IMAGE OBJECT DEFINITIONS */
OBJECT = IMAGE
  INTERCHANGE_FORMAT = BINARY
  LINES = 15316
  LINE_SAMPLES = 3837
  SAMPLE_TYPE = UNSIGNED_INTEGER
  SAMPLE_BITS = 8
  BANDS = 1
  BAND_STORAGE_TYPE = BAND_SEQUENTIAL
  MAXIMUM = 255
  MEAN = 104.31
  MINIMUM = 1
  STANDARD_DEVIATION = 29.1004
END_OBJECT = IMAGE
/* MAP OBJECT DEFINITIONS */
OBJECT = IMAGE_MAP_PROJECTION
  ^DATA_SET_MAP_PROJECTION_CATALOG= "DSMAP.CAT"
  A_AXIS_RADIUS = 3396.0
  B_AXIS_RADIUS = 3396.0
  C_AXIS_RADIUS = 3396.0
  CENTER_LATITUDE = 0.0
  CENTER_LONGITUDE = 336.0
  COORDINATE_SYSTEM_NAME = PLANETOGRAPHIC
  COORDINATE_SYSTEM_TYPE = "BODY-FIXED ROTATING"
  EASTERNMOST_LONGITUDE = 337.304
  FIRST_STANDARD_PARALLEL = "N/A"
  LINE_FIRST_PIXEL = 1
  LINE_LAST_PIXEL = 15316
  LINE_PROJECTION_OFFSET = 46821.75
  MAP_PROJECTION_ROTATION = 0.0
  MAP_PROJECTION_TYPE = SINUSOIDAL
  MAP_RESOLUTION = 2370.85521546667
  MAP_SCALE = 0.025
  MAXIMUM_LATITUDE = 19.7784
  MINIMUM_LATITUDE = 13.338
  POSITIVE_LONGITUDE_DIRECTION = EAST
  REFERENCE_LATITUDE = "N/A"
  REFERENCE_LONGITUDE = "N/A"
  SAMPLE_FIRST_PIXEL = 1
  SAMPLE_LAST_PIXEL = 3837
  SAMPLE_PROJECTION_OFFSET = 920.75
  SECOND_STANDARD_PARALLEL = "N/A"
  WESTERNMOST_LONGITUDE = 335.577
END_OBJECT = IMAGE_MAP_PROJECTION
END
