PDS_VERSION_ID = PDS3
/* FILE DATA ELEMENTS */
RECORD_TYPE = UNDEFINED
/* POINTERS TO DATA OBJECTS */
^IMAGE = ("HQ233_0010_P24.TIF")
/* IDENTIFICATION DATA ELEMENTS */
DATA_SET_ID = "MEX-M-HRSC-4-REFDR-MAPPROJECT-EXT9-V4.0"
DATA_SET_NAME = "MARS EXPRESS HRSC MAP PROJECTED REFDR EXTENSION9 V4.0"
DETECTOR_ID = MEX_HRSC_P2
EVENT_TYPE = "MARS-REGIONAL-MAPPING-Im-Fl-Eo"
INSTRUMENT_HOST_ID = MEX
INSTRUMENT_HOST_NAME = "MARS EXPRESS"
INSTRUMENT_ID = HRSC
INSTRUMENT_NAME = "HIGH RESOLUTION STEREO CAMERA"
MISSION_NAME = "MARS EXPRESS"
MISSION_PHASE_NAME = ME_Phase_50
PROCESSING_LEVEL_ID = 4
PRODUCT_CREATION_TIME = 2025-01-29T08:28:47.000Z
PRODUCT_ID = "HQ233_0010_P24.TIF"
RELEASE_ID = 0020
REVISION_ID = 0000
/* QUALITY DATA ELEMENTS */
DATA_QUALITY_ID = 1
DATA_QUALITY_DESC = "Data calculated based on original SPICE kernels"
/* TIME DATA ELEMENTS */
SPACECRAFT_CLOCK_START_COUNT = "1/0676839242.65161"
SPACECRAFT_CLOCK_STOP_COUNT = "1/0676839501.57565"
START_TIME = 2024-10-12T18:56:01.120Z
STOP_TIME = 2024-10-12T18:58:51.380Z
/* ORBITAL DATA ELEMENTS */
ASCENDING_NODE_LONGITUDE = 88.49
MAXIMUM_RESOLUTION = 0.037
FOOTPRINT_POINT_LATITUDE = (17.3623,17.3648,17.3685,17.3734, 17.3759,17.3789,17.379,17.3948,17.1132, 16.6505,16.278,15.8976,15.7048,15.5116, 15.3191,14.9404,14.7475,14.4618,14.1705 ,13.9752,13.7829,13.5901,13.3953, 13.1968,12.901,12.7059,12.5084,12.3088, 12.1093,11.8099,11.6103,11.3066,11.1044 ,10.9005,10.6995,10.4965,10.2912, 9.98449,9.77993,9.46776,9.25898,9.05101 ,8.84478,8.6328,8.31588,8.10562,7.78602 ,7.57217,7.46529,7.45688,7.45178, 7.44573,7.44163,7.43617,7.43212,7.42759 ,7.42376,7.42348,7.42398,7.6388,7.96012 ,8.1713,8.48869,8.70097,8.90964,9.11773 ,9.32706,9.6405,9.84608,10.0493,10.3582 ,10.5643,10.7666,10.9689,11.2725, 11.4757,11.6768,11.8757,12.0759,12.3759 ,12.5761,12.7723,13.0665,13.2626, 13.5561,13.7522,14.0443,14.2413,14.4367 ,14.6311,14.8242,15.3037,15.6838, 15.8753,16.2564,16.537,16.9108,17.2755, 17.3701,17.3623)
FOOTPRINT_POINT_LONGITUDE = (346.928,346.69,346.342,345.867,345.614 ,345.313,345.297,345.284,345.279, 345.268,345.26,345.253,345.25,345.247, 345.244,345.235,345.231,345.222,345.216 ,345.212,345.207,345.201,345.195, 345.191,345.184,345.179,345.173,345.168 ,345.162,345.154,345.149,345.141, 345.135,345.129,345.123,345.117,345.11, 345.1,345.093,345.084,345.077,345.07, 345.063,345.056,345.045,345.038,345.027 ,345.019,345.015,345.015,345.275, 345.609,345.832,346.147,346.388,346.686 ,346.909,346.927,346.934,346.934, 346.933,346.933,346.932,346.932,346.932 ,346.931,346.931,346.931,346.931,346.93 ,346.93,346.93,346.93,346.93,346.929, 346.929,346.93,346.929,346.93,346.93, 346.93,346.93,346.93,346.93,346.929, 346.93,346.931,346.933,346.934,346.934, 346.934,346.936,346.937,346.937,346.938 ,346.939,346.939,346.935,346.935, 346.928)
ORBIT_NUMBER = 26233
ORBITAL_ECCENTRICITY = 0.571
ORBITAL_INCLINATION = 87.11
ORBITAL_SEMIMAJOR_AXIS = 8820.54
PERIAPSIS_ALTITUDE = 397.17
PERIAPSIS_ARGUMENT_ANGLE = 148.54
PERIAPSIS_TIME = 2024-10-12T18:51:50.000Z
SPACECRAFT_ORIENTATION = (0.0,-1.0,0.0)
^MEX_ORIENTATION_DESC = "MEX_ORIENTATION_DESC.TXT"
SPACECRAFT_POINTING_MODE = NADIR
^MEX_POINTING_DESC = "MEX_POINTING_DESC.TXT"
RIGHT_ASCENSION = -1e+32
DECLINATION = -1e+32
OFFSET_ANGLE = -1e+32
SPACECRAFT_SOLAR_DISTANCE = 2.2712e+08
TARGET_NAME = MARS
/* CAMERA DATA ELEMENTS */
DETECTOR_TEMPERATURE = 19.1861
FOCAL_PLANE_TEMPERATURE = 10.0106
INST_CMPRS_NAME = "DISCRETE COSINE TRANSFORMATION (DCT)"
INST_CMPRS_RATIO = 8.81615
INST_CMPRS_QUALITY = 0
INST_CMPRS_QUANTZ_TBL_ID = 0
INSTRUMENT_TEMPERATURE = 12.0496
LENS_TEMPERATURE = 10.6223
MACROPIXEL_SIZE = 2
MISSING_FRAMES = 0
PIXEL_SUBSAMPLING_FLAG = N
SIGNAL_CHAIN_ID = 3
/* RADIOMETRIC DATA ELEMENTS */
BANDWIDTH = 177.0
CENTER_FILTER_WAVELENGTH = 676.5
RADIANCE_OFFSET = 3.59942
RADIANCE_SCALING_FACTOR = 0.0130414
REFLECTANCE_SCALING_FACTOR = 0.00035669
MEX:REFLECTANCE_OFFSET = 0.0984464
/* IMAGE OBJECT DEFINITIONS */
OBJECT = IMAGE
  INTERCHANGE_FORMAT = BINARY
  LINES = 23639
  LINE_SAMPLES = 4418
  SAMPLE_TYPE = UNSIGNED_INTEGER
  SAMPLE_BITS = 8
  BANDS = 1
  BAND_STORAGE_TYPE = BAND_SEQUENTIAL
  MAXIMUM = 255
  MEAN = 86.7487
  MINIMUM = 1
  STANDARD_DEVIATION = 38.1633
END_OBJECT = IMAGE
/* MAP OBJECT DEFINITIONS */
OBJECT = IMAGE_MAP_PROJECTION
  ^DATA_SET_MAP_PROJECTION_CATALOG= "DSMAP.CAT"
  A_AXIS_RADIUS = 3396.0
  B_AXIS_RADIUS = 3396.0
  C_AXIS_RADIUS = 3396.0
  CENTER_LATITUDE = 0.0
  CENTER_LONGITUDE = 346.0
  COORDINATE_SYSTEM_NAME = PLANETOGRAPHIC
  COORDINATE_SYSTEM_TYPE = "BODY-FIXED ROTATING"
  EASTERNMOST_LONGITUDE = 346.939
  FIRST_STANDARD_PARALLEL = "N/A"
  LINE_FIRST_PIXEL = 1
  LINE_LAST_PIXEL = 23639
  LINE_PROJECTION_OFFSET = 41194.25
  MAP_PROJECTION_ROTATION = 0.0
  MAP_PROJECTION_TYPE = SINUSOIDAL
  MAP_RESOLUTION = 2370.85521546667
  MAP_SCALE = 0.025
  MAXIMUM_LATITUDE = 17.3948
  MINIMUM_LATITUDE = 7.42348
  POSITIVE_LONGITUDE_DIRECTION = EAST
  REFERENCE_LATITUDE = "N/A"
  REFERENCE_LONGITUDE = "N/A"
  SAMPLE_FIRST_PIXEL = 1
  SAMPLE_LAST_PIXEL = 4418
  SAMPLE_PROJECTION_OFFSET = 2269.25
  SECOND_STANDARD_PARALLEL = "N/A"
  WESTERNMOST_LONGITUDE = 345.015
END_OBJECT = IMAGE_MAP_PROJECTION
END
