PDS_VERSION_ID = PDS3
/* FILE DATA ELEMENTS */
RECORD_TYPE = UNDEFINED
/* POINTERS TO DATA OBJECTS */
^IMAGE = ("HQ245_0009_BL4.TIF")
/* IDENTIFICATION DATA ELEMENTS */
DATA_SET_ID = "MEX-M-HRSC-4-REFDR-MAPPROJECT-EXT9-V4.0"
DATA_SET_NAME = "MARS EXPRESS HRSC MAP PROJECTED REFDR EXTENSION9 V4.0"
DETECTOR_ID = MEX_HRSC_BLUE
EVENT_TYPE = "MARS-REGIONAL-MAPPING-Vo-Eo"
INSTRUMENT_HOST_ID = MEX
INSTRUMENT_HOST_NAME = "MARS EXPRESS"
INSTRUMENT_ID = HRSC
INSTRUMENT_NAME = "HIGH RESOLUTION STEREO CAMERA"
MISSION_NAME = "MARS EXPRESS"
MISSION_PHASE_NAME = ME_Phase_50
PROCESSING_LEVEL_ID = 4
PRODUCT_CREATION_TIME = 2025-01-29T08:28:47.000Z
PRODUCT_ID = "HQ245_0009_BL4.TIF"
RELEASE_ID = 0020
REVISION_ID = 0000
/* QUALITY DATA ELEMENTS */
DATA_QUALITY_ID = 1
DATA_QUALITY_DESC = "Data calculated based on original SPICE kernels"
/* TIME DATA ELEMENTS */
SPACECRAFT_CLOCK_START_COUNT = "1/0677140957.00345"
SPACECRAFT_CLOCK_STOP_COUNT = "1/0677141243.04529"
START_TIME = 2024-10-16T06:44:13.285Z
STOP_TIME = 2024-10-16T06:47:27.272Z
/* ORBITAL DATA ELEMENTS */
ASCENDING_NODE_LONGITUDE = 88.28
MAXIMUM_RESOLUTION = 0.069
FOOTPRINT_POINT_LATITUDE = (21.7863,21.7896,21.7925,21.7941, 21.7946,21.7946,21.8021,21.2536,20.8155 ,20.378,20.0435,19.5961,19.1493,18.7034 ,18.362,18.1341,17.9063,17.6788,17.4515 ,17.2244,16.9938,16.7616,16.5297,16.298 ,16.0665,15.8352,15.5987,15.3625, 15.1265,14.8908,14.6554,14.4162,14.1758 ,13.9358,13.696,13.4565,13.2125,12.9682 ,12.7241,12.4804,12.1096,11.8613, 11.6133,11.3657,11.1133,10.7349,10.4831 ,10.2285,10.1003,10.0157,10.012,10.0053 ,10.0003,9.99409,9.98976,9.98948,9.9906 ,10.3757,10.6278,10.8803,11.1331, 11.3851,11.6331,11.8815,12.1302,12.3789 ,12.6228,12.8671,13.1117,13.4777, 13.7176,13.9578,14.1983,14.4391,14.6777 ,14.9136,15.1497,15.386,15.6226,15.8587 ,16.0903,16.3221,16.5542,16.7865, 17.0191,17.3628,17.5904,17.8182,18.0462 ,18.2744,18.7294,19.1761,19.6235, 20.0717,20.4057,20.8438,21.2826,21.6121 ,21.722,21.7863)
FOOTPRINT_POINT_LONGITUDE = (201.499,201.11,200.635,200.207,199.928 ,199.913,199.902,199.895,199.888, 199.882,199.876,199.869,199.861,199.853 ,199.847,199.842,199.838,199.833, 199.828,199.824,199.819,199.814,199.809 ,199.803,199.798,199.793,199.787, 199.781,199.776,199.77,199.764,199.758, 199.752,199.745,199.739,199.732,199.726 ,199.719,199.712,199.705,199.694, 199.687,199.68,199.672,199.664,199.653, 199.645,199.637,199.632,199.63,199.918, 200.413,200.756,201.17,201.447,201.464, 201.47,201.471,201.472,201.473,201.473, 201.474,201.475,201.476,201.476,201.477 ,201.478,201.478,201.479,201.48,201.481 ,201.482,201.483,201.484,201.485, 201.486,201.487,201.488,201.489,201.49, 201.491,201.492,201.493,201.494,201.495 ,201.497,201.498,201.499,201.5,201.501, 201.503,201.506,201.508,201.511,201.513 ,201.515,201.518,201.52,201.521, 201.499)
ORBIT_NUMBER = 26245
ORBITAL_ECCENTRICITY = 0.57
ORBITAL_INCLINATION = 87.11
ORBITAL_SEMIMAJOR_AXIS = 8817.33
PERIAPSIS_ALTITUDE = 398.41
PERIAPSIS_ARGUMENT_ANGLE = 146.5
PERIAPSIS_TIME = 2024-10-16T06:41:01.000Z
SPACECRAFT_ORIENTATION = (0.0,-1.0,0.0)
^MEX_ORIENTATION_DESC = "MEX_ORIENTATION_DESC.TXT"
SPACECRAFT_POINTING_MODE = ACROSSTRACK
^MEX_POINTING_DESC = "MEX_POINTING_DESC.TXT"
RIGHT_ASCENSION = -1e+32
DECLINATION = -1e+32
OFFSET_ANGLE = 0.35
SPACECRAFT_SOLAR_DISTANCE = 2.27801e+08
TARGET_NAME = MARS
/* CAMERA DATA ELEMENTS */
DETECTOR_TEMPERATURE = 17.7588
FOCAL_PLANE_TEMPERATURE = 10.2145
INST_CMPRS_NAME = "DISCRETE COSINE TRANSFORMATION (DCT)"
INST_CMPRS_RATIO = 14.8121
INST_CMPRS_QUALITY = 0
INST_CMPRS_QUANTZ_TBL_ID = 0
INSTRUMENT_TEMPERATURE = 11.234
LENS_TEMPERATURE = 10.2145
MACROPIXEL_SIZE = 4
MISSING_FRAMES = 0
PIXEL_SUBSAMPLING_FLAG = N
SIGNAL_CHAIN_ID = 2
/* RADIOMETRIC DATA ELEMENTS */
BANDWIDTH = 76.0
CENTER_FILTER_WAVELENGTH = 444.0
RADIANCE_OFFSET = 0.590426
RADIANCE_SCALING_FACTOR = 0.00126623
REFLECTANCE_SCALING_FACTOR = 6.75121e-05
MEX:REFLECTANCE_OFFSET = 0.0314799
/* IMAGE OBJECT DEFINITIONS */
OBJECT = IMAGE
  INTERCHANGE_FORMAT = BINARY
  LINES = 13993
  LINE_SAMPLES = 2219
  SAMPLE_TYPE = UNSIGNED_INTEGER
  SAMPLE_BITS = 8
  BANDS = 1
  BAND_STORAGE_TYPE = BAND_SEQUENTIAL
  MAXIMUM = 255
  MEAN = 129.857
  MINIMUM = 1
  STANDARD_DEVIATION = 27.457
END_OBJECT = IMAGE
/* MAP OBJECT DEFINITIONS */
OBJECT = IMAGE_MAP_PROJECTION
  ^DATA_SET_MAP_PROJECTION_CATALOG= "DSMAP.CAT"
  A_AXIS_RADIUS = 3396.0
  B_AXIS_RADIUS = 3396.0
  C_AXIS_RADIUS = 3396.0
  CENTER_LATITUDE = 0.0
  CENTER_LONGITUDE = 201.0
  COORDINATE_SYSTEM_NAME = PLANETOGRAPHIC
  COORDINATE_SYSTEM_TYPE = "BODY-FIXED ROTATING"
  EASTERNMOST_LONGITUDE = 201.521
  FIRST_STANDARD_PARALLEL = "N/A"
  LINE_FIRST_PIXEL = 1
  LINE_LAST_PIXEL = 13993
  LINE_PROJECTION_OFFSET = 25829.125
  MAP_PROJECTION_ROTATION = 0.0
  MAP_PROJECTION_TYPE = SINUSOIDAL
  MAP_RESOLUTION = 1185.42760773333
  MAP_SCALE = 0.05
  MAXIMUM_LATITUDE = 21.8021
  MINIMUM_LATITUDE = 9.98948
  POSITIVE_LONGITUDE_DIRECTION = EAST
  REFERENCE_LATITUDE = "N/A"
  REFERENCE_LONGITUDE = "N/A"
  SAMPLE_FIRST_PIXEL = 1
  SAMPLE_LAST_PIXEL = 2219
  SAMPLE_PROJECTION_OFFSET = 1617.375
  SECOND_STANDARD_PARALLEL = "N/A"
  WESTERNMOST_LONGITUDE = 199.63
END_OBJECT = IMAGE_MAP_PROJECTION
END
