PDS_VERSION_ID = PDS3
/* FILE DATA ELEMENTS */
RECORD_TYPE = UNDEFINED
/* POINTERS TO DATA OBJECTS */
^IMAGE = ("HQ245_0009_P24.TIF")
/* IDENTIFICATION DATA ELEMENTS */
DATA_SET_ID = "MEX-M-HRSC-4-REFDR-MAPPROJECT-EXT9-V4.0"
DATA_SET_NAME = "MARS EXPRESS HRSC MAP PROJECTED REFDR EXTENSION9 V4.0"
DETECTOR_ID = MEX_HRSC_P2
EVENT_TYPE = "MARS-REGIONAL-MAPPING-Vo-Eo"
INSTRUMENT_HOST_ID = MEX
INSTRUMENT_HOST_NAME = "MARS EXPRESS"
INSTRUMENT_ID = HRSC
INSTRUMENT_NAME = "HIGH RESOLUTION STEREO CAMERA"
MISSION_NAME = "MARS EXPRESS"
MISSION_PHASE_NAME = ME_Phase_50
PROCESSING_LEVEL_ID = 4
PRODUCT_CREATION_TIME = 2025-01-29T08:28:47.000Z
PRODUCT_ID = "HQ245_0009_P24.TIF"
RELEASE_ID = 0020
REVISION_ID = 0000
/* QUALITY DATA ELEMENTS */
DATA_QUALITY_ID = 1
DATA_QUALITY_DESC = "Data calculated based on original SPICE kernels"
/* TIME DATA ELEMENTS */
SPACECRAFT_CLOCK_START_COUNT = "1/0677140957.00345"
SPACECRAFT_CLOCK_STOP_COUNT = "1/0677141243.04529"
START_TIME = 2024-10-16T06:44:33.316Z
STOP_TIME = 2024-10-16T06:47:53.212Z
/* ORBITAL DATA ELEMENTS */
ASCENDING_NODE_LONGITUDE = 88.28
MAXIMUM_RESOLUTION = 0.0361
FOOTPRINT_POINT_LATITUDE = (21.7774,21.7768,21.7763,21.7756, 21.7748,21.774,21.7729,21.7729,21.8032, 21.3639,20.9196,20.4763,20.0341,19.3584 ,18.9076,18.4581,18.2283,17.9988, 17.7696,17.5408,17.3127,16.9652,16.732, 16.4993,16.2668,16.0347,15.7993,15.5625 ,15.326,15.0899,14.8542,14.6141,14.3739 ,14.1339,13.8943,13.5297,13.2862, 13.0428,12.6759,12.4283,12.1813,11.9345 ,11.559,11.3079,11.0577,10.6772,10.4227 ,10.1686,10.0399,10.0218,10.0177, 10.0153,10.013,10.0099,10.0078,10.0077, 10.0082,10.5198,10.7748,11.0287,11.2799 ,11.531,11.9072,12.1543,12.4017,12.6497 ,12.8958,13.1393,13.3833,13.6277, 13.8707,14.1106,14.3509,14.5916,14.8324 ,15.0685,15.3049,15.5418,15.779,16.015, 16.2474,16.4802,16.7135,16.947,17.1805, 17.4091,17.6382,17.8675,18.0971,18.3271 ,18.555,19.0054,19.457,20.0213,20.4639, 20.9079,21.2415,21.6841,21.7929, 21.7774)
FOOTPRINT_POINT_LONGITUDE = (201.517,201.166,200.912,200.659, 200.407,200.156,199.906,199.89,199.877, 199.871,199.864,199.857,199.849,199.837 ,199.828,199.819,199.814,199.809, 199.804,199.799,199.794,199.786,199.781 ,199.776,199.77,199.764,199.758,199.752 ,199.746,199.74,199.734,199.727,199.721 ,199.714,199.707,199.697,199.69,199.683 ,199.672,199.664,199.656,199.648, 199.637,199.628,199.62,199.608,199.599, 199.59,199.586,199.585,200.028,200.324, 200.64,201.05,201.481,201.5,201.507, 201.507,201.507,201.508,201.508,201.508 ,201.508,201.508,201.509,201.509, 201.509,201.51,201.51,201.51,201.511, 201.511,201.512,201.512,201.513,201.514 ,201.514,201.515,201.515,201.516, 201.517,201.517,201.518,201.519,201.52, 201.52,201.521,201.522,201.523,201.524, 201.525,201.526,201.528,201.531,201.533 ,201.535,201.536,201.538,201.539, 201.517)
ORBIT_NUMBER = 26245
ORBITAL_ECCENTRICITY = 0.57
ORBITAL_INCLINATION = 87.11
ORBITAL_SEMIMAJOR_AXIS = 8817.33
PERIAPSIS_ALTITUDE = 398.41
PERIAPSIS_ARGUMENT_ANGLE = 146.5
PERIAPSIS_TIME = 2024-10-16T06:41:01.000Z
SPACECRAFT_ORIENTATION = (0.0,-1.0,0.0)
^MEX_ORIENTATION_DESC = "MEX_ORIENTATION_DESC.TXT"
SPACECRAFT_POINTING_MODE = ACROSSTRACK
^MEX_POINTING_DESC = "MEX_POINTING_DESC.TXT"
RIGHT_ASCENSION = -1e+32
DECLINATION = -1e+32
OFFSET_ANGLE = 0.35
SPACECRAFT_SOLAR_DISTANCE = 2.27801e+08
TARGET_NAME = MARS
/* CAMERA DATA ELEMENTS */
DETECTOR_TEMPERATURE = 19.39
FOCAL_PLANE_TEMPERATURE = 10.2145
INST_CMPRS_NAME = "DISCRETE COSINE TRANSFORMATION (DCT)"
INST_CMPRS_RATIO = 8.57847
INST_CMPRS_QUALITY = 0
INST_CMPRS_QUANTZ_TBL_ID = 0
INSTRUMENT_TEMPERATURE = 11.234
LENS_TEMPERATURE = 10.2145
MACROPIXEL_SIZE = 2
MISSING_FRAMES = 0
PIXEL_SUBSAMPLING_FLAG = N
SIGNAL_CHAIN_ID = 3
/* RADIOMETRIC DATA ELEMENTS */
BANDWIDTH = 177.0
CENTER_FILTER_WAVELENGTH = 676.5
RADIANCE_OFFSET = 4.78667
RADIANCE_SCALING_FACTOR = 0.0122232
REFLECTANCE_SCALING_FACTOR = 0.000336321
MEX:REFLECTANCE_OFFSET = 0.131706
/* IMAGE OBJECT DEFINITIONS */
OBJECT = IMAGE
  INTERCHANGE_FORMAT = BINARY
  LINES = 27986
  LINE_SAMPLES = 4437
  SAMPLE_TYPE = UNSIGNED_INTEGER
  SAMPLE_BITS = 8
  BANDS = 1
  BAND_STORAGE_TYPE = BAND_SEQUENTIAL
  MAXIMUM = 255
  MEAN = 125.88
  MINIMUM = 1
  STANDARD_DEVIATION = 30.9045
END_OBJECT = IMAGE
/* MAP OBJECT DEFINITIONS */
OBJECT = IMAGE_MAP_PROJECTION
  ^DATA_SET_MAP_PROJECTION_CATALOG= "DSMAP.CAT"
  A_AXIS_RADIUS = 3396.0
  B_AXIS_RADIUS = 3396.0
  C_AXIS_RADIUS = 3396.0
  CENTER_LATITUDE = 0.0
  CENTER_LONGITUDE = 201.0
  COORDINATE_SYSTEM_NAME = PLANETOGRAPHIC
  COORDINATE_SYSTEM_TYPE = "BODY-FIXED ROTATING"
  EASTERNMOST_LONGITUDE = 201.539
  FIRST_STANDARD_PARALLEL = "N/A"
  LINE_FIRST_PIXEL = 1
  LINE_LAST_PIXEL = 27986
  LINE_PROJECTION_OFFSET = 51658.75
  MAP_PROJECTION_ROTATION = 0.0
  MAP_PROJECTION_TYPE = SINUSOIDAL
  MAP_RESOLUTION = 2370.85521546667
  MAP_SCALE = 0.025
  MAXIMUM_LATITUDE = 21.8032
  MINIMUM_LATITUDE = 10.0077
  POSITIVE_LONGITUDE_DIRECTION = EAST
  REFERENCE_LATITUDE = "N/A"
  REFERENCE_LONGITUDE = "N/A"
  SAMPLE_FIRST_PIXEL = 1
  SAMPLE_LAST_PIXEL = 4437
  SAMPLE_PROJECTION_OFFSET = 3235.25
  SECOND_STANDARD_PARALLEL = "N/A"
  WESTERNMOST_LONGITUDE = 199.585
END_OBJECT = IMAGE_MAP_PROJECTION
END
