PDS_VERSION_ID = PDS3
/* FILE DATA ELEMENTS */
RECORD_TYPE = UNDEFINED
/* POINTERS TO DATA OBJECTS */
^IMAGE = ("HQ245_0009_RE4.TIF")
/* IDENTIFICATION DATA ELEMENTS */
DATA_SET_ID = "MEX-M-HRSC-4-REFDR-MAPPROJECT-EXT9-V4.0"
DATA_SET_NAME = "MARS EXPRESS HRSC MAP PROJECTED REFDR EXTENSION9 V4.0"
DETECTOR_ID = MEX_HRSC_RED
EVENT_TYPE = "MARS-REGIONAL-MAPPING-Vo-Eo"
INSTRUMENT_HOST_ID = MEX
INSTRUMENT_HOST_NAME = "MARS EXPRESS"
INSTRUMENT_ID = HRSC
INSTRUMENT_NAME = "HIGH RESOLUTION STEREO CAMERA"
MISSION_NAME = "MARS EXPRESS"
MISSION_PHASE_NAME = ME_Phase_50
PROCESSING_LEVEL_ID = 4
PRODUCT_CREATION_TIME = 2025-01-29T08:28:47.000Z
PRODUCT_ID = "HQ245_0009_RE4.TIF"
RELEASE_ID = 0020
REVISION_ID = 0000
/* QUALITY DATA ELEMENTS */
DATA_QUALITY_ID = 1
DATA_QUALITY_DESC = "Data calculated based on original SPICE kernels"
/* TIME DATA ELEMENTS */
SPACECRAFT_CLOCK_START_COUNT = "1/0677140957.00345"
SPACECRAFT_CLOCK_STOP_COUNT = "1/0677141243.04529"
START_TIME = 2024-10-16T06:44:40.251Z
STOP_TIME = 2024-10-16T06:48:02.593Z
/* ORBITAL DATA ELEMENTS */
ASCENDING_NODE_LONGITUDE = 88.28
MAXIMUM_RESOLUTION = 0.0738
FOOTPRINT_POINT_LATITUDE = (21.7916,21.7898,21.7885,21.7873,21.786 ,21.7834,21.7833,21.8209,21.1588, 20.8287,20.3893,19.8283,19.3807,18.9343 ,18.5926,18.3649,18.1376,17.9106,17.684 ,17.4534,17.2221,16.9911,16.7605, 16.5304,16.2975,16.0627,15.8283,15.5943 ,15.3607,15.1232,14.8851,14.6473, 14.4101,14.0495,13.808,13.5668,13.3267, 13.0818,12.7149,12.4708,12.0998,11.8515 ,11.604,11.2282,10.9767,10.7255,10.4708 ,10.2155,10.0882,10.0384,10.0336, 10.0321,10.03,10.0278,10.0277,10.0289, 10.2843,10.6684,11.0461,11.2984,11.5494 ,11.7972,12.0455,12.4179,12.6623, 12.9071,13.1524,13.3963,13.6374,13.8789 ,14.1209,14.3619,14.5995,14.8375, 15.0759,15.3147,15.5487,15.783,16.0176, 16.2527,16.487,16.7176,16.9483,17.1795, 17.4111,17.6431,17.8699,18.0972,18.3248 ,18.5526,18.7809,19.0075,19.4547, 20.0154,20.4636,20.9037,21.3447,21.6763 ,21.7871,21.7916)
FOOTPRINT_POINT_LONGITUDE = (201.524,201.107,200.861,200.617, 200.373,199.903,199.888,199.877,199.866 ,199.861,199.854,199.843,199.835, 199.826,199.819,199.815,199.81,199.805, 199.8,199.795,199.789,199.784,199.778, 199.773,199.767,199.761,199.755,199.749 ,199.743,199.737,199.73,199.724,199.717 ,199.707,199.7,199.693,199.686,199.678, 199.667,199.659,199.648,199.64,199.632, 199.619,199.611,199.602,199.593,199.585 ,199.58,199.578,200.171,200.441,200.767 ,201.496,201.515,201.521,201.521, 201.521,201.521,201.521,201.521,201.521 ,201.521,201.521,201.521,201.521, 201.521,201.522,201.522,201.522,201.523 ,201.523,201.523,201.524,201.524, 201.525,201.525,201.526,201.526,201.527 ,201.527,201.528,201.528,201.529,201.53 ,201.53,201.531,201.532,201.532,201.533 ,201.534,201.535,201.536,201.539,201.54 ,201.542,201.544,201.545,201.546, 201.524)
ORBIT_NUMBER = 26245
ORBITAL_ECCENTRICITY = 0.57
ORBITAL_INCLINATION = 87.11
ORBITAL_SEMIMAJOR_AXIS = 8817.33
PERIAPSIS_ALTITUDE = 398.41
PERIAPSIS_ARGUMENT_ANGLE = 146.5
PERIAPSIS_TIME = 2024-10-16T06:41:01.000Z
SPACECRAFT_ORIENTATION = (0.0,-1.0,0.0)
^MEX_ORIENTATION_DESC = "MEX_ORIENTATION_DESC.TXT"
SPACECRAFT_POINTING_MODE = ACROSSTRACK
^MEX_POINTING_DESC = "MEX_POINTING_DESC.TXT"
RIGHT_ASCENSION = -1e+32
DECLINATION = -1e+32
OFFSET_ANGLE = 0.35
SPACECRAFT_SOLAR_DISTANCE = 2.27801e+08
TARGET_NAME = MARS
/* CAMERA DATA ELEMENTS */
DETECTOR_TEMPERATURE = 19.39
FOCAL_PLANE_TEMPERATURE = 10.2145
INST_CMPRS_NAME = "DISCRETE COSINE TRANSFORMATION (DCT)"
INST_CMPRS_RATIO = 16.457
INST_CMPRS_QUALITY = 0
INST_CMPRS_QUANTZ_TBL_ID = 0
INSTRUMENT_TEMPERATURE = 11.234
LENS_TEMPERATURE = 10.2145
MACROPIXEL_SIZE = 4
MISSING_FRAMES = 0
PIXEL_SUBSAMPLING_FLAG = N
SIGNAL_CHAIN_ID = 2
/* RADIOMETRIC DATA ELEMENTS */
BANDWIDTH = 48.0
CENTER_FILTER_WAVELENGTH = 748.0
RADIANCE_OFFSET = 1.373
RADIANCE_SCALING_FACTOR = 0.00360697
REFLECTANCE_SCALING_FACTOR = 0.000427151
MEX:REFLECTANCE_OFFSET = 0.162596
/* IMAGE OBJECT DEFINITIONS */
OBJECT = IMAGE
  INTERCHANGE_FORMAT = BINARY
  LINES = 13993
  LINE_SAMPLES = 2219
  SAMPLE_TYPE = UNSIGNED_INTEGER
  SAMPLE_BITS = 8
  BANDS = 1
  BAND_STORAGE_TYPE = BAND_SEQUENTIAL
  MAXIMUM = 255
  MEAN = 133.46
  MINIMUM = 1
  STANDARD_DEVIATION = 32.3148
END_OBJECT = IMAGE
/* MAP OBJECT DEFINITIONS */
OBJECT = IMAGE_MAP_PROJECTION
  ^DATA_SET_MAP_PROJECTION_CATALOG= "DSMAP.CAT"
  A_AXIS_RADIUS = 3396.0
  B_AXIS_RADIUS = 3396.0
  C_AXIS_RADIUS = 3396.0
  CENTER_LATITUDE = 0.0
  CENTER_LONGITUDE = 201.0
  COORDINATE_SYSTEM_NAME = PLANETOGRAPHIC
  COORDINATE_SYSTEM_TYPE = "BODY-FIXED ROTATING"
  EASTERNMOST_LONGITUDE = 201.546
  FIRST_STANDARD_PARALLEL = "N/A"
  LINE_FIRST_PIXEL = 1
  LINE_LAST_PIXEL = 13993
  LINE_PROJECTION_OFFSET = 25829.125
  MAP_PROJECTION_ROTATION = 0.0
  MAP_PROJECTION_TYPE = SINUSOIDAL
  MAP_RESOLUTION = 1185.42760773333
  MAP_SCALE = 0.05
  MAXIMUM_LATITUDE = 21.8209
  MINIMUM_LATITUDE = 10.0277
  POSITIVE_LONGITUDE_DIRECTION = EAST
  REFERENCE_LATITUDE = "N/A"
  REFERENCE_LONGITUDE = "N/A"
  SAMPLE_FIRST_PIXEL = 1
  SAMPLE_LAST_PIXEL = 2219
  SAMPLE_PROJECTION_OFFSET = 1617.375
  SECOND_STANDARD_PARALLEL = "N/A"
  WESTERNMOST_LONGITUDE = 199.578
END_OBJECT = IMAGE_MAP_PROJECTION
END
