PDS_VERSION_ID = PDS3
/* FILE DATA ELEMENTS */
RECORD_TYPE = UNDEFINED
/* POINTERS TO DATA OBJECTS */
^IMAGE = ("HQ259_0009_BL4.TIF")
/* IDENTIFICATION DATA ELEMENTS */
DATA_SET_ID = "MEX-M-HRSC-4-REFDR-MAPPROJECT-EXT9-V4.0"
DATA_SET_NAME = "MARS EXPRESS HRSC MAP PROJECTED REFDR EXTENSION9 V4.0"
DETECTOR_ID = MEX_HRSC_BLUE
EVENT_TYPE = "MARS-REGIONAL-MAPPING-Vo-Eo"
INSTRUMENT_HOST_ID = MEX
INSTRUMENT_HOST_NAME = "MARS EXPRESS"
INSTRUMENT_ID = HRSC
INSTRUMENT_NAME = "HIGH RESOLUTION STEREO CAMERA"
MISSION_NAME = "MARS EXPRESS"
MISSION_PHASE_NAME = ME_Phase_50
PROCESSING_LEVEL_ID = 4
PRODUCT_CREATION_TIME = 2025-01-29T08:28:47.000Z
PRODUCT_ID = "HQ259_0009_BL4.TIF"
RELEASE_ID = 0020
REVISION_ID = 0000
/* QUALITY DATA ELEMENTS */
DATA_QUALITY_ID = 1
DATA_QUALITY_DESC = "Data calculated based on original SPICE kernels"
/* TIME DATA ELEMENTS */
SPACECRAFT_CLOCK_START_COUNT = "1/0677492674.65158"
SPACECRAFT_CLOCK_STOP_COUNT = "1/0677493017.48540"
START_TIME = 2024-10-20T08:26:12.437Z
STOP_TIME = 2024-10-20T08:30:34.554Z
/* ORBITAL DATA ELEMENTS */
ASCENDING_NODE_LONGITUDE = 88.04
MAXIMUM_RESOLUTION = 0.0646
FOOTPRINT_POINT_LATITUDE = (44.0197,44.0136,44.0034,43.9888, 43.9883,44.0023,43.5007,43.1688,42.8368 ,42.5047,42.1723,41.84,41.5075,41.0085, 40.5093,40.1765,39.6772,39.3442,39.0112 ,38.6782,38.3451,38.012,37.679,37.1794, 36.6798,36.3468,35.8474,35.5144,35.1816 ,34.6825,34.3499,34.0173,33.6848, 33.3524,33.0201,32.6879,32.3559,32.024, 31.6923,31.3607,31.0293,30.6981,30.367, 29.7055,29.0448,28.3849,27.7261,27.5615 ,27.399,27.4001,27.3997,27.3964,27.3963 ,27.3973,27.8922,28.5524,29.2136, 29.5445,29.8756,30.207,30.5385,30.8702, 31.2021,31.5342,31.8664,32.1988,32.5314 ,32.8641,33.197,33.5299,33.8629,34.1961 ,34.5293,34.8627,35.1962,35.5297,36.03, 36.3636,36.6973,37.0311,37.5317,37.8655 ,38.3662,38.7,39.2007,39.5345,39.8682, 40.202,40.5356,40.8692,41.2026,41.536, 42.0361,42.3693,42.7025,43.0355,43.3684 ,43.7011,43.8675,44.0197)
FOOTPRINT_POINT_LONGITUDE = (211.018,210.434,209.776,209.083, 209.064,209.025,209.053,209.071,209.089 ,209.106,209.122,209.138,209.154, 209.176,209.197,209.211,209.23,209.242, 209.254,209.266,209.277,209.288,209.298 ,209.312,209.326,209.334,209.347, 209.354,209.361,209.372,209.378,209.384 ,209.39,209.395,209.4,209.405,209.409, 209.413,209.417,209.421,209.424,209.427 ,209.429,209.433,209.436,209.438, 209.439,209.439,209.439,209.927,210.401 ,211.057,211.072,211.077,211.079, 211.079,211.08,211.08,211.081,211.081, 211.081,211.082,211.082,211.082,211.082 ,211.082,211.082,211.083,211.083, 211.083,211.082,211.082,211.082,211.082 ,211.082,211.082,211.081,211.081,211.08 ,211.08,211.079,211.078,211.077,211.076 ,211.075,211.074,211.073,211.072, 211.071,211.069,211.068,211.066,211.064 ,211.062,211.061,211.059,211.057, 211.055,211.054,211.018)
ORBIT_NUMBER = 26259
ORBITAL_ECCENTRICITY = 0.57
ORBITAL_INCLINATION = 87.12
ORBITAL_SEMIMAJOR_AXIS = 8815.52
PERIAPSIS_ALTITUDE = 399.82
PERIAPSIS_ARGUMENT_ANGLE = 144.1
PERIAPSIS_TIME = 2024-10-20T08:28:14.000Z
SPACECRAFT_ORIENTATION = (0.0,-1.0,0.0)
^MEX_ORIENTATION_DESC = "MEX_ORIENTATION_DESC.TXT"
SPACECRAFT_POINTING_MODE = NADIR
^MEX_POINTING_DESC = "MEX_POINTING_DESC.TXT"
RIGHT_ASCENSION = -1e+32
DECLINATION = -1e+32
OFFSET_ANGLE = -1e+32
SPACECRAFT_SOLAR_DISTANCE = 2.28593e+08
TARGET_NAME = MARS
/* CAMERA DATA ELEMENTS */
DETECTOR_TEMPERATURE = 17.7588
FOCAL_PLANE_TEMPERATURE = 8.7872
INST_CMPRS_NAME = "DISCRETE COSINE TRANSFORMATION (DCT)"
INST_CMPRS_RATIO = 8.87454
INST_CMPRS_QUALITY = 0
INST_CMPRS_QUANTZ_TBL_ID = 0
INSTRUMENT_TEMPERATURE = 12.2535
LENS_TEMPERATURE = 8.7872
MACROPIXEL_SIZE = 4
MISSING_FRAMES = 0
PIXEL_SUBSAMPLING_FLAG = N
SIGNAL_CHAIN_ID = 2
/* RADIOMETRIC DATA ELEMENTS */
BANDWIDTH = 76.0
CENTER_FILTER_WAVELENGTH = 444.0
RADIANCE_OFFSET = 0.53771
RADIANCE_SCALING_FACTOR = 0.00117483
REFLECTANCE_SCALING_FACTOR = 6.30746e-05
MEX:REFLECTANCE_OFFSET = 0.0288688
/* IMAGE OBJECT DEFINITIONS */
OBJECT = IMAGE
  INTERCHANGE_FORMAT = BINARY
  LINES = 19716
  LINE_SAMPLES = 2014
  SAMPLE_TYPE = UNSIGNED_INTEGER
  SAMPLE_BITS = 8
  BANDS = 1
  BAND_STORAGE_TYPE = BAND_SEQUENTIAL
  MAXIMUM = 254
  MEAN = 122.362
  MINIMUM = 1
  STANDARD_DEVIATION = 43.4111
END_OBJECT = IMAGE
/* MAP OBJECT DEFINITIONS */
OBJECT = IMAGE_MAP_PROJECTION
  ^DATA_SET_MAP_PROJECTION_CATALOG= "DSMAP.CAT"
  A_AXIS_RADIUS = 3396.0
  B_AXIS_RADIUS = 3396.0
  C_AXIS_RADIUS = 3396.0
  CENTER_LATITUDE = 0.0
  CENTER_LONGITUDE = 210.0
  COORDINATE_SYSTEM_NAME = PLANETOGRAPHIC
  COORDINATE_SYSTEM_TYPE = "BODY-FIXED ROTATING"
  EASTERNMOST_LONGITUDE = 211.083
  FIRST_STANDARD_PARALLEL = "N/A"
  LINE_FIRST_PIXEL = 1
  LINE_LAST_PIXEL = 19716
  LINE_PROJECTION_OFFSET = 52190.625
  MAP_PROJECTION_ROTATION = 0.0
  MAP_PROJECTION_TYPE = SINUSOIDAL
  MAP_RESOLUTION = 1185.42760773333
  MAP_SCALE = 0.05
  MAXIMUM_LATITUDE = 44.0197
  MINIMUM_LATITUDE = 27.3963
  POSITIVE_LONGITUDE_DIRECTION = EAST
  REFERENCE_LATITUDE = "N/A"
  REFERENCE_LONGITUDE = "N/A"
  SAMPLE_FIRST_PIXEL = 1
  SAMPLE_LAST_PIXEL = 2014
  SAMPLE_PROJECTION_OFFSET = 860.875
  SECOND_STANDARD_PARALLEL = "N/A"
  WESTERNMOST_LONGITUDE = 209.025
END_OBJECT = IMAGE_MAP_PROJECTION
END
