PDS_VERSION_ID = PDS3
/* FILE DATA ELEMENTS */
RECORD_TYPE = UNDEFINED
/* POINTERS TO DATA OBJECTS */
^IMAGE = ("HQ321_0000_GR4.TIF")
/* IDENTIFICATION DATA ELEMENTS */
DATA_SET_ID = "MEX-M-HRSC-4-REFDR-MAPPROJECT-EXT9-V4.0"
DATA_SET_NAME = "MARS EXPRESS HRSC MAP PROJECTED REFDR EXTENSION9 V4.0"
DETECTOR_ID = MEX_HRSC_GREEN
EVENT_TYPE = "MARS-REGIONAL-MAPPING-Te-Im-Mw"
INSTRUMENT_HOST_ID = MEX
INSTRUMENT_HOST_NAME = "MARS EXPRESS"
INSTRUMENT_ID = HRSC
INSTRUMENT_NAME = "HIGH RESOLUTION STEREO CAMERA"
MISSION_NAME = "MARS EXPRESS"
MISSION_PHASE_NAME = ME_Phase_50
PROCESSING_LEVEL_ID = 4
PRODUCT_CREATION_TIME = 2025-01-29T14:56:39.000Z
PRODUCT_ID = "HQ321_0000_GR4.TIF"
RELEASE_ID = 0021
REVISION_ID = 0000
/* QUALITY DATA ELEMENTS */
DATA_QUALITY_ID = 1
DATA_QUALITY_DESC = "Data calculated based on original SPICE kernels"
/* TIME DATA ELEMENTS */
SPACECRAFT_CLOCK_START_COUNT = "1/0679051857.00362"
SPACECRAFT_CLOCK_STOP_COUNT = "1/0679052146.25128"
START_TIME = 2024-11-07T09:32:19.811Z
STOP_TIME = 2024-11-07T09:35:42.670Z
/* ORBITAL DATA ELEMENTS */
ASCENDING_NODE_LONGITUDE = 86.97
MAXIMUM_RESOLUTION = 0.0659
FOOTPRINT_POINT_LATITUDE = (42.4808,42.4673,42.4547,42.4422, 42.4417,42.4263,41.9388,41.4515,41.0861 ,40.5988,40.1119,39.7467,39.26,39.0104, 38.7606,38.511,38.1366,37.887,37.6377, 37.3885,37.1393,36.8904,36.6415,36.3921 ,36.1431,35.8894,35.634,35.379,34.9966, 34.7421,34.4876,34.1061,33.8517,33.4627 ,33.2023,32.8117,32.5519,32.2918, 32.0321,31.7684,31.5025,31.2383,30.9731 ,30.5755,30.3104,29.9052,29.7698, 29.6923,29.697,29.6994,29.701,29.7007, 29.7007,29.7018,29.9733,30.3783,30.6439 ,30.9099,31.176,31.4418,31.7081,31.9731 ,32.2337,32.6241,32.8845,33.1452, 33.4062,33.6673,33.9257,34.1805,34.5635 ,34.8189,35.0742,35.3294,35.585,35.8408 ,36.2222,36.5964,36.8461,37.2207, 37.4704,37.7207,37.9697,38.3456,38.5958 ,38.8461,39.0966,39.3457,39.7114, 39.9556,40.4436,40.6878,40.9321,41.2983 ,41.5427,41.7872,42.0315,42.276,42.3982 ,42.4808)
FOOTPRINT_POINT_LONGITUDE = (357.4,356.561,355.998,355.537,355.519, 355.467,355.49,355.512,355.528,355.548, 355.567,355.58,355.597,355.605,355.613, 355.621,355.633,355.64,355.647,355.654, 355.661,355.668,355.674,355.679,355.684 ,355.69,355.695,355.7,355.707,355.712, 355.716,355.723,355.726,355.732,355.735 ,355.739,355.742,355.744,355.745, 355.744,355.745,355.751,355.753,355.755 ,355.755,355.757,355.757,355.757, 356.258,356.621,357.12,357.582,357.599, 357.605,357.602,357.599,357.596,357.593 ,357.591,357.589,357.586,357.583,357.58 ,357.576,357.574,357.571,357.568, 357.565,357.562,357.559,357.554,357.55, 357.547,357.544,357.541,357.537,357.531 ,357.526,357.522,357.517,357.513, 357.509,357.506,357.499,357.495,357.491 ,357.486,357.481,357.475,357.47,357.461 ,357.456,357.451,357.444,357.439, 357.433,357.428,357.423,357.42,357.4)
ORBIT_NUMBER = 26321
ORBITAL_ECCENTRICITY = 0.569
ORBITAL_INCLINATION = 87.11
ORBITAL_SEMIMAJOR_AXIS = 8798.26
PERIAPSIS_ALTITUDE = 406.83
PERIAPSIS_ARGUMENT_ANGLE = 133.48
PERIAPSIS_TIME = 2024-11-07T09:31:23.000Z
SPACECRAFT_ORIENTATION = (0.0,-1.0,0.0)
^MEX_ORIENTATION_DESC = "MEX_ORIENTATION_DESC.TXT"
SPACECRAFT_POINTING_MODE = ACROSSTRACK
^MEX_POINTING_DESC = "MEX_POINTING_DESC.TXT"
RIGHT_ASCENSION = -1e+32
DECLINATION = -1e+32
OFFSET_ANGLE = -0.31
SPACECRAFT_SOLAR_DISTANCE = 2.32044e+08
TARGET_NAME = MARS
/* CAMERA DATA ELEMENTS */
DETECTOR_TEMPERATURE = 17.5549
FOCAL_PLANE_TEMPERATURE = 8.5833
INST_CMPRS_NAME = "DISCRETE COSINE TRANSFORMATION (DCT)"
INST_CMPRS_RATIO = 8.96448
INST_CMPRS_QUALITY = 0
INST_CMPRS_QUANTZ_TBL_ID = 0
INSTRUMENT_TEMPERATURE = 11.0301
LENS_TEMPERATURE = 10.4184
MACROPIXEL_SIZE = 4
MISSING_FRAMES = 0
PIXEL_SUBSAMPLING_FLAG = N
SIGNAL_CHAIN_ID = 2
/* RADIOMETRIC DATA ELEMENTS */
BANDWIDTH = 88.0
CENTER_FILTER_WAVELENGTH = 538.0
RADIANCE_OFFSET = 1.15202
RADIANCE_SCALING_FACTOR = 0.00608388
REFLECTANCE_SCALING_FACTOR = 0.000282042
MEX:REFLECTANCE_OFFSET = 0.0534064
/* IMAGE OBJECT DEFINITIONS */
OBJECT = IMAGE
  INTERCHANGE_FORMAT = BINARY
  LINES = 15155
  LINE_SAMPLES = 2018
  SAMPLE_TYPE = UNSIGNED_INTEGER
  SAMPLE_BITS = 8
  BANDS = 1
  BAND_STORAGE_TYPE = BAND_SEQUENTIAL
  MAXIMUM = 255
  MEAN = 102.065
  MINIMUM = 1
  STANDARD_DEVIATION = 31.0716
END_OBJECT = IMAGE
/* MAP OBJECT DEFINITIONS */
OBJECT = IMAGE_MAP_PROJECTION
  ^DATA_SET_MAP_PROJECTION_CATALOG= "DSMAP.CAT"
  A_AXIS_RADIUS = 3396.0
  B_AXIS_RADIUS = 3396.0
  C_AXIS_RADIUS = 3396.0
  CENTER_LATITUDE = 0.0
  CENTER_LONGITUDE = 357.0
  COORDINATE_SYSTEM_NAME = PLANETOGRAPHIC
  COORDINATE_SYSTEM_TYPE = "BODY-FIXED ROTATING"
  EASTERNMOST_LONGITUDE = 357.605
  FIRST_STANDARD_PARALLEL = "N/A"
  LINE_FIRST_PIXEL = 1
  LINE_LAST_PIXEL = 15155
  LINE_PROJECTION_OFFSET = 50346.375
  MAP_PROJECTION_ROTATION = 0.0
  MAP_PROJECTION_TYPE = SINUSOIDAL
  MAP_RESOLUTION = 1185.42760773333
  MAP_SCALE = 0.05
  MAXIMUM_LATITUDE = 42.4808
  MINIMUM_LATITUDE = 29.6923
  POSITIVE_LONGITUDE_DIRECTION = EAST
  REFERENCE_LATITUDE = "N/A"
  REFERENCE_LONGITUDE = "N/A"
  SAMPLE_FIRST_PIXEL = 1
  SAMPLE_LAST_PIXEL = 2018
  SAMPLE_PROJECTION_OFFSET = 1371.625
  SECOND_STANDARD_PARALLEL = "N/A"
  WESTERNMOST_LONGITUDE = 355.467
END_OBJECT = IMAGE_MAP_PROJECTION
END
