PDS_VERSION_ID = PDS3
/* FILE DATA ELEMENTS */
RECORD_TYPE = UNDEFINED
/* POINTERS TO DATA OBJECTS */
^IMAGE = ("HQ401_0000_BL4.TIF")
/* IDENTIFICATION DATA ELEMENTS */
DATA_SET_ID = "MEX-M-HRSC-4-REFDR-MAPPROJECT-EXT9-V4.0"
DATA_SET_NAME = "MARS EXPRESS HRSC MAP PROJECTED REFDR EXTENSION9 V4.0"
DETECTOR_ID = MEX_HRSC_BLUE
EVENT_TYPE = "MARS-REGIONAL-MAPPING-Im-Pf-La"
INSTRUMENT_HOST_ID = MEX
INSTRUMENT_HOST_NAME = "MARS EXPRESS"
INSTRUMENT_ID = HRSC
INSTRUMENT_NAME = "HIGH RESOLUTION STEREO CAMERA"
MISSION_NAME = "MARS EXPRESS"
MISSION_PHASE_NAME = ME_Phase_50
PROCESSING_LEVEL_ID = 4
PRODUCT_CREATION_TIME = 2025-01-29T19:26:23.000Z
PRODUCT_ID = "HQ401_0000_BL4.TIF"
RELEASE_ID = 0022
REVISION_ID = 0000
/* QUALITY DATA ELEMENTS */
DATA_QUALITY_ID = 1
DATA_QUALITY_DESC = "Data calculated based on original SPICE kernels"
/* TIME DATA ELEMENTS */
SPACECRAFT_CLOCK_START_COUNT = "1/0681063213.00367"
SPACECRAFT_CLOCK_STOP_COUNT = "1/0681063546.23211"
START_TIME = 2024-11-30T16:15:07.868Z
STOP_TIME = 2024-11-30T16:19:29.222Z
/* ORBITAL DATA ELEMENTS */
ASCENDING_NODE_LONGITUDE = 85.58
MAXIMUM_RESOLUTION = 0.0665
FOOTPRINT_POINT_LATITUDE = (72.629,72.532,72.4037,72.4011,72.4699, 71.8784,71.4933,71.1081,70.7235,70.3386 ,69.9539,69.5743,69.1991,68.824,68.449, 68.0738,67.6987,67.3238,66.7674,66.4021 ,66.0367,65.6714,65.3061,64.9408, 64.5756,64.2103,63.8451,63.4799,63.1146 ,62.7494,62.3841,62.0188,61.6535, 61.2911,60.5796,59.868,59.1563,58.4366, 58.0709,57.7051,57.3393,56.9733,56.6072 ,56.2411,55.6733,55.3069,54.9404, 54.5737,54.2067,54.0233,53.9379,53.9918 ,54.0524,54.0533,54.0547,54.4225, 54.7899,55.1573,55.7085,56.0942,56.4616 ,56.8287,57.3793,57.7464,58.1134, 58.4804,59.2049,59.9195,60.6341,61.3488 ,62.0779,62.445,62.8122,63.1795,63.5468 ,63.9142,64.2817,64.6493,65.017,65.3848 ,65.7526,66.1207,66.4889,66.8572, 67.2269,67.6051,67.9835,68.3622,68.741, 69.1199,69.4991,69.8778,70.2645,70.8495 ,71.2393,71.6298,72.0204,72.4184, 72.6188,72.629)
FOOTPRINT_POINT_LONGITUDE = (103.864,101.432,98.961,98.9158,98.7773 ,99.1272,99.342,99.5471,99.742,99.9288, 100.107,100.276,100.436,100.589,100.736 ,100.877,101.013,101.144,101.328, 101.444,101.555,101.663,101.767,101.867 ,101.963,102.056,102.146,102.233, 102.317,102.399,102.477,102.553,102.627 ,102.697,102.829,102.953,103.07,103.18, 103.234,103.285,103.336,103.385,103.432 ,103.478,103.546,103.588,103.629, 103.669,103.707,103.726,103.735,104.752 ,106.206,106.23,106.237,106.216,106.196 ,106.174,106.141,106.117,106.094,106.07 ,106.034,106.008,105.983,105.956, 105.902,105.847,105.788,105.727,105.66, 105.626,105.59,105.553,105.515,105.476, 105.436,105.395,105.353,105.309,105.263 ,105.217,105.168,105.119,105.067, 105.012,104.955,104.896,104.835,104.771 ,104.706,104.636,104.563,104.449, 104.367,104.283,104.195,104.101,104.052 ,103.864)
ORBIT_NUMBER = 26401
ORBITAL_ECCENTRICITY = 0.568
ORBITAL_INCLINATION = 87.13
ORBITAL_SEMIMAJOR_AXIS = 8782.15
PERIAPSIS_ALTITUDE = 413.6
PERIAPSIS_ARGUMENT_ANGLE = 119.81
PERIAPSIS_TIME = 2024-11-30T16:18:03.000Z
SPACECRAFT_ORIENTATION = (0.0,-1.0,0.0)
^MEX_ORIENTATION_DESC = "MEX_ORIENTATION_DESC.TXT"
SPACECRAFT_POINTING_MODE = INERT
^MEX_POINTING_DESC = "MEX_POINTING_DESC.TXT"
RIGHT_ASCENSION = 130.036
DECLINATION = -26.777
OFFSET_ANGLE = -1e+32
SPACECRAFT_SOLAR_DISTANCE = 2.36257e+08
TARGET_NAME = MARS
/* CAMERA DATA ELEMENTS */
DETECTOR_TEMPERATURE = 17.7588
FOCAL_PLANE_TEMPERATURE = 8.5833
INST_CMPRS_NAME = "DISCRETE COSINE TRANSFORMATION (DCT)"
INST_CMPRS_RATIO = 12.1031
INST_CMPRS_QUALITY = 0
INST_CMPRS_QUANTZ_TBL_ID = 0
INSTRUMENT_TEMPERATURE = 11.0301
LENS_TEMPERATURE = 8.7872
MACROPIXEL_SIZE = 4
MISSING_FRAMES = 2
PIXEL_SUBSAMPLING_FLAG = N
SIGNAL_CHAIN_ID = 2
/* RADIOMETRIC DATA ELEMENTS */
BANDWIDTH = 76.0
CENTER_FILTER_WAVELENGTH = 444.0
RADIANCE_OFFSET = 0.732609
RADIANCE_SCALING_FACTOR = 0.00236135
REFLECTANCE_SCALING_FACTOR = 0.00013542
MEX:REFLECTANCE_OFFSET = 0.042014
/* IMAGE OBJECT DEFINITIONS */
OBJECT = IMAGE
  INTERCHANGE_FORMAT = BINARY
  LINES = 22238
  LINE_SAMPLES = 3438
  SAMPLE_TYPE = UNSIGNED_INTEGER
  SAMPLE_BITS = 8
  BANDS = 1
  BAND_STORAGE_TYPE = BAND_SEQUENTIAL
  MAXIMUM = 255
  MEAN = 147.855
  MINIMUM = 1
  STANDARD_DEVIATION = 64.0248
END_OBJECT = IMAGE
/* MAP OBJECT DEFINITIONS */
OBJECT = IMAGE_MAP_PROJECTION
  ^DATA_SET_MAP_PROJECTION_CATALOG= "DSMAP.CAT"
  A_AXIS_RADIUS = 3396.0
  B_AXIS_RADIUS = 3396.0
  C_AXIS_RADIUS = 3396.0
  CENTER_LATITUDE = 0.0
  CENTER_LONGITUDE = 104.0
  COORDINATE_SYSTEM_NAME = PLANETOGRAPHIC
  COORDINATE_SYSTEM_TYPE = "BODY-FIXED ROTATING"
  EASTERNMOST_LONGITUDE = 106.237
  FIRST_STANDARD_PARALLEL = "N/A"
  LINE_FIRST_PIXEL = 1
  LINE_LAST_PIXEL = 22238
  LINE_PROJECTION_OFFSET = 86162.375
  MAP_PROJECTION_ROTATION = 0.0
  MAP_PROJECTION_TYPE = SINUSOIDAL
  MAP_RESOLUTION = 1185.42760773333
  MAP_SCALE = 0.05
  MAXIMUM_LATITUDE = 72.629
  MINIMUM_LATITUDE = 53.9379
  POSITIVE_LONGITUDE_DIRECTION = EAST
  REFERENCE_LATITUDE = "N/A"
  REFERENCE_LONGITUDE = "N/A"
  SAMPLE_FIRST_PIXEL = 1
  SAMPLE_LAST_PIXEL = 3438
  SAMPLE_PROJECTION_OFFSET = 1856.625
  SECOND_STANDARD_PARALLEL = "N/A"
  WESTERNMOST_LONGITUDE = 98.7773
END_OBJECT = IMAGE_MAP_PROJECTION
END
