PDS_VERSION_ID = PDS3
/* FILE DATA ELEMENTS */
RECORD_TYPE = UNDEFINED
/* POINTERS TO DATA OBJECTS */
^IMAGE = ("HQ401_0000_RE4.TIF")
/* IDENTIFICATION DATA ELEMENTS */
DATA_SET_ID = "MEX-M-HRSC-4-REFDR-MAPPROJECT-EXT9-V4.0"
DATA_SET_NAME = "MARS EXPRESS HRSC MAP PROJECTED REFDR EXTENSION9 V4.0"
DETECTOR_ID = MEX_HRSC_RED
EVENT_TYPE = "MARS-REGIONAL-MAPPING-Im-Pf-La"
INSTRUMENT_HOST_ID = MEX
INSTRUMENT_HOST_NAME = "MARS EXPRESS"
INSTRUMENT_ID = HRSC
INSTRUMENT_NAME = "HIGH RESOLUTION STEREO CAMERA"
MISSION_NAME = "MARS EXPRESS"
MISSION_PHASE_NAME = ME_Phase_50
PROCESSING_LEVEL_ID = 4
PRODUCT_CREATION_TIME = 2025-01-29T19:26:23.000Z
PRODUCT_ID = "HQ401_0000_RE4.TIF"
RELEASE_ID = 0022
REVISION_ID = 0000
/* QUALITY DATA ELEMENTS */
DATA_QUALITY_ID = 1
DATA_QUALITY_DESC = "Data calculated based on original SPICE kernels"
/* TIME DATA ELEMENTS */
SPACECRAFT_CLOCK_START_COUNT = "1/0681063213.00367"
SPACECRAFT_CLOCK_STOP_COUNT = "1/0681063546.23211"
START_TIME = 2024-11-30T16:15:32.782Z
STOP_TIME = 2024-11-30T16:19:51.433Z
/* ORBITAL DATA ELEMENTS */
ASCENDING_NODE_LONGITUDE = 85.58
MAXIMUM_RESOLUTION = 0.0679
FOOTPRINT_POINT_LATITUDE = (72.5622,72.5095,72.4361,72.3179, 72.3151,72.4657,72.0716,71.6775,71.2888 ,70.9058,70.5231,70.1406,69.7587,69.377 ,68.9956,68.6159,68.2449,67.8739, 67.5036,67.1336,66.7638,66.3946,66.0253 ,65.6567,65.2881,64.9198,64.5521, 64.1844,63.8171,63.4501,63.0834,62.3666 ,61.6539,60.9427,60.4093,59.8653, 59.5008,59.1367,58.7726,58.4088,58.0452 ,57.6818,57.3185,56.9462,56.5833, 56.2205,55.4953,54.7707,54.2147,54.0289 ,53.9278,54.0066,54.0539,54.0549, 54.0564,54.4286,54.9845,55.3478,55.8929 ,56.2563,56.6205,56.9845,57.3488, 57.7226,58.0873,58.4521,58.8173,59.1828 ,59.5486,59.9144,60.4632,61.1775, 61.8928,62.6093,63.3325,63.7015,64.071, 64.4409,64.8111,65.1819,65.5528,65.9241 ,66.2962,66.6686,67.0413,67.4146, 67.7881,68.3496,68.7244,69.1055,69.4913 ,69.8763,70.263,70.8456,71.2338,71.6236 ,72.0201,72.4205,72.6209,72.5622)
FOOTPRINT_POINT_LONGITUDE = (103.828,102.546,101.0,98.8807,98.8349, 98.6402,98.8792,99.1069,99.3214,99.5225 ,99.7146,99.8984,100.074,100.242, 100.403,100.556,100.701,100.839,100.972 ,101.1,101.224,101.342,101.456,101.566, 101.671,101.773,101.872,101.966,102.058 ,102.146,102.231,102.39,102.537,102.675 ,102.773,102.868,102.93,102.989,103.046 ,103.102,103.155,103.207,103.258, 103.308,103.355,103.401,103.488,103.57, 103.629,103.649,103.659,105.059,106.066 ,106.089,106.096,106.076,106.046, 106.026,105.995,105.972,105.951,105.928 ,105.905,105.881,105.856,105.831, 105.805,105.779,105.752,105.724,105.682 ,105.623,105.561,105.496,105.427,105.39 ,105.351,105.312,105.271,105.229, 105.186,105.141,105.095,105.047,104.998 ,104.946,104.893,104.81,104.751,104.69, 104.625,104.557,104.487,104.377,104.299 ,104.219,104.133,104.042,103.994, 103.828)
ORBIT_NUMBER = 26401
ORBITAL_ECCENTRICITY = 0.568
ORBITAL_INCLINATION = 87.13
ORBITAL_SEMIMAJOR_AXIS = 8782.15
PERIAPSIS_ALTITUDE = 413.6
PERIAPSIS_ARGUMENT_ANGLE = 119.81
PERIAPSIS_TIME = 2024-11-30T16:18:03.000Z
SPACECRAFT_ORIENTATION = (0.0,-1.0,0.0)
^MEX_ORIENTATION_DESC = "MEX_ORIENTATION_DESC.TXT"
SPACECRAFT_POINTING_MODE = INERT
^MEX_POINTING_DESC = "MEX_POINTING_DESC.TXT"
RIGHT_ASCENSION = 130.036
DECLINATION = -26.777
OFFSET_ANGLE = -1e+32
SPACECRAFT_SOLAR_DISTANCE = 2.36257e+08
TARGET_NAME = MARS
/* CAMERA DATA ELEMENTS */
DETECTOR_TEMPERATURE = 18.3705
FOCAL_PLANE_TEMPERATURE = 8.5833
INST_CMPRS_NAME = "DISCRETE COSINE TRANSFORMATION (DCT)"
INST_CMPRS_RATIO = 21.8614
INST_CMPRS_QUALITY = 0
INST_CMPRS_QUANTZ_TBL_ID = 0
INSTRUMENT_TEMPERATURE = 11.0301
LENS_TEMPERATURE = 8.7872
MACROPIXEL_SIZE = 4
MISSING_FRAMES = 1
PIXEL_SUBSAMPLING_FLAG = N
SIGNAL_CHAIN_ID = 2
/* RADIOMETRIC DATA ELEMENTS */
BANDWIDTH = 48.0
CENTER_FILTER_WAVELENGTH = 748.0
RADIANCE_OFFSET = 1.05624
RADIANCE_SCALING_FACTOR = 0.00399729
REFLECTANCE_SCALING_FACTOR = 0.000509165
MEX:REFLECTANCE_OFFSET = 0.134541
/* IMAGE OBJECT DEFINITIONS */
OBJECT = IMAGE
  INTERCHANGE_FORMAT = BINARY
  LINES = 22238
  LINE_SAMPLES = 3438
  SAMPLE_TYPE = UNSIGNED_INTEGER
  SAMPLE_BITS = 8
  BANDS = 1
  BAND_STORAGE_TYPE = BAND_SEQUENTIAL
  MAXIMUM = 255
  MEAN = 151.529
  MINIMUM = 1
  STANDARD_DEVIATION = 88.22
END_OBJECT = IMAGE
/* MAP OBJECT DEFINITIONS */
OBJECT = IMAGE_MAP_PROJECTION
  ^DATA_SET_MAP_PROJECTION_CATALOG= "DSMAP.CAT"
  A_AXIS_RADIUS = 3396.0
  B_AXIS_RADIUS = 3396.0
  C_AXIS_RADIUS = 3396.0
  CENTER_LATITUDE = 0.0
  CENTER_LONGITUDE = 104.0
  COORDINATE_SYSTEM_NAME = PLANETOGRAPHIC
  COORDINATE_SYSTEM_TYPE = "BODY-FIXED ROTATING"
  EASTERNMOST_LONGITUDE = 106.096
  FIRST_STANDARD_PARALLEL = "N/A"
  LINE_FIRST_PIXEL = 1
  LINE_LAST_PIXEL = 22238
  LINE_PROJECTION_OFFSET = 86162.375
  MAP_PROJECTION_ROTATION = 0.0
  MAP_PROJECTION_TYPE = SINUSOIDAL
  MAP_RESOLUTION = 1185.42760773333
  MAP_SCALE = 0.05
  MAXIMUM_LATITUDE = 72.62090000000001
  MINIMUM_LATITUDE = 53.9278
  POSITIVE_LONGITUDE_DIRECTION = EAST
  REFERENCE_LATITUDE = "N/A"
  REFERENCE_LONGITUDE = "N/A"
  SAMPLE_FIRST_PIXEL = 1
  SAMPLE_LAST_PIXEL = 3438
  SAMPLE_PROJECTION_OFFSET = 1856.625
  SECOND_STANDARD_PARALLEL = "N/A"
  WESTERNMOST_LONGITUDE = 98.64019999999999
END_OBJECT = IMAGE_MAP_PROJECTION
END
