PDS_VERSION_ID = PDS3
/* FILE DATA ELEMENTS */
RECORD_TYPE = UNDEFINED
/* POINTERS TO DATA OBJECTS */
^IMAGE = ("HQ403_0000_P24.TIF")
/* IDENTIFICATION DATA ELEMENTS */
DATA_SET_ID = "MEX-M-HRSC-4-REFDR-MAPPROJECT-EXT9-V4.0"
DATA_SET_NAME = "MARS EXPRESS HRSC MAP PROJECTED REFDR EXTENSION9 V4.0"
DETECTOR_ID = MEX_HRSC_P2
EVENT_TYPE = "MARS-REGIONAL-MAPPING-Te-Im-Pf"
INSTRUMENT_HOST_ID = MEX
INSTRUMENT_HOST_NAME = "MARS EXPRESS"
INSTRUMENT_ID = HRSC
INSTRUMENT_NAME = "HIGH RESOLUTION STEREO CAMERA"
MISSION_NAME = "MARS EXPRESS"
MISSION_PHASE_NAME = ME_Phase_50
PROCESSING_LEVEL_ID = 4
PRODUCT_CREATION_TIME = 2025-01-29T19:26:23.000Z
PRODUCT_ID = "HQ403_0000_P24.TIF"
RELEASE_ID = 0022
REVISION_ID = 0000
/* QUALITY DATA ELEMENTS */
DATA_QUALITY_ID = 1
DATA_QUALITY_DESC = "Data calculated based on original SPICE kernels"
/* TIME DATA ELEMENTS */
SPACECRAFT_CLOCK_START_COUNT = "1/0681113598.65118"
SPACECRAFT_CLOCK_STOP_COUNT = "1/0681113843.29885"
START_TIME = 2024-12-01T06:15:08.715Z
STOP_TIME = 2024-12-01T06:18:02.722Z
/* ORBITAL DATA ELEMENTS */
ASCENDING_NODE_LONGITUDE = 85.55
MAXIMUM_RESOLUTION = 0.0339
FOOTPRINT_POINT_LATITUDE = (66.6761,66.6402,66.5862,66.4957, 66.4935,66.5908,66.2164,65.967,65.7176, 65.4683,65.219,64.9698,64.7207,64.4717, 64.2228,63.974,63.7254,63.4768,63.2284, 62.9801,62.7318,62.4836,62.2355,61.9876 ,61.501,61.0186,60.6568,60.1749,59.928, 59.6807,59.4336,59.1866,58.9394,58.6924 ,58.3218,58.0752,57.7053,57.4587, 57.2122,56.8426,56.5963,56.35,56.1039, 55.7346,55.3656,55.1195,54.8736,54.3819 ,54.259,54.235,54.2659,54.2942,54.3211, 54.3528,54.3538,54.3547,54.7245,55.0947 ,55.3415,55.5882,55.835,56.2057,56.4528 ,56.6999,56.9471,57.1945,57.442,57.6896 ,57.9373,58.3088,58.5568,58.8048,59.053 ,59.4254,59.7983,60.0468,60.4169,60.902 ,61.3872,61.8728,62.1191,62.3688, 62.6186,62.8685,63.1187,63.3689,63.6194 ,63.8697,64.1204,64.3712,64.6221, 64.8733,65.1246,65.502,65.7536,66.0054, 66.2575,66.636,66.7621,66.6761)
FOOTPRINT_POINT_LONGITUDE = (258.855,258.021,256.903,255.286, 255.251,255.042,255.196,255.295,255.393 ,255.487,255.58,255.67,255.758,255.843, 255.927,256.009,256.088,256.166,256.241 ,256.315,256.387,256.458,256.526, 256.593,256.721,256.841,256.929,257.041 ,257.096,257.15,257.203,257.255,257.306 ,257.355,257.428,257.474,257.543, 257.587,257.63,257.693,257.734,257.774, 257.813,257.87,257.925,257.961,257.996, 258.063,258.08,258.083,258.642,259.198, 259.775,260.54,260.564,260.572,260.543, 260.512,260.491,260.47,260.448,260.415, 260.392,260.369,260.345,260.321,260.297 ,260.271,260.246,260.206,260.179, 260.152,260.124,260.08,260.036,260.005, 259.958,259.895,259.829,259.76,259.724, 259.686,259.648,259.609,259.569,259.528 ,259.486,259.443,259.4,259.355,259.309, 259.262,259.214,259.139,259.088,259.036 ,258.982,258.899,258.87,258.855)
ORBIT_NUMBER = 26403
ORBITAL_ECCENTRICITY = 0.568
ORBITAL_INCLINATION = 87.11
ORBITAL_SEMIMAJOR_AXIS = 8779.16
PERIAPSIS_ALTITUDE = 414.05
PERIAPSIS_ARGUMENT_ANGLE = 119.47
PERIAPSIS_TIME = 2024-12-01T06:16:15.000Z
SPACECRAFT_ORIENTATION = (0.0,-1.0,0.0)
^MEX_ORIENTATION_DESC = "MEX_ORIENTATION_DESC.TXT"
SPACECRAFT_POINTING_MODE = INERT
^MEX_POINTING_DESC = "MEX_POINTING_DESC.TXT"
RIGHT_ASCENSION = 136.278
DECLINATION = -23.924
OFFSET_ANGLE = -1e+32
SPACECRAFT_SOLAR_DISTANCE = 2.36357e+08
TARGET_NAME = MARS
/* CAMERA DATA ELEMENTS */
DETECTOR_TEMPERATURE = 18.5744
FOCAL_PLANE_TEMPERATURE = 8.5833
INST_CMPRS_NAME = "DISCRETE COSINE TRANSFORMATION (DCT)"
INST_CMPRS_RATIO = 7.43862
INST_CMPRS_QUALITY = 0
INST_CMPRS_QUANTZ_TBL_ID = 0
INSTRUMENT_TEMPERATURE = 10.8262
LENS_TEMPERATURE = 8.9911
MACROPIXEL_SIZE = 2
MISSING_FRAMES = 0
PIXEL_SUBSAMPLING_FLAG = N
SIGNAL_CHAIN_ID = 3
/* RADIOMETRIC DATA ELEMENTS */
BANDWIDTH = 177.0
CENTER_FILTER_WAVELENGTH = 676.5
RADIANCE_OFFSET = 4.11536
RADIANCE_SCALING_FACTOR = 0.0143455
REFLECTANCE_SCALING_FACTOR = 0.000424922
MEX:REFLECTANCE_OFFSET = 0.1219
/* IMAGE OBJECT DEFINITIONS */
OBJECT = IMAGE
  INTERCHANGE_FORMAT = BINARY
  LINES = 29792
  LINE_SAMPLES = 5902
  SAMPLE_TYPE = UNSIGNED_INTEGER
  SAMPLE_BITS = 8
  BANDS = 1
  BAND_STORAGE_TYPE = BAND_SEQUENTIAL
  MAXIMUM = 255
  MEAN = 115.129
  MINIMUM = 1
  STANDARD_DEVIATION = 58.6314
END_OBJECT = IMAGE
/* MAP OBJECT DEFINITIONS */
OBJECT = IMAGE_MAP_PROJECTION
  ^DATA_SET_MAP_PROJECTION_CATALOG= "DSMAP.CAT"
  A_AXIS_RADIUS = 3396.0
  B_AXIS_RADIUS = 3396.0
  C_AXIS_RADIUS = 3396.0
  CENTER_LATITUDE = 0.0
  CENTER_LONGITUDE = 259.0
  COORDINATE_SYSTEM_NAME = PLANETOGRAPHIC
  COORDINATE_SYSTEM_TYPE = "BODY-FIXED ROTATING"
  EASTERNMOST_LONGITUDE = 260.572
  FIRST_STANDARD_PARALLEL = "N/A"
  LINE_FIRST_PIXEL = 1
  LINE_LAST_PIXEL = 29792
  LINE_PROJECTION_OFFSET = 158370.75
  MAP_PROJECTION_ROTATION = 0.0
  MAP_PROJECTION_TYPE = SINUSOIDAL
  MAP_RESOLUTION = 2370.85521546667
  MAP_SCALE = 0.025
  MAXIMUM_LATITUDE = 66.7621
  MINIMUM_LATITUDE = 54.235
  POSITIVE_LONGITUDE_DIRECTION = EAST
  REFERENCE_LATITUDE = "N/A"
  REFERENCE_LONGITUDE = "N/A"
  SAMPLE_FIRST_PIXEL = 1
  SAMPLE_LAST_PIXEL = 5902
  SAMPLE_PROJECTION_OFFSET = 3573.25
  SECOND_STANDARD_PARALLEL = "N/A"
  WESTERNMOST_LONGITUDE = 255.042
END_OBJECT = IMAGE_MAP_PROJECTION
END
