PDS_VERSION_ID = PDS3
/* FILE DATA ELEMENTS */
RECORD_TYPE = UNDEFINED
/* POINTERS TO DATA OBJECTS */
^IMAGE = ("HQ403_0000_RE4.TIF")
/* IDENTIFICATION DATA ELEMENTS */
DATA_SET_ID = "MEX-M-HRSC-4-REFDR-MAPPROJECT-EXT9-V4.0"
DATA_SET_NAME = "MARS EXPRESS HRSC MAP PROJECTED REFDR EXTENSION9 V4.0"
DETECTOR_ID = MEX_HRSC_RED
EVENT_TYPE = "MARS-REGIONAL-MAPPING-Te-Im-Pf"
INSTRUMENT_HOST_ID = MEX
INSTRUMENT_HOST_NAME = "MARS EXPRESS"
INSTRUMENT_ID = HRSC
INSTRUMENT_NAME = "HIGH RESOLUTION STEREO CAMERA"
MISSION_NAME = "MARS EXPRESS"
MISSION_PHASE_NAME = ME_Phase_50
PROCESSING_LEVEL_ID = 4
PRODUCT_CREATION_TIME = 2025-01-29T19:26:23.000Z
PRODUCT_ID = "HQ403_0000_RE4.TIF"
RELEASE_ID = 0022
REVISION_ID = 0000
/* QUALITY DATA ELEMENTS */
DATA_QUALITY_ID = 1
DATA_QUALITY_DESC = "Data calculated based on original SPICE kernels"
/* TIME DATA ELEMENTS */
SPACECRAFT_CLOCK_START_COUNT = "1/0681113598.65118"
SPACECRAFT_CLOCK_STOP_COUNT = "1/0681113843.29885"
START_TIME = 2024-12-01T06:15:14.816Z
STOP_TIME = 2024-12-01T06:18:08.346Z
/* ORBITAL DATA ELEMENTS */
ASCENDING_NODE_LONGITUDE = 85.55
MAXIMUM_RESOLUTION = 0.0684
FOOTPRINT_POINT_LATITUDE = (66.6531,66.6082,66.5568,66.4792, 66.4772,66.594,66.2192,65.9696,65.5951, 65.3458,65.0965,64.8473,64.5983,64.3493 ,64.1005,63.8518,63.6033,63.355,63.1067 ,62.8586,62.6107,62.3629,61.8779,61.396 ,60.9146,60.4296,60.1828,59.936,59.6893 ,59.4428,59.1964,58.95,58.7037,58.3342, 58.0885,57.8427,57.5971,57.2286,56.8605 ,56.6151,56.2472,56.0022,55.7571, 55.3897,55.1447,54.6554,54.4069,54.2814 ,54.2416,54.272,54.3006,54.3315,54.3527 ,54.3535,54.3549,54.6067,54.8538, 55.3449,55.7134,55.9591,56.3282,56.5743 ,56.8205,57.0667,57.3133,57.5597, 57.8066,58.0537,58.3003,58.5475,58.7947 ,59.0422,59.2896,59.5376,59.7855, 60.0333,60.2816,60.5301,60.7769,61.2613 ,61.8671,62.3522,62.6001,62.9748, 63.2245,63.4747,63.725,63.9754,64.2261, 64.6024,64.8533,65.1047,65.3565,65.6082 ,65.8601,66.1122,66.3646,66.6171, 66.7435,66.6531)
FOOTPRINT_POINT_LONGITUDE = (258.836,257.765,256.689,255.268, 255.234,255.019,255.174,255.274,255.42, 255.514,255.605,255.695,255.782,255.867 ,255.95,256.031,256.11,256.187,256.262, 256.335,256.407,256.476,256.608,256.734 ,256.854,256.97,257.026,257.082,257.137 ,257.19,257.242,257.292,257.342,257.415 ,257.462,257.508,257.552,257.618, 257.681,257.722,257.782,257.82,257.858, 257.913,257.949,258.019,258.053,258.07, 258.075,258.655,259.255,259.967,260.515 ,260.537,260.545,260.525,260.505, 260.464,260.432,260.41,260.377,260.354, 260.331,260.307,260.282,260.258,260.232 ,260.207,260.18,260.153,260.126,260.098 ,260.069,260.04,260.011,259.98,259.949, 259.917,259.885,259.82,259.734,259.663, 259.625,259.566,259.526,259.484,259.442 ,259.399,259.355,259.286,259.239, 259.191,259.142,259.092,259.04,258.987, 258.932,258.877,258.848,258.836)
ORBIT_NUMBER = 26403
ORBITAL_ECCENTRICITY = 0.568
ORBITAL_INCLINATION = 87.11
ORBITAL_SEMIMAJOR_AXIS = 8779.16
PERIAPSIS_ALTITUDE = 414.05
PERIAPSIS_ARGUMENT_ANGLE = 119.47
PERIAPSIS_TIME = 2024-12-01T06:16:15.000Z
SPACECRAFT_ORIENTATION = (0.0,-1.0,0.0)
^MEX_ORIENTATION_DESC = "MEX_ORIENTATION_DESC.TXT"
SPACECRAFT_POINTING_MODE = INERT
^MEX_POINTING_DESC = "MEX_POINTING_DESC.TXT"
RIGHT_ASCENSION = 136.278
DECLINATION = -23.924
OFFSET_ANGLE = -1e+32
SPACECRAFT_SOLAR_DISTANCE = 2.36357e+08
TARGET_NAME = MARS
/* CAMERA DATA ELEMENTS */
DETECTOR_TEMPERATURE = 18.5744
FOCAL_PLANE_TEMPERATURE = 8.5833
INST_CMPRS_NAME = "DISCRETE COSINE TRANSFORMATION (DCT)"
INST_CMPRS_RATIO = 23.5199
INST_CMPRS_QUALITY = 0
INST_CMPRS_QUANTZ_TBL_ID = 0
INSTRUMENT_TEMPERATURE = 10.8262
LENS_TEMPERATURE = 8.9911
MACROPIXEL_SIZE = 4
MISSING_FRAMES = 0
PIXEL_SUBSAMPLING_FLAG = N
SIGNAL_CHAIN_ID = 2
/* RADIOMETRIC DATA ELEMENTS */
BANDWIDTH = 48.0
CENTER_FILTER_WAVELENGTH = 748.0
RADIANCE_OFFSET = 1.08967
RADIANCE_SCALING_FACTOR = 0.00418859
REFLECTANCE_SCALING_FACTOR = 0.00053399
MEX:REFLECTANCE_OFFSET = 0.138918
/* IMAGE OBJECT DEFINITIONS */
OBJECT = IMAGE
  INTERCHANGE_FORMAT = BINARY
  LINES = 14896
  LINE_SAMPLES = 2951
  SAMPLE_TYPE = UNSIGNED_INTEGER
  SAMPLE_BITS = 8
  BANDS = 1
  BAND_STORAGE_TYPE = BAND_SEQUENTIAL
  MAXIMUM = 255
  MEAN = 124.005
  MINIMUM = 1
  STANDARD_DEVIATION = 49.9383
END_OBJECT = IMAGE
/* MAP OBJECT DEFINITIONS */
OBJECT = IMAGE_MAP_PROJECTION
  ^DATA_SET_MAP_PROJECTION_CATALOG= "DSMAP.CAT"
  A_AXIS_RADIUS = 3396.0
  B_AXIS_RADIUS = 3396.0
  C_AXIS_RADIUS = 3396.0
  CENTER_LATITUDE = 0.0
  CENTER_LONGITUDE = 259.0
  COORDINATE_SYSTEM_NAME = PLANETOGRAPHIC
  COORDINATE_SYSTEM_TYPE = "BODY-FIXED ROTATING"
  EASTERNMOST_LONGITUDE = 260.545
  FIRST_STANDARD_PARALLEL = "N/A"
  LINE_FIRST_PIXEL = 1
  LINE_LAST_PIXEL = 14896
  LINE_PROJECTION_OFFSET = 79185.125
  MAP_PROJECTION_ROTATION = 0.0
  MAP_PROJECTION_TYPE = SINUSOIDAL
  MAP_RESOLUTION = 1185.42760773333
  MAP_SCALE = 0.05
  MAXIMUM_LATITUDE = 66.7435
  MINIMUM_LATITUDE = 54.2416
  POSITIVE_LONGITUDE_DIRECTION = EAST
  REFERENCE_LATITUDE = "N/A"
  REFERENCE_LONGITUDE = "N/A"
  SAMPLE_FIRST_PIXEL = 1
  SAMPLE_LAST_PIXEL = 2951
  SAMPLE_PROJECTION_OFFSET = 1786.375
  SECOND_STANDARD_PARALLEL = "N/A"
  WESTERNMOST_LONGITUDE = 255.019
END_OBJECT = IMAGE_MAP_PROJECTION
END
