PDS_VERSION_ID = PDS3
/* FILE DATA ELEMENTS */
RECORD_TYPE = UNDEFINED
/* POINTERS TO DATA OBJECTS */
^IMAGE = ("HQ404_0000_S24.TIF")
/* IDENTIFICATION DATA ELEMENTS */
DATA_SET_ID = "MEX-M-HRSC-4-REFDR-MAPPROJECT-EXT9-V4.0"
DATA_SET_NAME = "MARS EXPRESS HRSC MAP PROJECTED REFDR EXTENSION9 V4.0"
DETECTOR_ID = MEX_HRSC_S2
EVENT_TYPE = "MARS-REGIONAL-MAPPING-Pf-La"
INSTRUMENT_HOST_ID = MEX
INSTRUMENT_HOST_NAME = "MARS EXPRESS"
INSTRUMENT_ID = HRSC
INSTRUMENT_NAME = "HIGH RESOLUTION STEREO CAMERA"
MISSION_NAME = "MARS EXPRESS"
MISSION_PHASE_NAME = ME_Phase_50
PROCESSING_LEVEL_ID = 4
PRODUCT_CREATION_TIME = 2025-01-29T19:26:23.000Z
PRODUCT_ID = "HQ404_0000_S24.TIF"
RELEASE_ID = 0022
REVISION_ID = 0000
/* QUALITY DATA ELEMENTS */
DATA_QUALITY_ID = 1
DATA_QUALITY_DESC = "Data calculated based on original SPICE kernels"
/* TIME DATA ELEMENTS */
SPACECRAFT_CLOCK_START_COUNT = "1/0681138741.00337"
SPACECRAFT_CLOCK_STOP_COUNT = "1/0681138992.50377"
START_TIME = 2024-12-01T13:14:22.824Z
STOP_TIME = 2024-12-01T13:17:23.060Z
/* ORBITAL DATA ELEMENTS */
ASCENDING_NODE_LONGITUDE = 85.53
MAXIMUM_RESOLUTION = 0.035
FOOTPRINT_POINT_LATITUDE = (67.1281,67.0658,67.0152,66.9448, 66.9426,67.0926,66.8319,66.5714,66.3109 ,66.0508,65.6609,65.4011,65.0116, 64.7526,64.4937,64.235,63.9765,63.7185, 63.3315,63.0734,62.8158,62.4297,62.1723 ,61.9153,61.6585,61.402,61.1455,60.8892 ,60.6331,60.3769,60.1213,59.8656, 59.4824,59.2272,58.9722,58.7173,58.4626 ,58.0809,57.8265,57.3183,56.8106, 56.3035,55.9234,55.5439,55.2858,55.0259 ,54.7666,54.3776,54.2481,54.2047, 54.2615,54.3003,54.3277,54.3287,54.3296 ,54.5896,54.8497,55.1098,55.3702,55.63, 56.138,56.6466,57.1558,57.4106,57.6656, 57.9209,58.3036,58.6874,58.9432,59.1994 ,59.4557,59.7121,59.9688,60.2257, 60.4828,60.7399,60.9973,61.2549,61.5127 ,61.7707,62.0288,62.2874,62.5466, 62.8056,63.1944,63.4538,63.7135,63.9734 ,64.2336,64.4943,64.8857,65.2777, 65.5393,65.9326,66.1948,66.4574,66.8521 ,67.1153,67.247,67.1281)
FOOTPRINT_POINT_LONGITUDE = (157.647,156.242,155.238,153.988, 153.952,153.774,153.872,153.968,154.062 ,154.153,154.285,154.37,154.494,154.574 ,154.651,154.727,154.8,154.872,154.976, 155.044,155.109,155.205,155.267,155.327 ,155.386,155.443,155.499,155.554, 155.607,155.66,155.711,155.76,155.833, 155.88,155.925,155.97,156.014,156.077, 156.119,156.198,156.274,156.347,156.399 ,156.45,156.483,156.516,156.548,156.595 ,156.61,156.615,157.646,158.439,159.065 ,159.089,159.097,159.081,159.064, 159.047,159.03,159.012,158.976,158.94, 158.901,158.882,158.861,158.841,158.809 ,158.777,158.755,158.732,158.709, 158.686,158.662,158.637,158.612,158.586 ,158.56,158.534,158.506,158.478,158.45, 158.421,158.391,158.361,158.314,158.282 ,158.249,158.215,158.181,158.145, 158.091,158.034,157.996,157.936,157.894 ,157.852,157.786,157.741,157.718, 157.647)
ORBIT_NUMBER = 26404
ORBITAL_ECCENTRICITY = 0.567
ORBITAL_INCLINATION = 87.12
ORBITAL_SEMIMAJOR_AXIS = 8776.84
PERIAPSIS_ALTITUDE = 415.3
PERIAPSIS_ARGUMENT_ANGLE = 119.33
PERIAPSIS_TIME = 2024-12-01T13:15:20.000Z
SPACECRAFT_ORIENTATION = (0.0,-1.0,0.0)
^MEX_ORIENTATION_DESC = "MEX_ORIENTATION_DESC.TXT"
SPACECRAFT_POINTING_MODE = INERT
^MEX_POINTING_DESC = "MEX_POINTING_DESC.TXT"
RIGHT_ASCENSION = 132.538
DECLINATION = -23.978
OFFSET_ANGLE = -1e+32
SPACECRAFT_SOLAR_DISTANCE = 2.36407e+08
TARGET_NAME = MARS
/* CAMERA DATA ELEMENTS */
DETECTOR_TEMPERATURE = 18.3705
FOCAL_PLANE_TEMPERATURE = 8.7872
INST_CMPRS_NAME = "DISCRETE COSINE TRANSFORMATION (DCT)"
INST_CMPRS_RATIO = 13.0428
INST_CMPRS_QUALITY = 0
INST_CMPRS_QUANTZ_TBL_ID = 0
INSTRUMENT_TEMPERATURE = 11.234
LENS_TEMPERATURE = 9.195
MACROPIXEL_SIZE = 2
MISSING_FRAMES = 0
PIXEL_SUBSAMPLING_FLAG = N
SIGNAL_CHAIN_ID = 1
/* RADIOMETRIC DATA ELEMENTS */
BANDWIDTH = 178.0
CENTER_FILTER_WAVELENGTH = 679.0
RADIANCE_OFFSET = 3.78236
RADIANCE_SCALING_FACTOR = 0.0233087
REFLECTANCE_SCALING_FACTOR = 0.000689872
MEX:REFLECTANCE_OFFSET = 0.111947
/* IMAGE OBJECT DEFINITIONS */
OBJECT = IMAGE
  INTERCHANGE_FORMAT = BINARY
  LINES = 30985
  LINE_SAMPLES = 5924
  SAMPLE_TYPE = UNSIGNED_INTEGER
  SAMPLE_BITS = 8
  BANDS = 1
  BAND_STORAGE_TYPE = BAND_SEQUENTIAL
  MAXIMUM = 255
  MEAN = 105.958
  MINIMUM = 1
  STANDARD_DEVIATION = 70.9867
END_OBJECT = IMAGE
/* MAP OBJECT DEFINITIONS */
OBJECT = IMAGE_MAP_PROJECTION
  ^DATA_SET_MAP_PROJECTION_CATALOG= "DSMAP.CAT"
  A_AXIS_RADIUS = 3396.0
  B_AXIS_RADIUS = 3396.0
  C_AXIS_RADIUS = 3396.0
  CENTER_LATITUDE = 0.0
  CENTER_LONGITUDE = 157.0
  COORDINATE_SYSTEM_NAME = PLANETOGRAPHIC
  COORDINATE_SYSTEM_TYPE = "BODY-FIXED ROTATING"
  EASTERNMOST_LONGITUDE = 159.097
  FIRST_STANDARD_PARALLEL = "N/A"
  LINE_FIRST_PIXEL = 1
  LINE_LAST_PIXEL = 30985
  LINE_PROJECTION_OFFSET = 159433.25
  MAP_PROJECTION_ROTATION = 0.0
  MAP_PROJECTION_TYPE = SINUSOIDAL
  MAP_RESOLUTION = 2370.85521546667
  MAP_SCALE = 0.025
  MAXIMUM_LATITUDE = 67.247
  MINIMUM_LATITUDE = 54.2047
  POSITIVE_LONGITUDE_DIRECTION = EAST
  REFERENCE_LATITUDE = "N/A"
  REFERENCE_LONGITUDE = "N/A"
  SAMPLE_FIRST_PIXEL = 1
  SAMPLE_LAST_PIXEL = 5924
  SAMPLE_PROJECTION_OFFSET = 2779.75
  SECOND_STANDARD_PARALLEL = "N/A"
  WESTERNMOST_LONGITUDE = 153.774
END_OBJECT = IMAGE_MAP_PROJECTION
END
