PDS_VERSION_ID = PDS3
/* FILE DATA ELEMENTS */
RECORD_TYPE = UNDEFINED
/* POINTERS TO DATA OBJECTS */
^IMAGE = ("HQ405_0000_IR4.TIF")
/* IDENTIFICATION DATA ELEMENTS */
DATA_SET_ID = "MEX-M-HRSC-4-REFDR-MAPPROJECT-EXT9-V4.0"
DATA_SET_NAME = "MARS EXPRESS HRSC MAP PROJECTED REFDR EXTENSION9 V4.0"
DETECTOR_ID = MEX_HRSC_IR
EVENT_TYPE = "MARS-REGIONAL-MAPPING-Pf-La"
INSTRUMENT_HOST_ID = MEX
INSTRUMENT_HOST_NAME = "MARS EXPRESS"
INSTRUMENT_ID = HRSC
INSTRUMENT_NAME = "HIGH RESOLUTION STEREO CAMERA"
MISSION_NAME = "MARS EXPRESS"
MISSION_PHASE_NAME = ME_Phase_50
PROCESSING_LEVEL_ID = 4
PRODUCT_CREATION_TIME = 2025-01-29T19:26:23.000Z
PRODUCT_ID = "HQ405_0000_IR4.TIF"
RELEASE_ID = 0022
REVISION_ID = 0000
/* QUALITY DATA ELEMENTS */
DATA_QUALITY_ID = 1
DATA_QUALITY_DESC = "Data calculated based on original SPICE kernels"
/* TIME DATA ELEMENTS */
SPACECRAFT_CLOCK_START_COUNT = "1/0681163755.64182"
SPACECRAFT_CLOCK_STOP_COUNT = "1/0681164082.04867"
START_TIME = 2024-12-01T20:10:14.221Z
STOP_TIME = 2024-12-01T20:14:29.978Z
/* ORBITAL DATA ELEMENTS */
ASCENDING_NODE_LONGITUDE = 85.5
MAXIMUM_RESOLUTION = 0.0712
FOOTPRINT_POINT_LATITUDE = (75.5767,75.4853,75.3797,75.2808, 75.2773,75.223,74.6497,74.2746,73.8987, 73.5221,73.1488,72.7797,72.4101,72.0398 ,71.6717,71.1277,70.7646,70.4007, 69.8576,69.5014,69.1448,68.609,68.2514, 67.7171,67.192,66.8415,66.4907,66.1395, 65.7875,65.4353,65.0824,64.7339,64.0445 ,63.3534,62.4872,61.9662,61.6184, 61.2701,60.9207,60.5713,60.2212,59.871, 59.3444,58.993,58.6407,58.2881,57.9348, 57.5811,57.4041,57.3454,57.4311,57.4849 ,57.4856,57.4871,58.0197,58.5507, 59.0815,59.4352,59.7871,60.3145,60.8413 ,61.1921,61.5424,61.8925,62.2421, 62.5911,62.9399,63.2881,63.6364,64.3315 ,65.0253,65.5565,65.9114,66.2659, 66.6204,66.9741,67.3276,67.6811,68.0341 ,68.3959,68.7572,69.1184,69.4792, 69.8398,70.2001,70.5688,70.9374,71.3061 ,71.674,72.0419,72.4184,72.7946,73.1705 ,73.5462,74.1215,74.5054,74.8889, 75.2788,75.4748,75.5767)
FOOTPRINT_POINT_LONGITUDE = (53.1425,50.9575,48.9131,47.2767, 47.2224,47.0989,47.6393,47.9693,48.2829 ,48.5811,48.8622,49.1268,49.3794, 49.6207,49.8497,50.1697,50.3722,50.5662 ,50.8412,51.0123,51.1769,51.4124, 51.5622,51.7753,51.9733,52.0996,52.2216 ,52.3396,52.4533,52.5633,52.6696,52.771 ,52.9621,53.1413,53.3501,53.4678, 53.5434,53.6166,53.6874,53.7563,53.823, 53.8879,53.9816,54.0418,54.1001,54.1568 ,54.2118,54.2652,54.2913,54.2999, 55.8222,57.0887,57.1153,57.124,57.0766, 57.0278,56.9768,56.9415,56.9064,56.8518 ,56.7949,56.7557,56.7155,56.6741, 56.6318,56.5884,56.5439,56.4983,56.451, 56.3528,56.2487,56.1649,56.1067,56.0466 ,55.9844,55.9207,55.8547,55.7861, 55.7155,55.6404,55.5631,55.4826,55.3992 ,55.3126,55.2229,55.1269,55.0275, 54.9233,54.8158,54.7034,54.5832,54.4573 ,54.3259,54.1878,53.9632,53.8036, 53.6357,53.4553,53.361,53.1425)
ORBIT_NUMBER = 26405
ORBITAL_ECCENTRICITY = 0.568
ORBITAL_INCLINATION = 87.13
ORBITAL_SEMIMAJOR_AXIS = 8780.28
PERIAPSIS_ALTITUDE = 414.34
PERIAPSIS_ARGUMENT_ANGLE = 119.15
PERIAPSIS_TIME = 2024-12-01T20:14:23.000Z
SPACECRAFT_ORIENTATION = (0.0,-1.0,0.0)
^MEX_ORIENTATION_DESC = "MEX_ORIENTATION_DESC.TXT"
SPACECRAFT_POINTING_MODE = INERT
^MEX_POINTING_DESC = "MEX_POINTING_DESC.TXT"
RIGHT_ASCENSION = 132.594
DECLINATION = -30.077
OFFSET_ANGLE = -1e+32
SPACECRAFT_SOLAR_DISTANCE = 2.36457e+08
TARGET_NAME = MARS
/* CAMERA DATA ELEMENTS */
DETECTOR_TEMPERATURE = 17.7588
FOCAL_PLANE_TEMPERATURE = 8.5833
INST_CMPRS_NAME = "DISCRETE COSINE TRANSFORMATION (DCT)"
INST_CMPRS_RATIO = 10.0765
INST_CMPRS_QUALITY = 0
INST_CMPRS_QUANTZ_TBL_ID = 0
INSTRUMENT_TEMPERATURE = 11.0301
LENS_TEMPERATURE = 9.3989
MACROPIXEL_SIZE = 4
MISSING_FRAMES = 0
PIXEL_SUBSAMPLING_FLAG = N
SIGNAL_CHAIN_ID = 2
/* RADIOMETRIC DATA ELEMENTS */
BANDWIDTH = 81.0
CENTER_FILTER_WAVELENGTH = 955.5
RADIANCE_OFFSET = 0.861088
RADIANCE_SCALING_FACTOR = 0.00496185
REFLECTANCE_SCALING_FACTOR = 0.000598515
MEX:REFLECTANCE_OFFSET = 0.103867
/* IMAGE OBJECT DEFINITIONS */
OBJECT = IMAGE
  INTERCHANGE_FORMAT = BINARY
  LINES = 21499
  LINE_SAMPLES = 4014
  SAMPLE_TYPE = UNSIGNED_INTEGER
  SAMPLE_BITS = 8
  BANDS = 1
  BAND_STORAGE_TYPE = BAND_SEQUENTIAL
  MAXIMUM = 255
  MEAN = 145.698
  MINIMUM = 1
  STANDARD_DEVIATION = 60.3453
END_OBJECT = IMAGE
/* MAP OBJECT DEFINITIONS */
OBJECT = IMAGE_MAP_PROJECTION
  ^DATA_SET_MAP_PROJECTION_CATALOG= "DSMAP.CAT"
  A_AXIS_RADIUS = 3396.0
  B_AXIS_RADIUS = 3396.0
  C_AXIS_RADIUS = 3396.0
  CENTER_LATITUDE = 0.0
  CENTER_LONGITUDE = 54.0
  COORDINATE_SYSTEM_NAME = PLANETOGRAPHIC
  COORDINATE_SYSTEM_TYPE = "BODY-FIXED ROTATING"
  EASTERNMOST_LONGITUDE = 57.124
  FIRST_STANDARD_PARALLEL = "N/A"
  LINE_FIRST_PIXEL = 1
  LINE_LAST_PIXEL = 21499
  LINE_PROJECTION_OFFSET = 89496.875
  MAP_PROJECTION_ROTATION = 0.0
  MAP_PROJECTION_TYPE = SINUSOIDAL
  MAP_RESOLUTION = 1185.42760773333
  MAP_SCALE = 0.05
  MAXIMUM_LATITUDE = 75.5767
  MINIMUM_LATITUDE = 57.3454
  POSITIVE_LONGITUDE_DIRECTION = EAST
  REFERENCE_LATITUDE = "N/A"
  REFERENCE_LONGITUDE = "N/A"
  SAMPLE_FIRST_PIXEL = 1
  SAMPLE_LAST_PIXEL = 4014
  SAMPLE_PROJECTION_OFFSET = 2130.875
  SECOND_STANDARD_PARALLEL = "N/A"
  WESTERNMOST_LONGITUDE = 47.0989
END_OBJECT = IMAGE_MAP_PROJECTION
END
