PDS_VERSION_ID = PDS3
/* FILE DATA ELEMENTS */
RECORD_TYPE = UNDEFINED
/* POINTERS TO DATA OBJECTS */
^IMAGE = ("HQ405_0000_ND4.TIF")
/* IDENTIFICATION DATA ELEMENTS */
DATA_SET_ID = "MEX-M-HRSC-4-REFDR-MAPPROJECT-EXT9-V4.0"
DATA_SET_NAME = "MARS EXPRESS HRSC MAP PROJECTED REFDR EXTENSION9 V4.0"
DETECTOR_ID = MEX_HRSC_NADIR
EVENT_TYPE = "MARS-REGIONAL-MAPPING-Pf-La"
INSTRUMENT_HOST_ID = MEX
INSTRUMENT_HOST_NAME = "MARS EXPRESS"
INSTRUMENT_ID = HRSC
INSTRUMENT_NAME = "HIGH RESOLUTION STEREO CAMERA"
MISSION_NAME = "MARS EXPRESS"
MISSION_PHASE_NAME = ME_Phase_50
PROCESSING_LEVEL_ID = 4
PRODUCT_CREATION_TIME = 2025-01-29T19:26:23.000Z
PRODUCT_ID = "HQ405_0000_ND4.TIF"
RELEASE_ID = 0022
REVISION_ID = 0000
/* QUALITY DATA ELEMENTS */
DATA_QUALITY_ID = 1
DATA_QUALITY_DESC = "Data calculated based on original SPICE kernels"
/* TIME DATA ELEMENTS */
SPACECRAFT_CLOCK_START_COUNT = "1/0681163755.64182"
SPACECRAFT_CLOCK_STOP_COUNT = "1/0681164082.04867"
START_TIME = 2024-12-01T20:10:45.726Z
STOP_TIME = 2024-12-01T20:14:59.720Z
/* ORBITAL DATA ELEMENTS */
ASCENDING_NODE_LONGITUDE = 85.5
MAXIMUM_RESOLUTION = 0.0167
FOOTPRINT_POINT_LATITUDE = (75.4688,75.386,75.2842,75.1696,75.1659 ,75.2075,74.8286,74.4493,74.0696, 73.6942,73.3228,72.9512,72.5792,72.2069 ,71.8402,71.4765,71.1127,70.7486, 70.3844,70.02,69.6613,69.3057,68.9499, 68.594,68.2379,67.8816,67.5253,66.9904, 66.6421,65.9466,65.4246,64.7282,64.2055 ,63.6825,62.9847,62.1117,61.5875, 60.8879,60.5378,60.1876,59.8373,59.4868 ,59.1361,58.7851,58.434,57.9071,57.5556 ,57.3797,57.3526,57.4308,57.488,57.489, 57.4899,58.0188,58.3713,58.7238,59.2524 ,59.6046,59.9566,60.4841,60.8358, 61.1874,61.539,61.8904,62.2418,62.593, 63.1197,63.4708,63.8218,64.3483,64.6992 ,65.4009,65.927,66.2778,66.6285,66.9793 ,67.3346,67.6945,68.0545,68.4144, 68.7744,69.1343,69.4943,69.8543,70.2168 ,70.7708,71.1401,71.5094,71.8789, 72.2485,72.6254,73.0043,73.3833,73.7622 ,74.1413,74.5289,74.9174,75.3058, 75.5001,75.4688)
FOOTPRINT_POINT_LONGITUDE = (53.1296,51.1517,49.1397,47.2119, 47.1539,46.9127,47.2803,47.6287,47.9588 ,48.2685,48.5598,48.8368,49.101,49.3531 ,49.5903,49.8148,50.0298,50.2358, 50.4328,50.6219,50.801,50.9704,51.134, 51.291,51.4423,51.5885,51.7283,51.9291, 52.0542,52.291,52.458,52.6674,52.8157, 52.9568,53.1344,53.3409,53.457,53.6035, 53.6734,53.741,53.8068,53.8704,53.9321, 53.9919,54.0499,54.1337,54.1876,54.2139 ,54.2178,55.6175,56.9143,56.9414, 56.9546,56.91,56.8793,56.8476,56.7981, 56.7643,56.7297,56.6765,56.6396,56.6017 ,56.5627,56.5226,56.4814,56.4392, 56.3735,56.3278,56.2811,56.2081,56.1575 ,56.0521,55.9684,55.9104,55.8502, 55.7888,55.7239,55.6557,55.5853,55.5124 ,55.4369,55.3585,55.277,55.1926,55.1042 ,54.9621,54.8623,54.7583,54.6501, 54.5372,54.4168,54.2899,54.1568,54.0171 ,53.8705,53.7128,53.5463,53.3703, 53.2788,53.1296)
ORBIT_NUMBER = 26405
ORBITAL_ECCENTRICITY = 0.568
ORBITAL_INCLINATION = 87.13
ORBITAL_SEMIMAJOR_AXIS = 8780.28
PERIAPSIS_ALTITUDE = 414.34
PERIAPSIS_ARGUMENT_ANGLE = 119.15
PERIAPSIS_TIME = 2024-12-01T20:14:23.000Z
SPACECRAFT_ORIENTATION = (0.0,-1.0,0.0)
^MEX_ORIENTATION_DESC = "MEX_ORIENTATION_DESC.TXT"
SPACECRAFT_POINTING_MODE = INERT
^MEX_POINTING_DESC = "MEX_POINTING_DESC.TXT"
RIGHT_ASCENSION = 132.594
DECLINATION = -30.077
OFFSET_ANGLE = -1e+32
SPACECRAFT_SOLAR_DISTANCE = 2.36457e+08
TARGET_NAME = MARS
/* CAMERA DATA ELEMENTS */
DETECTOR_TEMPERATURE = 18.1666
FOCAL_PLANE_TEMPERATURE = 8.5833
INST_CMPRS_NAME = "DISCRETE COSINE TRANSFORMATION (DCT)"
INST_CMPRS_RATIO = 6.97896
INST_CMPRS_QUALITY = 0
INST_CMPRS_QUANTZ_TBL_ID = 0
INSTRUMENT_TEMPERATURE = 11.0301
LENS_TEMPERATURE = 9.3989
MACROPIXEL_SIZE = 1
MISSING_FRAMES = 0
PIXEL_SUBSAMPLING_FLAG = N
SIGNAL_CHAIN_ID = 0
/* RADIOMETRIC DATA ELEMENTS */
BANDWIDTH = 177.0
CENTER_FILTER_WAVELENGTH = 677.5
RADIANCE_OFFSET = 3.28339
RADIANCE_SCALING_FACTOR = 0.0179145
REFLECTANCE_SCALING_FACTOR = 0.000532098
MEX:REFLECTANCE_OFFSET = 0.0975237
/* IMAGE OBJECT DEFINITIONS */
OBJECT = IMAGE
  INTERCHANGE_FORMAT = BINARY
  LINES = 85993
  LINE_SAMPLES = 16054
  SAMPLE_TYPE = UNSIGNED_INTEGER
  SAMPLE_BITS = 8
  BANDS = 1
  BAND_STORAGE_TYPE = BAND_SEQUENTIAL
  MAXIMUM = 254
  MEAN = 145.045
  MINIMUM = 1
  STANDARD_DEVIATION = 60.3233
END_OBJECT = IMAGE
/* MAP OBJECT DEFINITIONS */
OBJECT = IMAGE_MAP_PROJECTION
  ^DATA_SET_MAP_PROJECTION_CATALOG= "DSMAP.CAT"
  A_AXIS_RADIUS = 3396.0
  B_AXIS_RADIUS = 3396.0
  C_AXIS_RADIUS = 3396.0
  CENTER_LATITUDE = 0.0
  CENTER_LONGITUDE = 54.0
  COORDINATE_SYSTEM_NAME = PLANETOGRAPHIC
  COORDINATE_SYSTEM_TYPE = "BODY-FIXED ROTATING"
  EASTERNMOST_LONGITUDE = 56.9546
  FIRST_STANDARD_PARALLEL = "N/A"
  LINE_FIRST_PIXEL = 1
  LINE_LAST_PIXEL = 85993
  LINE_PROJECTION_OFFSET = 357989.0
  MAP_PROJECTION_ROTATION = 0.0
  MAP_PROJECTION_TYPE = SINUSOIDAL
  MAP_RESOLUTION = 4741.71043093333
  MAP_SCALE = 0.0125
  MAXIMUM_LATITUDE = 75.5001
  MINIMUM_LATITUDE = 57.3526
  POSITIVE_LONGITUDE_DIRECTION = EAST
  REFERENCE_LATITUDE = "N/A"
  REFERENCE_LONGITUDE = "N/A"
  SAMPLE_FIRST_PIXEL = 1
  SAMPLE_LAST_PIXEL = 16054
  SAMPLE_PROJECTION_OFFSET = 8525.0
  SECOND_STANDARD_PARALLEL = "N/A"
  WESTERNMOST_LONGITUDE = 46.9127
END_OBJECT = IMAGE_MAP_PROJECTION
END
