PDS_VERSION_ID = PDS3
/* FILE DATA ELEMENTS */
RECORD_TYPE = UNDEFINED
/* POINTERS TO DATA OBJECTS */
^IMAGE = ("HQ405_0000_P14.TIF")
/* IDENTIFICATION DATA ELEMENTS */
DATA_SET_ID = "MEX-M-HRSC-4-REFDR-MAPPROJECT-EXT9-V4.0"
DATA_SET_NAME = "MARS EXPRESS HRSC MAP PROJECTED REFDR EXTENSION9 V4.0"
DETECTOR_ID = MEX_HRSC_P1
EVENT_TYPE = "MARS-REGIONAL-MAPPING-Pf-La"
INSTRUMENT_HOST_ID = MEX
INSTRUMENT_HOST_NAME = "MARS EXPRESS"
INSTRUMENT_ID = HRSC
INSTRUMENT_NAME = "HIGH RESOLUTION STEREO CAMERA"
MISSION_NAME = "MARS EXPRESS"
MISSION_PHASE_NAME = ME_Phase_50
PROCESSING_LEVEL_ID = 4
PRODUCT_CREATION_TIME = 2025-01-29T19:26:23.000Z
PRODUCT_ID = "HQ405_0000_P14.TIF"
RELEASE_ID = 0022
REVISION_ID = 0000
/* QUALITY DATA ELEMENTS */
DATA_QUALITY_ID = 1
DATA_QUALITY_DESC = "Data calculated based on original SPICE kernels"
/* TIME DATA ELEMENTS */
SPACECRAFT_CLOCK_START_COUNT = "1/0681163755.64182"
SPACECRAFT_CLOCK_STOP_COUNT = "1/0681164082.04867"
START_TIME = 2024-12-01T20:10:20.674Z
STOP_TIME = 2024-12-01T20:14:36.468Z
/* ORBITAL DATA ELEMENTS */
ASCENDING_NODE_LONGITUDE = 85.5
MAXIMUM_RESOLUTION = 0.035
FOOTPRINT_POINT_LATITUDE = (75.5524,75.4591,75.3801,75.255,75.2514 ,75.2164,74.6468,74.2676,73.6986, 73.3267,72.9541,72.581,72.2074,71.8422, 71.4765,71.1103,70.7437,70.3776,70.019, 69.6601,69.3006,68.9409,68.5806,68.221, 67.693,67.3405,66.9875,66.6343,66.2807, 65.9267,65.5724,64.8744,64.3548,64.0031 ,63.3081,62.4373,61.9137,61.5642, 61.2143,60.8634,60.5126,60.1613,59.8097 ,59.4577,59.1053,58.7521,58.3986, 58.0447,57.5131,57.3354,57.3319,57.3997 ,57.4714,57.4723,57.4732,57.8284,58.184 ,58.5389,59.0712,59.426,59.7791,60.3086 ,60.8375,61.1896,61.5415,61.893,62.2442 ,62.595,63.2957,63.9954,64.6986,65.3958 ,65.9285,66.2854,66.6423,66.9985, 67.3547,67.7108,68.0665,68.422,68.7852, 69.1493,69.5132,69.8768,70.2402,70.6035 ,70.9744,71.3464,71.7179,72.0892, 72.4602,72.8401,73.2198,73.5994,73.9787 ,74.5598,74.9475,75.3351,75.531, 75.5524)
FOOTPRINT_POINT_LONGITUDE = (53.1455,50.9247,49.366,47.2578,47.2012 ,47.0515,47.5905,47.9253,48.3955, 48.6837,48.9581,49.2199,49.4698,49.7029 ,49.9261,50.1396,50.3444,50.54,50.7237, 50.9003,51.0698,51.233,51.3899,51.5406, 51.7516,51.886,52.0156,52.1408,52.2616, 52.3783,52.4911,52.7015,52.8494,52.9451 ,53.1253,53.3352,53.4534,53.5292, 53.6027,53.6737,53.7428,53.8098,53.8748 ,53.9379,53.9991,54.0584,54.1159, 54.1718,54.2526,54.2786,54.2791,55.4458 ,57.054,57.0814,57.0912,57.0606,57.0287 ,56.9963,56.9457,56.9106,56.8756, 56.8212,56.7646,56.7256,56.6856,56.6445 ,56.6022,56.559,56.4689,56.3733,56.2713 ,56.1644,56.0781,56.0179,55.9555, 55.8917,55.8254,55.7565,55.6856,55.612, 55.5345,55.4536,55.3697,55.2825,55.1922 ,55.0979,54.998,54.893,54.7845,54.6711, 54.5529,54.4257,54.2929,54.1532,54.007, 53.7679,53.5979,53.4184,53.3238, 53.1455)
ORBIT_NUMBER = 26405
ORBITAL_ECCENTRICITY = 0.568
ORBITAL_INCLINATION = 87.13
ORBITAL_SEMIMAJOR_AXIS = 8780.28
PERIAPSIS_ALTITUDE = 414.34
PERIAPSIS_ARGUMENT_ANGLE = 119.15
PERIAPSIS_TIME = 2024-12-01T20:14:23.000Z
SPACECRAFT_ORIENTATION = (0.0,-1.0,0.0)
^MEX_ORIENTATION_DESC = "MEX_ORIENTATION_DESC.TXT"
SPACECRAFT_POINTING_MODE = INERT
^MEX_POINTING_DESC = "MEX_POINTING_DESC.TXT"
RIGHT_ASCENSION = 132.594
DECLINATION = -30.077
OFFSET_ANGLE = -1e+32
SPACECRAFT_SOLAR_DISTANCE = 2.36457e+08
TARGET_NAME = MARS
/* CAMERA DATA ELEMENTS */
DETECTOR_TEMPERATURE = 17.7588
FOCAL_PLANE_TEMPERATURE = 8.5833
INST_CMPRS_NAME = "DISCRETE COSINE TRANSFORMATION (DCT)"
INST_CMPRS_RATIO = 11.1075
INST_CMPRS_QUALITY = 0
INST_CMPRS_QUANTZ_TBL_ID = 0
INSTRUMENT_TEMPERATURE = 11.0301
LENS_TEMPERATURE = 9.3989
MACROPIXEL_SIZE = 2
MISSING_FRAMES = 1
PIXEL_SUBSAMPLING_FLAG = N
SIGNAL_CHAIN_ID = 3
/* RADIOMETRIC DATA ELEMENTS */
BANDWIDTH = 174.0
CENTER_FILTER_WAVELENGTH = 675.0
RADIANCE_OFFSET = 3.79538
RADIANCE_SCALING_FACTOR = 0.0173645
REFLECTANCE_SCALING_FACTOR = 0.000522217
MEX:REFLECTANCE_OFFSET = 0.114142
/* IMAGE OBJECT DEFINITIONS */
OBJECT = IMAGE
  INTERCHANGE_FORMAT = BINARY
  LINES = 42997
  LINE_SAMPLES = 8027
  SAMPLE_TYPE = UNSIGNED_INTEGER
  SAMPLE_BITS = 8
  BANDS = 1
  BAND_STORAGE_TYPE = BAND_SEQUENTIAL
  MAXIMUM = 255
  MEAN = 144.988
  MINIMUM = 1
  STANDARD_DEVIATION = 63.4708
END_OBJECT = IMAGE
/* MAP OBJECT DEFINITIONS */
OBJECT = IMAGE_MAP_PROJECTION
  ^DATA_SET_MAP_PROJECTION_CATALOG= "DSMAP.CAT"
  A_AXIS_RADIUS = 3396.0
  B_AXIS_RADIUS = 3396.0
  C_AXIS_RADIUS = 3396.0
  CENTER_LATITUDE = 0.0
  CENTER_LONGITUDE = 54.0
  COORDINATE_SYSTEM_NAME = PLANETOGRAPHIC
  COORDINATE_SYSTEM_TYPE = "BODY-FIXED ROTATING"
  EASTERNMOST_LONGITUDE = 57.0912
  FIRST_STANDARD_PARALLEL = "N/A"
  LINE_FIRST_PIXEL = 1
  LINE_LAST_PIXEL = 42997
  LINE_PROJECTION_OFFSET = 178994.25
  MAP_PROJECTION_ROTATION = 0.0
  MAP_PROJECTION_TYPE = SINUSOIDAL
  MAP_RESOLUTION = 2370.85521546667
  MAP_SCALE = 0.025
  MAXIMUM_LATITUDE = 75.55240000000001
  MINIMUM_LATITUDE = 57.3319
  POSITIVE_LONGITUDE_DIRECTION = EAST
  REFERENCE_LATITUDE = "N/A"
  REFERENCE_LONGITUDE = "N/A"
  SAMPLE_FIRST_PIXEL = 1
  SAMPLE_LAST_PIXEL = 8027
  SAMPLE_PROJECTION_OFFSET = 4262.25
  SECOND_STANDARD_PARALLEL = "N/A"
  WESTERNMOST_LONGITUDE = 47.0515
END_OBJECT = IMAGE_MAP_PROJECTION
END
