PDS_VERSION_ID = PDS3
/* FILE DATA ELEMENTS */
RECORD_TYPE = UNDEFINED
/* POINTERS TO DATA OBJECTS */
^IMAGE = ("HQ406_0000_P24.TIF")
/* IDENTIFICATION DATA ELEMENTS */
DATA_SET_ID = "MEX-M-HRSC-4-REFDR-MAPPROJECT-EXT9-V4.0"
DATA_SET_NAME = "MARS EXPRESS HRSC MAP PROJECTED REFDR EXTENSION9 V4.0"
DETECTOR_ID = MEX_HRSC_P2
EVENT_TYPE = "MARS-REGIONAL-MAPPING-Im-Pf-La"
INSTRUMENT_HOST_ID = MEX
INSTRUMENT_HOST_NAME = "MARS EXPRESS"
INSTRUMENT_ID = HRSC
INSTRUMENT_NAME = "HIGH RESOLUTION STEREO CAMERA"
MISSION_NAME = "MARS EXPRESS"
MISSION_PHASE_NAME = ME_Phase_50
PROCESSING_LEVEL_ID = 4
PRODUCT_CREATION_TIME = 2025-01-29T19:26:23.000Z
PRODUCT_ID = "HQ406_0000_P24.TIF"
RELEASE_ID = 0022
REVISION_ID = 0000
/* QUALITY DATA ELEMENTS */
DATA_QUALITY_ID = 1
DATA_QUALITY_DESC = "Data calculated based on original SPICE kernels"
/* TIME DATA ELEMENTS */
SPACECRAFT_CLOCK_START_COUNT = "1/0681189034.65127"
SPACECRAFT_CLOCK_STOP_COUNT = "1/0681189278.47583"
START_TIME = 2024-12-02T03:12:24.717Z
STOP_TIME = 2024-12-02T03:15:17.979Z
/* ORBITAL DATA ELEMENTS */
ASCENDING_NODE_LONGITUDE = 85.5
MAXIMUM_RESOLUTION = 0.0342
FOOTPRINT_POINT_LATITUDE = (67.072,67.0143,66.9608,66.8908,66.8887 ,66.9986,66.7493,66.5001,66.1265, 65.8776,65.5045,65.1316,64.7589,64.3866 ,64.1384,63.8906,63.6427,63.395,63.1473 ,62.7758,62.5285,62.2851,61.6826, 61.2068,60.7217,60.4754,60.2287,59.9824 ,59.7361,59.4898,59.2437,58.9976, 58.7516,58.5057,58.2598,58.014,57.7683, 57.5227,57.2771,57.0317,56.7863,56.5409 ,56.1729,55.9277,55.6826,55.4375, 55.1925,54.825,54.7008,54.6738,54.7157, 54.74,54.7731,54.7995,54.8005,54.8015, 55.1723,55.541,55.7868,56.0326,56.2786, 56.5246,56.7708,57.1401,57.3865,57.633, 58.0029,58.2496,58.4963,58.7432,58.9902 ,59.2372,59.4844,59.7317,60.1028, 60.3503,60.5981,60.9678,61.451,62.0556, 62.2975,62.5398,62.9118,63.1607,63.41, 63.6595,63.9089,64.1586,64.4085,64.7836 ,65.0338,65.2842,65.5348,65.7854,66.162 ,66.413,66.6643,67.0418,67.1676,67.072)
FOOTPRINT_POINT_LONGITUDE = (313.432,312.115,311.052,309.816, 309.781,309.618,309.71,309.8,309.93, 310.015,310.137,310.255,310.368,310.478 ,310.548,310.617,310.684,310.75,310.814 ,310.908,310.968,311.026,311.166, 311.264,311.37,311.42,311.469,311.516, 311.563,311.608,311.653,311.697,311.739 ,311.781,311.822,311.862,311.9,311.939, 311.976,312.012,312.048,312.083,312.134 ,312.167,312.199,312.231,312.262, 312.307,312.322,312.325,313.059,313.525 ,314.212,314.828,314.852,314.861, 314.837,314.812,314.794,314.777,314.759 ,314.741,314.723,314.694,314.675, 314.655,314.626,314.605,314.584,314.563 ,314.541,314.519,314.496,314.473, 314.438,314.414,314.389,314.352,314.301 ,314.235,314.207,314.179,314.135, 314.104,314.073,314.042,314.009,313.976 ,313.942,313.89,313.854,313.817,313.78, 313.741,313.682,313.641,313.599,313.535 ,313.513,313.432)
ORBIT_NUMBER = 26406
ORBITAL_ECCENTRICITY = 0.567
ORBITAL_INCLINATION = 87.13
ORBITAL_SEMIMAJOR_AXIS = 8775.3
PERIAPSIS_ALTITUDE = 414.8
PERIAPSIS_ARGUMENT_ANGLE = 118.99
PERIAPSIS_TIME = 2024-12-02T03:13:29.000Z
SPACECRAFT_ORIENTATION = (0.0,-1.0,0.0)
^MEX_ORIENTATION_DESC = "MEX_ORIENTATION_DESC.TXT"
SPACECRAFT_POINTING_MODE = INERT
^MEX_POINTING_DESC = "MEX_POINTING_DESC.TXT"
RIGHT_ASCENSION = 132.535
DECLINATION = -24.269
OFFSET_ANGLE = -1e+32
SPACECRAFT_SOLAR_DISTANCE = 2.36507e+08
TARGET_NAME = MARS
/* CAMERA DATA ELEMENTS */
DETECTOR_TEMPERATURE = 18.7783
FOCAL_PLANE_TEMPERATURE = 9.6028
INST_CMPRS_NAME = "DISCRETE COSINE TRANSFORMATION (DCT)"
INST_CMPRS_RATIO = 8.57641
INST_CMPRS_QUALITY = 0
INST_CMPRS_QUANTZ_TBL_ID = 0
INSTRUMENT_TEMPERATURE = 11.234
LENS_TEMPERATURE = 10.0106
MACROPIXEL_SIZE = 2
MISSING_FRAMES = 0
PIXEL_SUBSAMPLING_FLAG = N
SIGNAL_CHAIN_ID = 3
/* RADIOMETRIC DATA ELEMENTS */
BANDWIDTH = 177.0
CENTER_FILTER_WAVELENGTH = 676.5
RADIANCE_OFFSET = 3.46884
RADIANCE_SCALING_FACTOR = 0.0205921
REFLECTANCE_SCALING_FACTOR = 0.000610728
MEX:REFLECTANCE_OFFSET = 0.10288
/* IMAGE OBJECT DEFINITIONS */
OBJECT = IMAGE
  INTERCHANGE_FORMAT = BINARY
  LINES = 29592
  LINE_SAMPLES = 5694
  SAMPLE_TYPE = UNSIGNED_INTEGER
  SAMPLE_BITS = 8
  BANDS = 1
  BAND_STORAGE_TYPE = BAND_SEQUENTIAL
  MAXIMUM = 255
  MEAN = 130.357
  MINIMUM = 1
  STANDARD_DEVIATION = 70.2999
END_OBJECT = IMAGE
/* MAP OBJECT DEFINITIONS */
OBJECT = IMAGE_MAP_PROJECTION
  ^DATA_SET_MAP_PROJECTION_CATALOG= "DSMAP.CAT"
  A_AXIS_RADIUS = 3396.0
  B_AXIS_RADIUS = 3396.0
  C_AXIS_RADIUS = 3396.0
  CENTER_LATITUDE = 0.0
  CENTER_LONGITUDE = 313.0
  COORDINATE_SYSTEM_NAME = PLANETOGRAPHIC
  COORDINATE_SYSTEM_TYPE = "BODY-FIXED ROTATING"
  EASTERNMOST_LONGITUDE = 314.861
  FIRST_STANDARD_PARALLEL = "N/A"
  LINE_FIRST_PIXEL = 1
  LINE_LAST_PIXEL = 29592
  LINE_PROJECTION_OFFSET = 159214.75
  MAP_PROJECTION_ROTATION = 0.0
  MAP_PROJECTION_TYPE = SINUSOIDAL
  MAP_RESOLUTION = 2370.85521546667
  MAP_SCALE = 0.025
  MAXIMUM_LATITUDE = 67.16759999999999
  MINIMUM_LATITUDE = 54.6738
  POSITIVE_LONGITUDE_DIRECTION = EAST
  REFERENCE_LATITUDE = "N/A"
  REFERENCE_LONGITUDE = "N/A"
  SAMPLE_FIRST_PIXEL = 1
  SAMPLE_LAST_PIXEL = 5694
  SAMPLE_PROJECTION_OFFSET = 2993.75
  SECOND_STANDARD_PARALLEL = "N/A"
  WESTERNMOST_LONGITUDE = 309.618
END_OBJECT = IMAGE_MAP_PROJECTION
END
