PDS_VERSION_ID = PDS3
/* FILE DATA ELEMENTS */
RECORD_TYPE = UNDEFINED
/* POINTERS TO DATA OBJECTS */
^IMAGE = ("HQ406_0000_S14.TIF")
/* IDENTIFICATION DATA ELEMENTS */
DATA_SET_ID = "MEX-M-HRSC-4-REFDR-MAPPROJECT-EXT9-V4.0"
DATA_SET_NAME = "MARS EXPRESS HRSC MAP PROJECTED REFDR EXTENSION9 V4.0"
DETECTOR_ID = MEX_HRSC_S1
EVENT_TYPE = "MARS-REGIONAL-MAPPING-Im-Pf-La"
INSTRUMENT_HOST_ID = MEX
INSTRUMENT_HOST_NAME = "MARS EXPRESS"
INSTRUMENT_ID = HRSC
INSTRUMENT_NAME = "HIGH RESOLUTION STEREO CAMERA"
MISSION_NAME = "MARS EXPRESS"
MISSION_PHASE_NAME = ME_Phase_50
PROCESSING_LEVEL_ID = 4
PRODUCT_CREATION_TIME = 2025-01-29T19:26:23.000Z
PRODUCT_ID = "HQ406_0000_S14.TIF"
RELEASE_ID = 0022
REVISION_ID = 0000
/* QUALITY DATA ELEMENTS */
DATA_QUALITY_ID = 1
DATA_QUALITY_DESC = "Data calculated based on original SPICE kernels"
/* TIME DATA ELEMENTS */
SPACECRAFT_CLOCK_START_COUNT = "1/0681189034.65127"
SPACECRAFT_CLOCK_STOP_COUNT = "1/0681189278.47583"
START_TIME = 2024-12-02T03:11:27.367Z
STOP_TIME = 2024-12-02T03:14:20.483Z
/* ORBITAL DATA ELEMENTS */
ASCENDING_NODE_LONGITUDE = 85.5
MAXIMUM_RESOLUTION = 0.0352
FOOTPRINT_POINT_LATITUDE = (67.2374,67.1852,67.1209,67.0628, 67.0607,66.9772,66.7296,66.4818,66.2337 ,65.9855,65.7371,65.4885,65.2397, 64.9907,64.7415,64.3696,64.1265,63.8829 ,63.6391,63.3953,63.1513,62.9075, 62.6632,62.2961,62.0515,61.8069,61.4341 ,60.9474,60.5779,60.3318,60.0851, 59.8384,59.5868,59.3399,59.0925,58.8448 ,58.5968,58.3501,57.8666,57.382,56.8963 ,56.4025,56.1525,55.9021,55.5258, 55.2748,55.0229,54.7713,54.6456,54.6396 ,54.6687,54.7082,54.7432,54.7669, 54.7678,54.7688,55.0209,55.399,55.6505, 56.0277,56.4044,56.7805,57.2684,57.7552 ,58.1195,58.4835,58.8554,59.1039, 59.4766,59.7248,59.9773,60.225,60.4724, 60.7197,60.9668,61.2136,61.4604,61.7071 ,61.9535,62.1998,62.4459,62.6918, 62.9376,63.306,63.5514,63.7966,64.0417, 64.2866,64.5314,64.7803,65.0313,65.282, 65.5327,65.7832,66.1588,66.4089,66.784, 67.0337,67.1586,67.2374)
FOOTPRINT_POINT_LONGITUDE = (313.555,312.31,311.039,310.046,310.012 ,309.934,310.022,310.107,310.19,310.271 ,310.351,310.428,310.504,310.577, 310.649,310.754,310.82,310.885,310.948, 311.01,311.071,311.13,311.188,311.272, 311.327,311.381,311.457,311.56,311.632, 311.679,311.725,311.771,311.816,311.859 ,311.901,311.943,311.983,312.023, 312.098,312.17,312.239,312.306,312.34, 312.372,312.419,312.45,312.48,312.509, 312.524,312.525,313.003,313.736,314.496 ,315.106,315.131,315.14,315.121,315.093 ,315.073,315.043,315.013,314.982, 314.941,314.898,314.865,314.831,314.796 ,314.772,314.735,314.709,314.683, 314.657,314.631,314.604,314.577,314.549 ,314.52,314.491,314.462,314.432,314.401 ,314.37,314.339,314.29,314.256,314.222, 314.188,314.152,314.116,314.079,314.04, 314.001,313.96,313.919,313.856,313.812, 313.745,313.699,313.675,313.555)
ORBIT_NUMBER = 26406
ORBITAL_ECCENTRICITY = 0.567
ORBITAL_INCLINATION = 87.13
ORBITAL_SEMIMAJOR_AXIS = 8775.3
PERIAPSIS_ALTITUDE = 414.8
PERIAPSIS_ARGUMENT_ANGLE = 118.99
PERIAPSIS_TIME = 2024-12-02T03:13:29.000Z
SPACECRAFT_ORIENTATION = (0.0,-1.0,0.0)
^MEX_ORIENTATION_DESC = "MEX_ORIENTATION_DESC.TXT"
SPACECRAFT_POINTING_MODE = INERT
^MEX_POINTING_DESC = "MEX_POINTING_DESC.TXT"
RIGHT_ASCENSION = 132.535
DECLINATION = -24.269
OFFSET_ANGLE = -1e+32
SPACECRAFT_SOLAR_DISTANCE = 2.36507e+08
TARGET_NAME = MARS
/* CAMERA DATA ELEMENTS */
DETECTOR_TEMPERATURE = 17.351
FOCAL_PLANE_TEMPERATURE = 9.6028
INST_CMPRS_NAME = "DISCRETE COSINE TRANSFORMATION (DCT)"
INST_CMPRS_RATIO = 13.326
INST_CMPRS_QUALITY = 0
INST_CMPRS_QUANTZ_TBL_ID = 0
INSTRUMENT_TEMPERATURE = 11.234
LENS_TEMPERATURE = 10.0106
MACROPIXEL_SIZE = 2
MISSING_FRAMES = 1
PIXEL_SUBSAMPLING_FLAG = N
SIGNAL_CHAIN_ID = 1
/* RADIOMETRIC DATA ELEMENTS */
BANDWIDTH = 180.0
CENTER_FILTER_WAVELENGTH = 677.0
RADIANCE_OFFSET = 4.15787
RADIANCE_SCALING_FACTOR = 0.0223281
REFLECTANCE_SCALING_FACTOR = 0.000651603
MEX:REFLECTANCE_OFFSET = 0.12134
/* IMAGE OBJECT DEFINITIONS */
OBJECT = IMAGE
  INTERCHANGE_FORMAT = BINARY
  LINES = 29592
  LINE_SAMPLES = 5694
  SAMPLE_TYPE = UNSIGNED_INTEGER
  SAMPLE_BITS = 8
  BANDS = 1
  BAND_STORAGE_TYPE = BAND_SEQUENTIAL
  MAXIMUM = 255
  MEAN = 120.162
  MINIMUM = 1
  STANDARD_DEVIATION = 64.42
END_OBJECT = IMAGE
/* MAP OBJECT DEFINITIONS */
OBJECT = IMAGE_MAP_PROJECTION
  ^DATA_SET_MAP_PROJECTION_CATALOG= "DSMAP.CAT"
  A_AXIS_RADIUS = 3396.0
  B_AXIS_RADIUS = 3396.0
  C_AXIS_RADIUS = 3396.0
  CENTER_LATITUDE = 0.0
  CENTER_LONGITUDE = 313.0
  COORDINATE_SYSTEM_NAME = PLANETOGRAPHIC
  COORDINATE_SYSTEM_TYPE = "BODY-FIXED ROTATING"
  EASTERNMOST_LONGITUDE = 315.14
  FIRST_STANDARD_PARALLEL = "N/A"
  LINE_FIRST_PIXEL = 1
  LINE_LAST_PIXEL = 29592
  LINE_PROJECTION_OFFSET = 159214.75
  MAP_PROJECTION_ROTATION = 0.0
  MAP_PROJECTION_TYPE = SINUSOIDAL
  MAP_RESOLUTION = 2370.85521546667
  MAP_SCALE = 0.025
  MAXIMUM_LATITUDE = 67.23739999999999
  MINIMUM_LATITUDE = 54.6396
  POSITIVE_LONGITUDE_DIRECTION = EAST
  REFERENCE_LATITUDE = "N/A"
  REFERENCE_LONGITUDE = "N/A"
  SAMPLE_FIRST_PIXEL = 1
  SAMPLE_LAST_PIXEL = 5694
  SAMPLE_PROJECTION_OFFSET = 2993.75
  SECOND_STANDARD_PARALLEL = "N/A"
  WESTERNMOST_LONGITUDE = 309.934
END_OBJECT = IMAGE_MAP_PROJECTION
END
